Workbook

Sheet PANEL DE CONTROL DISTRITAL
A1: INSTITUTO NACIONAL ELECTORAL SISTEMA DE GESTIÓN DE LA CALIDAD CIUDAD DE MÉXICO
M2: Fecha de corte dd/mm/aaaa | Q2: Version 0
A4: TABLERO DE CONTROL DISTRITAL DE PROCESOS SUSTANTIVOS DEL SISTEMA DE GESTIÓN DE LA CALIDAD
A5: CAMPAÑA ANUAL PERMANENTE 2024
A6: Número | B6: PROCESOS SUSTANTIVOS E INDICADORES | I6: % AVANCE REGISTRADO | K6: % AVANCE REGISTRADO | M6: % AVANCE REGISTRADO | O6: % AVANCE REGISTRADO | Q6: % AVANCE REGISTRADO | S6: % AVANCE REGISTRADO | U6: % AVANCE REGISTRADO | W6: % AVANCE REGISTRADO | Y6: % AVANCE REGISTRADO | AA6: % AVANCE REGISTRADO | AC6: % AVANCE REGISTRADO | AE6: % AVANCE REGISTRADO | AG6: % AVANCE REGISTRADO | AI6: % AVANCE REGISTRADO | AK6: % AVANCE REGISTRADO | AM6: % AVANCE REGISTRADO | AO6: % AVANCE REGISTRADO | AQ6: % AVANCE REGISTRADO | AS6: % AVANCE REGISTRADO | AU6: % AVANCE REGISTRADO | AW6: % AVANCE REGISTRADO | AY6: % AVANCE REGISTRADO | BB6: % AVANCE REGISTRADO
B7: DESCRIPCIÓN | E7: MEDICIÓN
B8: Proceso | C8: Dueño de Proceso | D8: Indicador | E8: Cálculo | F8: Periodo | G8: Estimado | H8: Nominativo | I8: Distrito 01 | K8: Distrito 02 | M8: Distrito 03 | O8: Distrito 04 | Q8: Distrito 05 | S8: Distrito 06 | U8: Distrito 07 | W8: Distrito 08 | Y8: Distrito 09 | AA8: Distrito 10 | AC8: Distrito 11 | AE8: Distrito 12 | AG8: Distrito 13 | AI8: Distrito 14 | AK8: Distrito 15 | AM8: Distrito 16 | AO8: Distrito 17 | AQ8: Distrito 18 | AS8: Distrito 19 | AU8: Distrito 20 | AW8: Distrito 21 | AY8: Distrito 22 | BB8: Estatal
A9: 1 | B9: ENTREVISTA | C9: Auxiliar de Atención Ciudadana | D9: Efectividad de la entrevista = | E9: (Número de trámites aplicados / (Número de fichas requisitadas - Notificaciones de improcedencia de trámite)) x 100 | F9: Semanal (remesa) | G9: 0.9 | H9: Número de trámites aplicados | I9: =AVERAGE('090151'!AF10:AF11) -> 0.99876142 | K9: =AVERAGE('090251'!AF10:AF11) -> 0.99960393 | M9: =AVERAGE('090351'!AF10:AF11) -> 0.97401309 | O9: =AVERAGE('090451'!AF10:AF11) -> 0.99190086 | Q9: =AVERAGE('090551'!AF10:AF11) -> 0.99969126 | S9: =AVERAGE('090651'!AF10:AF11) -> 0.99535859 | U9: =AVERAGE('090751'!AF10:AF11) -> 0.99229152 | W9: =AVERAGE('090853'!AF10:AF11,'090852'!AF10:AF11) -> 0.98270487 | Y9: =AVERAGE('090951'!AF10:AF11) -> 0.99860763 | AA9: =AVERAGE('091051'!AF10:AF11) -> 1 | AC9: =AVERAGE('091151'!AF10:AF11) -> 1 | AE9: =AVERAGE('091251'!AF10:AF11,'091252'!AF10:AF11,'091253'!AF10:AF11) -> 0.97559461 | AG9: =AVERAGE('091351'!AF10:AF11) -> 1 | AI9: =AVERAGE('091451'!AF10:AF11) -> 0.99773124 | AK9: =AVERAGE('091551'!AF10:AF11,'091552'!AF10:AF11) -> 0.99672174 | AM9: =AVERAGE('091651'!AF10:AF11) -> 1 | AO9: =AVERAGE('091751'!AF10:AF11) -> 0.99285714 | AQ9: =AVERAGE('091851'!AF10:AF11) -> 0.99881033 | AS9: =AVERAGE('091952'!AF10:AF11) -> 0.99521179 | AU9: =AVERAGE('092051'!AF10:AF11) -> 0.99267481 | AW9: =AVERAGE('092151'!AF10:AF11,'092152'!AF10:AF11) -> 1 | AY9: =AVERAGE('092251'!AF10:AF11) -> 0.95106799 | BB9: =AVERAGE(I9,K9,M9,O9,Q9,S9,U9,W9,Y9,AA9,AC9,AE9,AG9,AI9,AK9,AM9,AO9,AQ9,AS9,AU9,AW9,AY9) -> 0.99243649
H10: Número de fichas requisitadas - Notificaciones de improcedencia de trámite
A12: 2 | B12: TRÁMITE | C12: Operador de Equipo Tecnológico | D12: Trámites exitosos efectivos= | E12: (Número de trámites exitosos / Número de trámites aplicados) x 100 | F12: Semanal (remesa) | G12: 0.9 | H12: Número de trámites exitosos | I12: =AVERAGE('090151'!AF13:AF14) -> 0.99906991 | K12: =AVERAGE('090251'!AF13:AF14) -> 0.99849433 | M12: =AVERAGE('090351'!AF13:AF14) -> 0.99949084 | O12: =AVERAGE('090451'!AF13:AF14) -> 0.99901623 | Q12: =AVERAGE('090551'!AF13:AF14) -> 0.99922792 | S12: =AVERAGE('090651'!AF13:AF14) -> 0.99924789 | U12: =AVERAGE('090751'!AF13:AF14) -> 0.99894068 | W12: =AVERAGE('090853'!AF13:AF14,'090852'!AF13:AF14) -> 0.99917003 | Y12: =AVERAGE('090951'!AF13:AF14) -> 0.99916341 | AA12: =AVERAGE('091051'!AF13:AF14) -> 0.99696344 | AC12: =AVERAGE('091151'!AF13:AF14) -> 0.9990309 | AE12: =AVERAGE('091251'!AF13:AF14,'091252'!AF13:AF14,'091253'!AF13:AF14) -> 0.9987494 | AG12: =AVERAGE('091351'!AF13:AF14) -> 0.99930949 | AI12: =AVERAGE('091451'!AF13:AF14) -> 0.99912542 | AK12: =AVERAGE('091551'!AF13:AF14,'091552'!AF13:AF14) -> 0.9983845 | AM12: =AVERAGE('091651'!AF13:AF14) -> 0.99880015 | AO12: =AVERAGE('091751'!AF13:AF14) -> 0.99691675 | AQ12: =AVERAGE('091851'!AF13:AF14) -> 0.99880892 | AS12: =AVERAGE('091952'!AF13:AF14) -> 0.99833457 | AU12: =AVERAGE('092051'!AF13:AF14) -> 0.99060823 | AW12: =AVERAGE('092151'!AF13:AF14,'092152'!AF13:AF14) -> 0.99888246 | AY12: =AVERAGE('092251'!AF13:AF14) -> 0.9991947 | BB12: =AVERAGE(I12,K12,M12,O12,Q12,S12,U12,W12,Y12,AA12,AC12,AE12,AG12,AI12,AK12,AM12,AO12,AQ12,AS12,AU12,AW12,AY12) -> 0.99840592
H13: Número de trámites aplicados
A15: 3 | B15: TRANSFERENCIA | C15: Responsable de Módulo | D15: Transacciones exitosas = | E15: (Número de Archivos de Transacción aceptados /Total de Archivos de Transacción procesados) x100 | F15: Semanal (remesa) | G15: 0.9 | H15: Número de Archivos de Transacción aceptados | I15: =AVERAGE('090151'!AF16:AF17) -> 1 | K15: =AVERAGE('090251'!AF16:AF17) -> 1 | M15: =AVERAGE('090351'!AF16:AF17) -> 0.99989817 | O15: =AVERAGE('090451'!AF16:AF17) -> 0.99626168 | Q15: =AVERAGE('090551'!AF16:AF17) -> 0.99984558 | S15: =AVERAGE('090651'!AF16:AF17) -> 0.99984958 | U15: =AVERAGE('090751'!AF16:AF17) -> 0.9998823 | W15: =AVERAGE('090853'!AF16:AF17,'090852'!AF16:AF17) -> 0.99983623 | Y15: =AVERAGE('090951'!AF16:AF17) -> 1 | AA15: =AVERAGE('091051'!AF16:AF17) -> 1 | AC15: =AVERAGE('091151'!AF16:AF17) -> 1 | AE15: =AVERAGE('091251'!AF16:AF17,'091252'!AF16:AF17,'091253'!AF16:AF17) -> 0.99953681 | AG15: =AVERAGE('091351'!AF16:AF17) -> 1 | AI15: =AVERAGE('091451'!AF16:AF17) -> 1 | AK15: =AVERAGE('091551'!AF16:AF17,'091552'!AF16:AF17) -> 0.99128828 | AM15: =AVERAGE('091651'!AF16:AF17) -> 0.99962505 | AO15: =AVERAGE('091751'!AF16:AF17) -> 0.99970636 | AQ15: =AVERAGE('091851'!AF16:AF17) -> 0.99982985 | AS15: =AVERAGE('091952'!AF16:AF17) -> 0.99981495 | AU15: =AVERAGE('092051'!AF16:AF17) -> 0.99910555 | AW15: =AVERAGE('092151'!AF16:AF17,'092152'!AF16:AF17) -> 0.99983777 | AY15: =AVERAGE('092251'!AF16:AF17) -> 1 | BB15: =AVERAGE(I15,K15,M15,O15,Q15,S15,U15,W15,Y15,AA15,AC15,AE15,AG15,AI15,AK15,AM15,AO15,AQ15,AS15,AU15,AW15,AY15) -> 0.99928719
H16: Total de Archivos de Transacción procesados
A18: 4 | B18: CONCILIACIÓN | C18: Responsable de Módulo | D18: Credenciales disponibles para entrega = | E18: ((Credenciales recibidas - Credenciales inconsistentes) / Credenciales recibidas) x 100 | F18: Semanal (remesa) | G18: 0.9 | H18: Credenciales Recibidas - Credenciales inconsistentes | I18: =AVERAGE('090151'!AF19:AF20) -> 0.99954955 | K18: =AVERAGE('090251'!AF19:AF20) -> 0.99978316 | M18: =AVERAGE('090351'!AF19:AF20) -> 1 | O18: =AVERAGE('090451'!AF19:AF20) -> 1 | Q18: =AVERAGE('090551'!AF19:AF20) -> 1 | S18: =AVERAGE('090651'!AF19:AF20) -> 1 | U18: =AVERAGE('090751'!AF19:AF20) -> 1 | W18: =AVERAGE('090853'!AF19:AF20,'090852'!AF19:AF20) -> 0.99996092 | Y18: =AVERAGE('090951'!AF19:AF20) -> 1 | AA18: =AVERAGE('091051'!AF19:AF20) -> 1 | AC18: =AVERAGE('091151'!AF19:AF20) -> 1 | AE18: =AVERAGE('091251'!AF19:AF20,'091252'!AF19:AF20,'091253'!AF19:AF20) -> 1 | AG18: =AVERAGE('091351'!AF19:AF20) -> 1 | AI18: =AVERAGE('091451'!AF19:AF20) -> 1 | AK18: =AVERAGE('091551'!AF19:AF20,'091552'!AF19:AF20) -> 1 | AM18: =AVERAGE('091651'!AF19:AF20) -> 1 | AO18: =AVERAGE('091751'!AF19:AF20) -> 1 | AQ18: =AVERAGE('091851'!AF19:AF20) -> 1 | AS18: =AVERAGE('091952'!AF19:AF20) -> 1 | AU18: =AVERAGE('092051'!AF19:AF20) -> 1 | AW18: =AVERAGE('092151'!AF19:AF20,'092152'!AF19:AF20) -> 1 | AY18: =AVERAGE('092251'!AF19:AF20) -> 1 | BB18: =AVERAGE(I18,K18,M18,O18,Q18,S18,U18,W18,Y18,AA18,AC18,AE18,AG18,AI18,AK18,AM18,AO18,AQ18,AS18,AU18,AW18,AY18) -> 0.99996789
H19: Credenciales recibidas
A21: 5 | B21: CONCILIACIÓN | C21: Responsable de Módulo | D21: Credenciales disponibles para entrega = | E21: (Credenciales en resguardo / Credenciales totales en SIIRFE disponibles para entrega) x 100 | F21: Semanal (remesa) | G21: 1 | H21: Credenciales en resguardo | I21: =AVERAGE('090151'!AF22:AF23) -> 1.0001644 | K21: =AVERAGE('090251'!AF22:AF23) -> 1 | M21: =AVERAGE('090351'!AF22:AF23) -> 1 | O21: =AVERAGE('090451'!AF22:AF23) -> 1 | Q21: =AVERAGE('090551'!AF22:AF23) -> 1 | S21: =AVERAGE('090651'!AF22:AF23) -> 1 | U21: =AVERAGE('090751'!AF22:AF23) -> 1 | W21: =AVERAGE('090853'!AF22:AF23,'090852'!AF22:AF23) -> 1.0000338 | Y21: =AVERAGE('090951'!AF22:AF23) -> 1 | AA21: =AVERAGE('091051'!AF22:AF23) -> 1 | AC21: =AVERAGE('091151'!AF22:AF23) -> 1 | AE21: =AVERAGE('091251'!AF22:AF23,'091252'!AF22:AF23,'091253'!AF22:AF23) -> 1 | AG21: =AVERAGE('091351'!AF22:AF23) -> 1 | AI21: =AVERAGE('091451'!AF22:AF23) -> 1 | AK21: =AVERAGE('091551'!AF22:AF23,'091552'!AF22:AF23) -> 1 | AM21: =AVERAGE('091651'!AF22:AF23) -> 0.98566954 | AO21: =AVERAGE('091751'!AF22:AF23) -> 1 | AQ21: =AVERAGE('091851'!AF22:AF23) -> 1 | AS21: =AVERAGE('091952'!AF22:AF23) -> 1 | AU21: =AVERAGE('092051'!AF22:AF23) -> 1 | AW21: =AVERAGE('092151'!AF22:AF23,'092152'!AF22:AF23) -> 1 | AY21: =AVERAGE('092251'!AF22:AF23) -> 1 | BB21: =AVERAGE(I21,K21,M21,O21,Q21,S21,U21,W21,Y21,AA21,AC21,AE21,AG21,AI21,AK21,AM21,AO21,AQ21,AS21,AU21,AW21,AY21) -> 0.99935763
H22: Credenciales totales en SIIRFE disponibles para entrega
A24: 6 | B24: ENTREGA | C24: Operador de Equipo Tecnológico | D24: Efectividad de entrega de CPV en MAC = | E24: (Total de credenciales entregadas / Total de credenciales solicitadas) x 100 | F24: Semanal (remesa) | G24: 0.9 | H24: Total de credenciales entregadas | I24: =AVERAGE('090151'!AF25:AF26) -> 1 | K24: =AVERAGE('090251'!AF25:AF26) -> 1 | M24: =AVERAGE('090351'!AF25:AF26) -> 1 | O24: =AVERAGE('090451'!AF25:AF26) -> 1 | Q24: =AVERAGE('090551'!AF25:AF26) -> 1 | S24: =AVERAGE('090651'!AF25:AF26) -> 1 | U24: =AVERAGE('090751'!AF25:AF26) -> 1 | W24: =AVERAGE('090853'!AF25:AF26,'090852'!AF25:AF26) -> 1 | Y24: =AVERAGE('090951'!AF25:AF26) -> 0.99959077 | AA24: =AVERAGE('091051'!AF25:AF26) -> 0.99992482 | AC24: =AVERAGE('091151'!AF25:AF26) -> 0.99992619 | AE24: =AVERAGE('091251'!AF25:AF26,'091252'!AF25:AF26,'091253'!AF25:AF26) -> 1 | AG24: =AVERAGE('091351'!AF25:AF26) -> 1 | AI24: =AVERAGE('091451'!AF25:AF26) -> 1 | AK24: =AVERAGE('091551'!AF25:AF26,'091552'!AF25:AF26) -> 1 | AM24: =AVERAGE('091651'!AF25:AF26) -> 0.99995444 | AO24: =AVERAGE('091751'!AF25:AF26) -> 1 | AQ24: =AVERAGE('091851'!AF25:AF26) -> 0.98821113 | AS24: =AVERAGE('091952'!AF25:AF26) -> 0.99916535 | AU24: =AVERAGE('092051'!AF25:AF26) -> 0.99934002 | AW24: =AVERAGE('092151'!AF25:AF26,'092152'!AF25:AF26) -> 1 | AY24: =AVERAGE('092251'!AF25:AF26) -> 1 | BB24: =AVERAGE(I24,K24,M24,O24,Q24,S24,U24,W24,Y24,AA24,AC24,AE24,AG24,AI24,AK24,AM24,AO24,AQ24,AS24,AU24,AW24,AY24) -> 0.99936876
H25: Total de credenciales solicitadas

Sheet 090151
A1: ='PANEL DE CONTROL DISTRITAL'!A1:Q1 -> INSTITUTO NACIONAL ELECTORAL SISTEMA DE GESTIÓN DE LA CALIDAD CIUDAD DE MÉXICO
D2: Distrito | E2: 1 | F2: Módulo | H2: 90151
A4: TABLERO DE CONTROL DE PROCESOS SUSTANTIVOS DEL SISTEMA DE GESTIÓN DE LA CALIDAD
A6: ='PANEL DE CONTROL DISTRITAL'!A6 -> Número | B6: ='PANEL DE CONTROL DISTRITAL'!B6 -> PROCESOS SUSTANTIVOS E INDICADORES | I6: SEMANA OPERATIVA | AF6: % AVANCE REGISTRADO
B7: ='PANEL DE CONTROL DISTRITAL'!B7 -> DESCRIPCIÓN | E7: ='PANEL DE CONTROL DISTRITAL'!E7 -> MEDICIÓN | I7: ='PANEL DE CONTROL DISTRITAL'!A5 -> CAMPAÑA ANUAL PERMANENTE 2024
B9: ='PANEL DE CONTROL DISTRITAL'!B8 -> Proceso | C9: ='PANEL DE CONTROL DISTRITAL'!C8 -> Dueño de Proceso | D9: ='PANEL DE CONTROL DISTRITAL'!D8 -> Indicador | E9: ='PANEL DE CONTROL DISTRITAL'!E8 -> Cálculo | F9: ='PANEL DE CONTROL DISTRITAL'!F8 -> Periodo | G9: ='PANEL DE CONTROL DISTRITAL'!G8 -> Estimado | H9: ='PANEL DE CONTROL DISTRITAL'!H8 -> Nominativo | I9: 2024-05 | J9: 2024-06 | K9: 2024-07 | L9: 2024-08 | M9: 2024-09 | N9: 2024-10 | O9: 2024-11 | P9: 2024-12 | Q9: 2024-13 | R9: 2024-14 | S9: 2024-15 | T9: 2024-16 | U9: 2024-17 | V9: 2024-18 | W9: 2024-19 | X9: 2024-20 | Y9: 2024-21 | Z9: 2024-22 | AA9: 2024-23 | AB9: 2024-24 | AC9: 2024-25 | AD9: 2024-26 | AE9: 2024-27
A10: ='PANEL DE CONTROL DISTRITAL'!A9 -> 1 | B10: ='PANEL DE CONTROL DISTRITAL'!B9 -> ENTREVISTA | C10: ='PANEL DE CONTROL DISTRITAL'!C9 -> Auxiliar de Atención Ciudadana | D10: ='PANEL DE CONTROL DISTRITAL'!D9 -> Efectividad de la entrevista = | E10: ='PANEL DE CONTROL DISTRITAL'!E9 -> (Número de trámites aplicados / (Número de fichas requisitadas - Notificaciones de improcedencia de trámite)) x 100 | F10: ='PANEL DE CONTROL DISTRITAL'!F9 -> Semanal (remesa) | G10: ='PANEL DE CONTROL DISTRITAL'!G9 -> 0.9 | H10: ='PANEL DE CONTROL DISTRITAL'!H9 -> Número de trámites aplicados | I10: 380 | J10: 594 | K10: 555 | L10: 68 | M10: 369 | N10: 361 | O10: 452 | P10: 379 | Q10: 260 | R10: 56 | S10: 199 | T10: 186 | U10: 272 | V10: 280 | W10: 358 | X10: 330 | Y10: 265 | Z10: 393 | AA10: 497 | AB10: 193 | AC10: 4 | AD10: 0 | AE10: 0 | AF10: =IFERROR(SUM(I10:AE10)/SUM(I11:AE11),0) -> 0.99876142
H11: ='PANEL DE CONTROL DISTRITAL'!H10 -> Número de fichas requisitadas - Notificaciones de improcedencia de trámite | I11: 380 | J11: 594 | K11: 557 | L11: 68 | M11: 369 | N11: 361 | O11: 452 | P11: 379 | Q11: 263 | R11: 56 | S11: 199 | T11: 186 | U11: 272 | V11: 280 | W11: 359 | X11: 330 | Y11: 265 | Z11: 393 | AA11: 497 | AB11: 195 | AC11: 4 | AD11: 0 | AE11: 0
A13: ='PANEL DE CONTROL DISTRITAL'!A12 -> 2 | B13: ='PANEL DE CONTROL DISTRITAL'!B12 -> TRÁMITE | C13: ='PANEL DE CONTROL DISTRITAL'!C12 -> Operador de Equipo Tecnológico | D13: ='PANEL DE CONTROL DISTRITAL'!D12 -> Trámites exitosos efectivos= | E13: ='PANEL DE CONTROL DISTRITAL'!E12 -> (Número de trámites exitosos / Número de trámites aplicados) x 100 | F13: ='PANEL DE CONTROL DISTRITAL'!F12 -> Semanal (remesa) | G13: ='PANEL DE CONTROL DISTRITAL'!G12 -> 0.9 | H13: ='PANEL DE CONTROL DISTRITAL'!H12 -> Número de trámites exitosos | I13: 380 | J13: 594 | K13: 554 | L13: 68 | M13: 368 | N13: 361 | O13: 452 | P13: 379 | Q13: 260 | R13: 56 | S13: 199 | T13: 186 | U13: 272 | V13: 280 | W13: 358 | X13: 330 | Y13: 265 | Z13: 393 | AA13: 497 | AB13: 193 | AC13: 0 | AD13: 0 | AE13: 0 | AF13: =IFERROR(SUM(I13:AE13)/SUM(I14:AE14),0) -> 0.99906991
H14: ='PANEL DE CONTROL DISTRITAL'!H13 -> Número de trámites aplicados | I14: 380 | J14: 594 | K14: 555 | L14: 68 | M14: 369 | N14: 361 | O14: 452 | P14: 379 | Q14: 260 | R14: 56 | S14: 199 | T14: 186 | U14: 272 | V14: 280 | W14: 358 | X14: 330 | Y14: 265 | Z14: 393 | AA14: 497 | AB14: 193 | AC14: 4 | AD14: 0 | AE14: 0
A16: ='PANEL DE CONTROL DISTRITAL'!A15 -> 3 | B16: ='PANEL DE CONTROL DISTRITAL'!B15 -> TRANSFERENCIA | C16: ='PANEL DE CONTROL DISTRITAL'!C15 -> Responsable de Módulo | D16: ='PANEL DE CONTROL DISTRITAL'!D15 -> Transacciones exitosas = | E16: ='PANEL DE CONTROL DISTRITAL'!E15 -> (Número de Archivos de Transacción aceptados /Total de Archivos de Transacción procesados) x100 | F16: ='PANEL DE CONTROL DISTRITAL'!F15 -> Semanal (remesa) | G16: ='PANEL DE CONTROL DISTRITAL'!G15 -> 0.9 | H16: ='PANEL DE CONTROL DISTRITAL'!H15 -> Número de Archivos de Transacción aceptados | I16: 380 | J16: 594 | K16: 555 | L16: 68 | M16: 369 | N16: 361 | O16: 452 | P16: 379 | Q16: 260 | R16: 56 | S16: 199 | T16: 186 | U16: 272 | V16: 280 | W16: 358 | X16: 330 | Y16: 265 | Z16: 393 | AA16: 497 | AB16: 193 | AC16: 4 | AD16: 0 | AE16: 0 | AF16: =IFERROR(SUM(I16:AE16)/SUM(I17:AE17),0) -> 1
H17: ='PANEL DE CONTROL DISTRITAL'!H16 -> Total de Archivos de Transacción procesados | I17: 380 | J17: 594 | K17: 555 | L17: 68 | M17: 369 | N17: 361 | O17: 452 | P17: 379 | Q17: 260 | R17: 56 | S17: 199 | T17: 186 | U17: 272 | V17: 280 | W17: 358 | X17: 330 | Y17: 265 | Z17: 393 | AA17: 497 | AB17: 193 | AC17: 4 | AD17: 0 | AE17: 0
A19: ='PANEL DE CONTROL DISTRITAL'!A18 -> 4 | B19: ='PANEL DE CONTROL DISTRITAL'!B18 -> CONCILIACIÓN | C19: ='PANEL DE CONTROL DISTRITAL'!C18 -> Responsable de Módulo | D19: ='PANEL DE CONTROL DISTRITAL'!D18 -> Credenciales disponibles para entrega = | E19: ='PANEL DE CONTROL DISTRITAL'!E18 -> ((Credenciales recibidas - Credenciales inconsistentes) / Credenciales recibidas) x 100 | F19: ='PANEL DE CONTROL DISTRITAL'!F18 -> Semanal (remesa) | G19: ='PANEL DE CONTROL DISTRITAL'!G18 -> 0.9 | H19: ='PANEL DE CONTROL DISTRITAL'!H18 -> Credenciales Recibidas - Credenciales inconsistentes | I19: 963 | J19: 1848 | K19: 742 | L19: 186 | M19: 469 | N19: 395 | O19: 378 | P19: 408 | Q19: 347 | R19: 57 | S19: 216 | T19: 144 | U19: 314 | V19: 263 | W19: 342 | X19: 334 | Y19: 258 | Z19: 376 | AA19: 418 | AB19: 90 | AC19: 328 | AD19: 0 | AE19: 0 | AF19: =IFERROR(SUM(I19:AE19)/SUM(I20:AE20),0) -> 0.99954955
H20: ='PANEL DE CONTROL DISTRITAL'!H19 -> Credenciales recibidas | I20: 963 | J20: 1848 | K20: 742 | L20: 190 | M20: 469 | N20: 395 | O20: 378 | P20: 408 | Q20: 347 | R20: 57 | S20: 216 | T20: 144 | U20: 314 | V20: 263 | W20: 342 | X20: 334 | Y20: 258 | Z20: 376 | AA20: 418 | AB20: 90 | AC20: 328 | AD20: 0 | AE20: 0
A22: ='PANEL DE CONTROL DISTRITAL'!A21 -> 5 | B22: ='PANEL DE CONTROL DISTRITAL'!B21 -> CONCILIACIÓN | C22: ='PANEL DE CONTROL DISTRITAL'!C21 -> Responsable de Módulo | D22: ='PANEL DE CONTROL DISTRITAL'!D21 -> Credenciales disponibles para entrega = | E22: ='PANEL DE CONTROL DISTRITAL'!E21 -> (Credenciales en resguardo / Credenciales totales en SIIRFE disponibles para entrega) x 100 | F22: ='PANEL DE CONTROL DISTRITAL'!F21 -> Semanal (remesa) | G22: ='PANEL DE CONTROL DISTRITAL'!G21 -> 1 | H22: ='PANEL DE CONTROL DISTRITAL'!H21 -> Credenciales en resguardo | I22: 2326 | J22: 1823 | K22: 1659 | L22: 1470 | M22: 1083 | N22: 939 | O22: 794 | P22: 586 | Q22: 576 | R22: 585 | S22: 559 | T22: 532 | U22: 597 | V22: 606 | W22: 619 | X22: 676 | Y22: 616 | Z22: 589 | AA22: 501 | AB22: 500 | AC22: 366 | AD22: 245 | AE22: 0 | AF22: =IFERROR(SUM(I22:AE22)/SUM(I23:AE23),0) -> 1.0001644
H23: ='PANEL DE CONTROL DISTRITAL'!H22 -> Credenciales totales en SIIRFE disponibles para entrega | I23: 2326 | J23: 1823 | K23: 1656 | L23: 1470 | M23: 1083 | N23: 939 | O23: 794 | P23: 586 | Q23: 576 | R23: 585 | S23: 559 | T23: 532 | U23: 597 | V23: 606 | W23: 619 | X23: 676 | Y23: 616 | Z23: 589 | AA23: 501 | AB23: 500 | AC23: 366 | AD23: 245 | AE23: 0
A25: ='PANEL DE CONTROL DISTRITAL'!A24 -> 6 | B25: ='PANEL DE CONTROL DISTRITAL'!B24 -> ENTREGA | C25: ='PANEL DE CONTROL DISTRITAL'!C24 -> Operador de Equipo Tecnológico | D25: ='PANEL DE CONTROL DISTRITAL'!D24 -> Efectividad de entrega de CPV en MAC = | E25: ='PANEL DE CONTROL DISTRITAL'!E24 -> (Total de credenciales entregadas / Total de credenciales solicitadas) x 100 | F25: ='PANEL DE CONTROL DISTRITAL'!F24 -> Semanal (remesa) | G25: ='PANEL DE CONTROL DISTRITAL'!G24 -> 0.9 | H25: ='PANEL DE CONTROL DISTRITAL'!H24 -> Total de credenciales entregadas | I25: 1057 | J25: 2351 | K25: 902 | L25: 375 | M25: 856 | N25: 539 | O25: 499 | P25: 616 | Q25: 357 | R25: 48 | S25: 242 | T25: 171 | U25: 249 | V25: 254 | W25: 329 | X25: 277 | Y25: 318 | Z25: 403 | AA25: 506 | AB25: 91 | AC25: 462 | AD25: 121 | AE25: 0 | AF25: =IFERROR(SUM(I25:AE25)/SUM(I26:AE26),0) -> 1
H26: ='PANEL DE CONTROL DISTRITAL'!H25 -> Total de credenciales solicitadas | I26: 1057 | J26: 2351 | K26: 902 | L26: 375 | M26: 856 | N26: 539 | O26: 499 | P26: 616 | Q26: 357 | R26: 48 | S26: 242 | T26: 171 | U26: 249 | V26: 254 | W26: 329 | X26: 277 | Y26: 318 | Z26: 403 | AA26: 506 | AB26: 91 | AC26: 462 | AD26: 121 | AE26: 0
B27: *Registre el valor nominal solicitado en la celda, el resultado proporcional esta automatizado.
I29: Semaforización
J30: Valor que requiere atención y justificación en el apartado de observaciones
J31: Valor suficiente
J32: Valor esperado
B34: CUADRO DE OBSERVACIONES
B35: Descripción | H35: No conformidad

Sheet 090251
A1: ='PANEL DE CONTROL DISTRITAL'!A1:Q1 -> INSTITUTO NACIONAL ELECTORAL SISTEMA DE GESTIÓN DE LA CALIDAD CIUDAD DE MÉXICO
D2: Distrito | E2: 2 | F2: Módulo | H2: 90251
A4: TABLERO DE CONTROL DE PROCESOS SUSTANTIVOS DEL SISTEMA DE GESTIÓN DE LA CALIDAD
A6: ='PANEL DE CONTROL DISTRITAL'!A6 -> Número | B6: ='PANEL DE CONTROL DISTRITAL'!B6 -> PROCESOS SUSTANTIVOS E INDICADORES | I6: SEMANA OPERATIVA | AF6: % AVANCE REGISTRADO
B7: ='PANEL DE CONTROL DISTRITAL'!B7 -> DESCRIPCIÓN | E7: ='PANEL DE CONTROL DISTRITAL'!E7 -> MEDICIÓN | I7: ='PANEL DE CONTROL DISTRITAL'!A5 -> CAMPAÑA ANUAL PERMANENTE 2024
B9: ='PANEL DE CONTROL DISTRITAL'!B8 -> Proceso | C9: ='PANEL DE CONTROL DISTRITAL'!C8 -> Dueño de Proceso | D9: ='PANEL DE CONTROL DISTRITAL'!D8 -> Indicador | E9: ='PANEL DE CONTROL DISTRITAL'!E8 -> Cálculo | F9: ='PANEL DE CONTROL DISTRITAL'!F8 -> Periodo | G9: ='PANEL DE CONTROL DISTRITAL'!G8 -> Estimado | H9: ='PANEL DE CONTROL DISTRITAL'!H8 -> Nominativo | I9: ='090151'!I9 -> 2024-05 | J9: ='090151'!J9 -> 2024-06 | K9: ='090151'!K9 -> 2024-07 | L9: ='090151'!L9 -> 2024-08 | M9: ='090151'!M9 -> 2024-09 | N9: ='090151'!N9 -> 2024-10 | O9: ='090151'!O9 -> 2024-11 | P9: ='090151'!P9 -> 2024-12 | ... AE9: ='090151'!AE9 -> 2024-27
A10: ='PANEL DE CONTROL DISTRITAL'!A9 -> 1 | B10: ='PANEL DE CONTROL DISTRITAL'!B9 -> ENTREVISTA | C10: ='PANEL DE CONTROL DISTRITAL'!C9 -> Auxiliar de Atención Ciudadana | D10: ='PANEL DE CONTROL DISTRITAL'!D9 -> Efectividad de la entrevista = | E10: ='PANEL DE CONTROL DISTRITAL'!E9 -> (Número de trámites aplicados / (Número de fichas requisitadas - Notificaciones de improcedencia de trámite)) x 100 | F10: ='PANEL DE CONTROL DISTRITAL'!F9 -> Semanal (remesa) | G10: ='PANEL DE CONTROL DISTRITAL'!G9 -> 0.9 | H10: ='PANEL DE CONTROL DISTRITAL'!H9 -> Número de trámites aplicados | I10: 926 | J10: 1640 | K10: 1436 | L10: 117 | M10: 658 | N10: 759 | O10: 786 | P10: 801 | Q10: 690 | R10: 58 | S10: 249 | T10: 290 | U10: 338 | V10: 546 | W10: 516 | X10: 574 | Y10: 466 | Z10: 584 | AA10: 795 | AB10: 389 | AC10: 0 | AD10: 1 | AE10: 0 | AF10: =IFERROR(SUM(I10:AE10)/SUM(I11:AE11),0) -> 0.99960393
H11: ='PANEL DE CONTROL DISTRITAL'!H10 -> Número de fichas requisitadas - Notificaciones de improcedencia de trámite | I11: 926 | J11: 1640 | K11: 1436 | L11: 117 | M11: 658 | N11: 759 | O11: 786 | P11: 801 | Q11: 690 | R11: 58 | S11: 249 | T11: 290 | U11: 338 | V11: 546 | W11: 521 | X11: 574 | Y11: 466 | Z11: 584 | AA11: 795 | AB11: 389 | AC11: 0 | AD11: 1 | AE11: 0
A13: ='PANEL DE CONTROL DISTRITAL'!A12 -> 2 | B13: ='PANEL DE CONTROL DISTRITAL'!B12 -> TRÁMITE | C13: ='PANEL DE CONTROL DISTRITAL'!C12 -> Operador de Equipo Tecnológico | D13: ='PANEL DE CONTROL DISTRITAL'!D12 -> Trámites exitosos efectivos= | E13: ='PANEL DE CONTROL DISTRITAL'!E12 -> (Número de trámites exitosos / Número de trámites aplicados) x 100 | F13: ='PANEL DE CONTROL DISTRITAL'!F12 -> Semanal (remesa) | G13: ='PANEL DE CONTROL DISTRITAL'!G12 -> 0.9 | H13: ='PANEL DE CONTROL DISTRITAL'!H12 -> Número de trámites exitosos | I13: 921 | J13: 1638 | K13: 1434 | L13: 117 | M13: 657 | N13: 757 | O13: 786 | P13: 800 | Q13: 689 | R13: 58 | S13: 246 | T13: 290 | U13: 338 | V13: 545 | W13: 516 | X13: 574 | Y13: 466 | Z13: 584 | AA13: 795 | AB13: 389 | AC13: 0 | AD13: 0 | AE13: 0 | AF13: =IFERROR(SUM(I13:AE13)/SUM(I14:AE14),0) -> 0.99849433
H14: ='PANEL DE CONTROL DISTRITAL'!H13 -> Número de trámites aplicados | I14: 926 | J14: 1640 | K14: 1436 | L14: 117 | M14: 658 | N14: 759 | O14: 786 | P14: 801 | Q14: 690 | R14: 58 | S14: 249 | T14: 290 | U14: 338 | V14: 546 | W14: 516 | X14: 574 | Y14: 466 | Z14: 584 | AA14: 795 | AB14: 389 | AC14: 0 | AD14: 1 | AE14: 0
A16: ='PANEL DE CONTROL DISTRITAL'!A15 -> 3 | B16: ='PANEL DE CONTROL DISTRITAL'!B15 -> TRANSFERENCIA | C16: ='PANEL DE CONTROL DISTRITAL'!C15 -> Responsable de Módulo | D16: ='PANEL DE CONTROL DISTRITAL'!D15 -> Transacciones exitosas = | E16: ='PANEL DE CONTROL DISTRITAL'!E15 -> (Número de Archivos de Transacción aceptados /Total de Archivos de Transacción procesados) x100 | F16: ='PANEL DE CONTROL DISTRITAL'!F15 -> Semanal (remesa) | G16: ='PANEL DE CONTROL DISTRITAL'!G15 -> 0.9 | H16: ='PANEL DE CONTROL DISTRITAL'!H15 -> Número de Archivos de Transacción aceptados | I16: 926 | J16: 1640 | K16: 1436 | L16: 117 | M16: 658 | N16: 759 | O16: 786 | P16: 801 | Q16: 690 | R16: 58 | S16: 249 | T16: 290 | U16: 338 | V16: 546 | W16: 516 | X16: 574 | Y16: 466 | Z16: 584 | AA16: 795 | AB16: 389 | AC16: 0 | AD16: 1 | AE16: 0 | AF16: =IFERROR(SUM(I16:AE16)/SUM(I17:AE17),0) -> 1
H17: ='PANEL DE CONTROL DISTRITAL'!H16 -> Total de Archivos de Transacción procesados | I17: 926 | J17: 1640 | K17: 1436 | L17: 117 | M17: 658 | N17: 759 | O17: 786 | P17: 801 | Q17: 690 | R17: 58 | S17: 249 | T17: 290 | U17: 338 | V17: 546 | W17: 516 | X17: 574 | Y17: 466 | Z17: 584 | AA17: 795 | AB17: 389 | AC17: 0 | AD17: 1 | AE17: 0
A19: ='PANEL DE CONTROL DISTRITAL'!A18 -> 4 | B19: ='PANEL DE CONTROL DISTRITAL'!B18 -> CONCILIACIÓN | C19: ='PANEL DE CONTROL DISTRITAL'!C18 -> Responsable de Módulo | D19: ='PANEL DE CONTROL DISTRITAL'!D18 -> Credenciales disponibles para entrega = | E19: ='PANEL DE CONTROL DISTRITAL'!E18 -> ((Credenciales recibidas - Credenciales inconsistentes) / Credenciales recibidas) x 100 | F19: ='PANEL DE CONTROL DISTRITAL'!F18 -> Semanal (remesa) | G19: ='PANEL DE CONTROL DISTRITAL'!G18 -> 0.9 | H19: ='PANEL DE CONTROL DISTRITAL'!H18 -> Credenciales Recibidas - Credenciales inconsistentes | I19: 3023 | J19: 3755 | K19: 1993 | L19: 500 | M19: 1036 | N19: 682 | O19: 764 | P19: 755 | Q19: 771 | R19: 162 | S19: 366 | T19: 226 | U19: 408 | V19: 351 | W19: 631 | X19: 588 | Y19: 436 | Z19: 469 | AA19: 750 | AB19: 159 | AC19: 618 | AD19: 0 | AE19: 0 | AF19: =IFERROR(SUM(I19:AE19)/SUM(I20:AE20),0) -> 0.99978316
H20: ='PANEL DE CONTROL DISTRITAL'!H19 -> Credenciales recibidas | I20: 3023 | J20: 3755 | K20: 1993 | L20: 500 | M20: 1040 | N20: 682 | O20: 764 | P20: 755 | Q20: 771 | R20: 162 | S20: 366 | T20: 226 | U20: 408 | V20: 351 | W20: 631 | X20: 588 | Y20: 436 | Z20: 469 | AA20: 750 | AB20: 159 | AC20: 618 | AD20: 0 | AE20: 0
A22: ='PANEL DE CONTROL DISTRITAL'!A21 -> 5 | B22: ='PANEL DE CONTROL DISTRITAL'!B21 -> CONCILIACIÓN | C22: ='PANEL DE CONTROL DISTRITAL'!C21 -> Responsable de Módulo | D22: ='PANEL DE CONTROL DISTRITAL'!D21 -> Credenciales disponibles para entrega = | E22: ='PANEL DE CONTROL DISTRITAL'!E21 -> (Credenciales en resguardo / Credenciales totales en SIIRFE disponibles para entrega) x 100 | F22: ='PANEL DE CONTROL DISTRITAL'!F21 -> Semanal (remesa) | G22: ='PANEL DE CONTROL DISTRITAL'!G21 -> 1 | H22: ='PANEL DE CONTROL DISTRITAL'!H21 -> Credenciales en resguardo | I22: 7219 | J22: 6396 | K22: 6372 | L22: 6349 | M22: 3940 | N22: 2614 | O22: 1893 | P22: 1564 | Q22: 682 | R22: 884 | S22: 620 | T22: 506 | U22: 534 | V22: 550 | W22: 528 | X22: 540 | Y22: 536 | Z22: 468 | AA22: 547 | AB22: 633 | AC22: 427 | AD22: 185 | AE22: 0 | AF22: =IFERROR(SUM(I22:AE22)/SUM(I23:AE23),0) -> 1
H23: ='PANEL DE CONTROL DISTRITAL'!H22 -> Credenciales totales en SIIRFE disponibles para entrega | I23: 7219 | J23: 6396 | K23: 6372 | L23: 6349 | M23: 3940 | N23: 2614 | O23: 1893 | P23: 1564 | Q23: 682 | R23: 884 | S23: 620 | T23: 506 | U23: 534 | V23: 550 | W23: 528 | X23: 540 | Y23: 536 | Z23: 468 | AA23: 547 | AB23: 633 | AC23: 427 | AD23: 185 | AE23: 0
A25: ='PANEL DE CONTROL DISTRITAL'!A24 -> 6 | B25: ='PANEL DE CONTROL DISTRITAL'!B24 -> ENTREGA | C25: ='PANEL DE CONTROL DISTRITAL'!C24 -> Operador de Equipo Tecnológico | D25: ='PANEL DE CONTROL DISTRITAL'!D24 -> Efectividad de entrega de CPV en MAC = | E25: ='PANEL DE CONTROL DISTRITAL'!E24 -> (Total de credenciales entregadas / Total de credenciales solicitadas) x 100 | F25: ='PANEL DE CONTROL DISTRITAL'!F24 -> Semanal (remesa) | G25: ='PANEL DE CONTROL DISTRITAL'!G24 -> 0.9 | H25: ='PANEL DE CONTROL DISTRITAL'!H24 -> Total de credenciales entregadas | I25: 2292 | J25: 4578 | K25: 1998 | L25: 523 | M25: 3445 | N25: 2008 | O25: 1369 | P25: 1084 | Q25: 825 | R25: 140 | S25: 630 | T25: 340 | U25: 380 | V25: 335 | W25: 653 | X25: 576 | Y25: 440 | Z25: 537 | AA25: 671 | AB25: 73 | AC25: 824 | AD25: 242 | AE25: 0 | AF25: =IFERROR(SUM(I25:AE25)/SUM(I26:AE26),0) -> 1
H26: ='PANEL DE CONTROL DISTRITAL'!H25 -> Total de credenciales solicitadas | I26: 2292 | J26: 4578 | K26: 1998 | L26: 523 | M26: 3445 | N26: 2008 | O26: 1369 | P26: 1084 | Q26: 825 | R26: 140 | S26: 630 | T26: 340 | U26: 380 | V26: 335 | W26: 653 | X26: 576 | Y26: 440 | Z26: 537 | AA26: 671 | AB26: 73 | AC26: 824 | AD26: 242 | AE26: 0
B27: *Registre el valor nominal solicitado en la celda, el resultado proporcional esta automatizado.
I29: Semaforización
J30: Valor que requiere atención y justificación en el apartado de observaciones
J31: Valor suficiente
J32: Valor esperado
B34: CUADRO DE OBSERVACIONES
B35: Descripción | H35: No conformidad

Sheet 090351
A1: ='PANEL DE CONTROL DISTRITAL'!A1:Q1 -> INSTITUTO NACIONAL ELECTORAL SISTEMA DE GESTIÓN DE LA CALIDAD CIUDAD DE MÉXICO
D2: Distrito | E2: 3 | F2: Módulo | H2: 90351
A4: TABLERO DE CONTROL DE PROCESOS SUSTANTIVOS DEL SISTEMA DE GESTIÓN DE LA CALIDAD
A6: ='PANEL DE CONTROL DISTRITAL'!A6 -> Número | B6: ='PANEL DE CONTROL DISTRITAL'!B6 -> PROCESOS SUSTANTIVOS E INDICADORES | I6: SEMANA OPERATIVA | AF6: % AVANCE REGISTRADO
B7: ='PANEL DE CONTROL DISTRITAL'!B7 -> DESCRIPCIÓN | E7: ='PANEL DE CONTROL DISTRITAL'!E7 -> MEDICIÓN | I7: ='PANEL DE CONTROL DISTRITAL'!A5 -> CAMPAÑA ANUAL PERMANENTE 2024
B9: ='PANEL DE CONTROL DISTRITAL'!B8 -> Proceso | C9: ='PANEL DE CONTROL DISTRITAL'!C8 -> Dueño de Proceso | D9: ='PANEL DE CONTROL DISTRITAL'!D8 -> Indicador | E9: ='PANEL DE CONTROL DISTRITAL'!E8 -> Cálculo | F9: ='PANEL DE CONTROL DISTRITAL'!F8 -> Periodo | G9: ='PANEL DE CONTROL DISTRITAL'!G8 -> Estimado | H9: ='PANEL DE CONTROL DISTRITAL'!H8 -> Nominativo | I9: ='090151'!I9 -> 2024-05 | J9: ='090151'!J9 -> 2024-06 | K9: ='090151'!K9 -> 2024-07 | L9: ='090151'!L9 -> 2024-08 | M9: ='090151'!M9 -> 2024-09 | N9: ='090151'!N9 -> 2024-10 | O9: ='090151'!O9 -> 2024-11 | P9: ='090151'!P9 -> 2024-12 | ... AE9: ='090151'!AE9 -> 2024-27
A10: ='PANEL DE CONTROL DISTRITAL'!A9 -> 1 | B10: ='PANEL DE CONTROL DISTRITAL'!B9 -> ENTREVISTA | C10: ='PANEL DE CONTROL DISTRITAL'!C9 -> Auxiliar de Atención Ciudadana | D10: ='PANEL DE CONTROL DISTRITAL'!D9 -> Efectividad de la entrevista = | E10: ='PANEL DE CONTROL DISTRITAL'!E9 -> (Número de trámites aplicados / (Número de fichas requisitadas - Notificaciones de improcedencia de trámite)) x 100 | F10: ='PANEL DE CONTROL DISTRITAL'!F9 -> Semanal (remesa) | G10: ='PANEL DE CONTROL DISTRITAL'!G9 -> 0.9 | H10: ='PANEL DE CONTROL DISTRITAL'!H9 -> Número de trámites aplicados | I10: 671 | J10: 1172 | K10: 863 | L10: 100 | M10: 636 | N10: 689 | O10: 639 | P10: 477 | Q10: 494 | R10: 65 | S10: 264 | T10: 257 | U10: 374 | V10: 413 | W10: 510 | X10: 429 | Y10: 380 | Z10: 527 | AA10: 655 | AB10: 205 | AC10: 0 | AD10: 0 | AE10: 0 | AF10: =IFERROR(SUM(I10:AE10)/SUM(I11:AE11),0) -> 0.97401309
H11: ='PANEL DE CONTROL DISTRITAL'!H10 -> Número de fichas requisitadas - Notificaciones de improcedencia de trámite | I11: 682 | J11: 1195 | K11: 885 | L11: 104 | M11: 664 | N11: 733 | O11: 682 | P11: 503 | Q11: 510 | R11: 68 | S11: 270 | T11: 267 | U11: 382 | V11: 421 | W11: 510 | X11: 429 | Y11: 380 | Z11: 527 | AA11: 665 | AB11: 205 | AC11: 0 | AD11: 0 | AE11: 0
A13: ='PANEL DE CONTROL DISTRITAL'!A12 -> 2 | B13: ='PANEL DE CONTROL DISTRITAL'!B12 -> TRÁMITE | C13: ='PANEL DE CONTROL DISTRITAL'!C12 -> Operador de Equipo Tecnológico | D13: ='PANEL DE CONTROL DISTRITAL'!D12 -> Trámites exitosos efectivos= | E13: ='PANEL DE CONTROL DISTRITAL'!E12 -> (Número de trámites exitosos / Número de trámites aplicados) x 100 | F13: ='PANEL DE CONTROL DISTRITAL'!F12 -> Semanal (remesa) | G13: ='PANEL DE CONTROL DISTRITAL'!G12 -> 0.9 | H13: ='PANEL DE CONTROL DISTRITAL'!H12 -> Número de trámites exitosos | I13: 669 | J13: 1173 | K13: 862 | L13: 99 | M13: 636 | N13: 689 | O13: 639 | P13: 477 | Q13: 493 | R13: 65 | S13: 264 | T13: 257 | U13: 374 | V13: 413 | W13: 510 | X13: 429 | Y13: 380 | Z13: 526 | AA13: 655 | AB13: 205 | AC13: 0 | AD13: 0 | AE13: 0 | AF13: =IFERROR(SUM(I13:AE13)/SUM(I14:AE14),0) -> 0.99949084
H14: ='PANEL DE CONTROL DISTRITAL'!H13 -> Número de trámites aplicados | I14: 671 | J14: 1172 | K14: 863 | L14: 100 | M14: 636 | N14: 689 | O14: 639 | P14: 477 | Q14: 494 | R14: 65 | S14: 264 | T14: 257 | U14: 374 | V14: 413 | W14: 510 | X14: 429 | Y14: 380 | Z14: 527 | AA14: 655 | AB14: 205 | AC14: 0 | AD14: 0 | AE14: 0
A16: ='PANEL DE CONTROL DISTRITAL'!A15 -> 3 | B16: ='PANEL DE CONTROL DISTRITAL'!B15 -> TRANSFERENCIA | C16: ='PANEL DE CONTROL DISTRITAL'!C15 -> Responsable de Módulo | D16: ='PANEL DE CONTROL DISTRITAL'!D15 -> Transacciones exitosas = | E16: ='PANEL DE CONTROL DISTRITAL'!E15 -> (Número de Archivos de Transacción aceptados /Total de Archivos de Transacción procesados) x100 | F16: ='PANEL DE CONTROL DISTRITAL'!F15 -> Semanal (remesa) | G16: ='PANEL DE CONTROL DISTRITAL'!G15 -> 0.9 | H16: ='PANEL DE CONTROL DISTRITAL'!H15 -> Número de Archivos de Transacción aceptados | I16: 671 | J16: 1172 | K16: 862 | L16: 100 | M16: 636 | N16: 689 | O16: 639 | P16: 477 | Q16: 494 | R16: 65 | S16: 264 | T16: 257 | U16: 374 | V16: 413 | W16: 510 | X16: 429 | Y16: 380 | Z16: 527 | AA16: 655 | AB16: 205 | AC16: 0 | AD16: 0 | AE16: 0 | AF16: =IFERROR(SUM(I16:AE16)/SUM(I17:AE17),0) -> 0.99989817
H17: ='PANEL DE CONTROL DISTRITAL'!H16 -> Total de Archivos de Transacción procesados | I17: 671 | J17: 1172 | K17: 863 | L17: 100 | M17: 636 | N17: 689 | O17: 639 | P17: 477 | Q17: 494 | R17: 65 | S17: 264 | T17: 257 | U17: 374 | V17: 413 | W17: 510 | X17: 429 | Y17: 380 | Z17: 527 | AA17: 655 | AB17: 205 | AC17: 0 | AD17: 0 | AE17: 0
A19: ='PANEL DE CONTROL DISTRITAL'!A18 -> 4 | B19: ='PANEL DE CONTROL DISTRITAL'!B18 -> CONCILIACIÓN | C19: ='PANEL DE CONTROL DISTRITAL'!C18 -> Responsable de Módulo | D19: ='PANEL DE CONTROL DISTRITAL'!D18 -> Credenciales disponibles para entrega = | E19: ='PANEL DE CONTROL DISTRITAL'!E18 -> ((Credenciales recibidas - Credenciales inconsistentes) / Credenciales recibidas) x 100 | F19: ='PANEL DE CONTROL DISTRITAL'!F18 -> Semanal (remesa) | G19: ='PANEL DE CONTROL DISTRITAL'!G18 -> 0.9 | H19: ='PANEL DE CONTROL DISTRITAL'!H18 -> Credenciales Recibidas - Credenciales inconsistentes | I19: 1397 | J19: 2510 | K19: 1386 | L19: 310 | M19: 757 | N19: 676 | O19: 650 | P19: 564 | Q19: 465 | R19: 117 | S19: 358 | T19: 180 | U19: 426 | V19: 382 | W19: 467 | X19: 474 | Y19: 338 | Z19: 539 | AA19: 549 | AB19: 126 | AC19: 374 | AD19: 0 | AE19: 0 | AF19: =IFERROR(SUM(I19:AE19)/SUM(I20:AE20),0) -> 1
H20: ='PANEL DE CONTROL DISTRITAL'!H19 -> Credenciales recibidas | I20: 1397 | J20: 2510 | K20: 1386 | L20: 310 | M20: 757 | N20: 676 | O20: 650 | P20: 564 | Q20: 465 | R20: 117 | S20: 358 | T20: 180 | U20: 426 | V20: 382 | W20: 467 | X20: 474 | Y20: 338 | Z20: 539 | AA20: 549 | AB20: 126 | AC20: 374 | AD20: 0 | AE20: 0
A22: ='PANEL DE CONTROL DISTRITAL'!A21 -> 5 | B22: ='PANEL DE CONTROL DISTRITAL'!B21 -> CONCILIACIÓN | C22: ='PANEL DE CONTROL DISTRITAL'!C21 -> Responsable de Módulo | D22: ='PANEL DE CONTROL DISTRITAL'!D21 -> Credenciales disponibles para entrega = | E22: ='PANEL DE CONTROL DISTRITAL'!E21 -> (Credenciales en resguardo / Credenciales totales en SIIRFE disponibles para entrega) x 100 | F22: ='PANEL DE CONTROL DISTRITAL'!F21 -> Semanal (remesa) | G22: ='PANEL DE CONTROL DISTRITAL'!G21 -> 1 | H22: ='PANEL DE CONTROL DISTRITAL'!H21 -> Credenciales en resguardo | I22: 2954 | J22: 3598 | K22: 3864 | L22: 3597 | M22: 2441 | N22: 2071 | O22: 2014 | P22: 1622 | Q22: 1254 | R22: 1298 | S22: 1219 | T22: 1092 | U22: 1167 | V22: 1250 | W22: 1377 | X22: 1499 | Y22: 1441 | Z22: 1629 | AA22: 1269 | AB22: 1221 | AC22: 1076 | AD22: 519 | AE22: 0 | AF22: =IFERROR(SUM(I22:AE22)/SUM(I23:AE23),0) -> 1
H23: ='PANEL DE CONTROL DISTRITAL'!H22 -> Credenciales totales en SIIRFE disponibles para entrega | I23: 2954 | J23: 3598 | K23: 3864 | L23: 3597 | M23: 2441 | N23: 2071 | O23: 2014 | P23: 1622 | Q23: 1254 | R23: 1298 | S23: 1219 | T23: 1092 | U23: 1167 | V23: 1250 | W23: 1377 | X23: 1499 | Y23: 1441 | Z23: 1629 | AA23: 1269 | AB23: 1221 | AC23: 1076 | AD23: 519 | AE23: 0
A25: ='PANEL DE CONTROL DISTRITAL'!A24 -> 6 | B25: ='PANEL DE CONTROL DISTRITAL'!B24 -> ENTREGA | C25: ='PANEL DE CONTROL DISTRITAL'!C24 -> Operador de Equipo Tecnológico | D25: ='PANEL DE CONTROL DISTRITAL'!D24 -> Efectividad de entrega de CPV en MAC = | E25: ='PANEL DE CONTROL DISTRITAL'!E24 -> (Total de credenciales entregadas / Total de credenciales solicitadas) x 100 | F25: ='PANEL DE CONTROL DISTRITAL'!F24 -> Semanal (remesa) | G25: ='PANEL DE CONTROL DISTRITAL'!G24 -> 0.9 | H25: ='PANEL DE CONTROL DISTRITAL'!H24 -> Total de credenciales entregadas | I25: 1415 | J25: 1866 | K25: 1114 | L25: 577 | M25: 1913 | N25: 1046 | O25: 679 | P25: 956 | Q25: 833 | R25: 73 | S25: 437 | T25: 307 | U25: 351 | V25: 299 | W25: 340 | X25: 352 | Y25: 396 | Z25: 351 | AA25: 909 | AB25: 174 | AC25: 529 | AD25: 547 | AE25: 0 | AF25: =IFERROR(SUM(I25:AE25)/SUM(I26:AE26),0) -> 1
H26: ='PANEL DE CONTROL DISTRITAL'!H25 -> Total de credenciales solicitadas | I26: 1415 | J26: 1866 | K26: 1114 | L26: 577 | M26: 1913 | N26: 1046 | O26: 679 | P26: 956 | Q26: 833 | R26: 73 | S26: 437 | T26: 307 | U26: 351 | V26: 299 | W26: 340 | X26: 352 | Y26: 396 | Z26: 351 | AA26: 909 | AB26: 174 | AC26: 529 | AD26: 547 | AE26: 0
B27: *Registre el valor nominal solicitado en la celda, el resultado proporcional esta automatizado.
I29: Semaforización
J30: Valor que requiere atención y justificación en el apartado de observaciones
J31: Valor suficiente
J32: Valor esperado
B34: CUADRO DE OBSERVACIONES
B35: Descripción | H35: No conformidad

Sheet 090451
A1: ='PANEL DE CONTROL DISTRITAL'!A1:Q1 -> INSTITUTO NACIONAL ELECTORAL SISTEMA DE GESTIÓN DE LA CALIDAD CIUDAD DE MÉXICO
D2: Distrito | E2: 4 | F2: Módulo | H2: 90451
A4: TABLERO DE CONTROL DE PROCESOS SUSTANTIVOS DEL SISTEMA DE GESTIÓN DE LA CALIDAD
A6: ='PANEL DE CONTROL DISTRITAL'!A6 -> Número | B6: ='PANEL DE CONTROL DISTRITAL'!B6 -> PROCESOS SUSTANTIVOS E INDICADORES | I6: SEMANA OPERATIVA | AF6: % AVANCE REGISTRADO
B7: ='PANEL DE CONTROL DISTRITAL'!B7 -> DESCRIPCIÓN | E7: ='PANEL DE CONTROL DISTRITAL'!E7 -> MEDICIÓN | I7: ='PANEL DE CONTROL DISTRITAL'!A5 -> CAMPAÑA ANUAL PERMANENTE 2024
B9: ='PANEL DE CONTROL DISTRITAL'!B8 -> Proceso | C9: ='PANEL DE CONTROL DISTRITAL'!C8 -> Dueño de Proceso | D9: ='PANEL DE CONTROL DISTRITAL'!D8 -> Indicador | E9: ='PANEL DE CONTROL DISTRITAL'!E8 -> Cálculo | F9: ='PANEL DE CONTROL DISTRITAL'!F8 -> Periodo | G9: ='PANEL DE CONTROL DISTRITAL'!G8 -> Estimado | H9: ='PANEL DE CONTROL DISTRITAL'!H8 -> Nominativo | I9: ='090151'!I9 -> 2024-05 | J9: ='090151'!J9 -> 2024-06 | K9: ='090151'!K9 -> 2024-07 | L9: ='090151'!L9 -> 2024-08 | M9: ='090151'!M9 -> 2024-09 | N9: ='090151'!N9 -> 2024-10 | O9: ='090151'!O9 -> 2024-11 | P9: ='090151'!P9 -> 2024-12 | ... AE9: ='090151'!AE9 -> 2024-27
A10: ='PANEL DE CONTROL DISTRITAL'!A9 -> 1 | B10: ='PANEL DE CONTROL DISTRITAL'!B9 -> ENTREVISTA | C10: ='PANEL DE CONTROL DISTRITAL'!C9 -> Auxiliar de Atención Ciudadana | D10: ='PANEL DE CONTROL DISTRITAL'!D9 -> Efectividad de la entrevista = | E10: ='PANEL DE CONTROL DISTRITAL'!E9 -> (Número de trámites aplicados / (Número de fichas requisitadas - Notificaciones de improcedencia de trámite)) x 100 | F10: ='PANEL DE CONTROL DISTRITAL'!F9 -> Semanal (remesa) | G10: ='PANEL DE CONTROL DISTRITAL'!G9 -> 0.9 | H10: ='PANEL DE CONTROL DISTRITAL'!H9 -> Número de trámites aplicados | I10: 870 | J10: 1583 | K10: 1332 | L10: 142 | M10: 668 | N10: 791 | O10: 706 | P10: 622 | Q10: 483 | R10: 69 | S10: 158 | T10: 115 | U10: 171 | V10: 203 | W10: 285 | X10: 284 | Y10: 248 | Z10: 464 | AA10: 633 | AB10: 338 | AC10: 0 | AD10: 0 | AE10: 0 | AF10: =IFERROR(SUM(I10:AE10)/SUM(I11:AE11),0) -> 0.99190086
H11: ='PANEL DE CONTROL DISTRITAL'!H10 -> Número de fichas requisitadas - Notificaciones de improcedencia de trámite | I11: 874 | J11: 1605 | K11: 1337 | L11: 148 | M11: 681 | N11: 807 | O11: 709 | P11: 627 | Q11: 484 | R11: 69 | S11: 158 | T11: 115 | U11: 171 | V11: 203 | W11: 289 | X11: 284 | Y11: 248 | Z11: 468 | AA11: 633 | AB11: 338 | AC11: 0 | AD11: 0 | AE11: 0
A13: ='PANEL DE CONTROL DISTRITAL'!A12 -> 2 | B13: ='PANEL DE CONTROL DISTRITAL'!B12 -> TRÁMITE | C13: ='PANEL DE CONTROL DISTRITAL'!C12 -> Operador de Equipo Tecnológico | D13: ='PANEL DE CONTROL DISTRITAL'!D12 -> Trámites exitosos efectivos= | E13: ='PANEL DE CONTROL DISTRITAL'!E12 -> (Número de trámites exitosos / Número de trámites aplicados) x 100 | F13: ='PANEL DE CONTROL DISTRITAL'!F12 -> Semanal (remesa) | G13: ='PANEL DE CONTROL DISTRITAL'!G12 -> 0.9 | H13: ='PANEL DE CONTROL DISTRITAL'!H12 -> Número de trámites exitosos | I13: 867 | J13: 1581 | K13: 1330 | L13: 142 | M13: 668 | N13: 790 | O13: 706 | P13: 621 | Q13: 483 | R13: 69 | S13: 158 | T13: 115 | U13: 171 | V13: 203 | W13: 285 | X13: 284 | Y13: 247 | Z13: 464 | AA13: 633 | AB13: 338 | AC13: 0 | AD13: 0 | AE13: 0 | AF13: =IFERROR(SUM(I13:AE13)/SUM(I14:AE14),0) -> 0.99901623
H14: ='PANEL DE CONTROL DISTRITAL'!H13 -> Número de trámites aplicados | I14: 870 | J14: 1583 | K14: 1332 | L14: 142 | M14: 668 | N14: 791 | O14: 706 | P14: 622 | Q14: 483 | R14: 69 | S14: 158 | T14: 115 | U14: 171 | V14: 203 | W14: 285 | X14: 284 | Y14: 248 | Z14: 464 | AA14: 633 | AB14: 338 | AC14: 0 | AD14: 0 | AE14: 0
A16: ='PANEL DE CONTROL DISTRITAL'!A15 -> 3 | B16: ='PANEL DE CONTROL DISTRITAL'!B15 -> TRANSFERENCIA | C16: ='PANEL DE CONTROL DISTRITAL'!C15 -> Responsable de Módulo | D16: ='PANEL DE CONTROL DISTRITAL'!D15 -> Transacciones exitosas = | E16: ='PANEL DE CONTROL DISTRITAL'!E15 -> (Número de Archivos de Transacción aceptados /Total de Archivos de Transacción procesados) x100 | F16: ='PANEL DE CONTROL DISTRITAL'!F15 -> Semanal (remesa) | G16: ='PANEL DE CONTROL DISTRITAL'!G15 -> 0.9 | H16: ='PANEL DE CONTROL DISTRITAL'!H15 -> Número de Archivos de Transacción aceptados | I16: 870 | J16: 1579 | K16: 1332 | L16: 137 | M16: 665 | N16: 785 | O16: 706 | P16: 614 | Q16: 480 | R16: 69 | S16: 158 | T16: 115 | U16: 171 | V16: 201 | W16: 283 | X16: 282 | Y16: 247 | Z16: 463 | AA16: 632 | AB16: 338 | AC16: 0 | AD16: 0 | AE16: 0 | AF16: =IFERROR(SUM(I16:AE16)/SUM(I17:AE17),0) -> 0.99626168
H17: ='PANEL DE CONTROL DISTRITAL'!H16 -> Total de Archivos de Transacción procesados | I17: 870 | J17: 1583 | K17: 1332 | L17: 142 | M17: 668 | N17: 791 | O17: 706 | P17: 622 | Q17: 483 | R17: 69 | S17: 158 | T17: 115 | U17: 171 | V17: 203 | W17: 285 | X17: 284 | Y17: 248 | Z17: 464 | AA17: 633 | AB17: 338 | AC17: 0 | AD17: 0 | AE17: 0
A19: ='PANEL DE CONTROL DISTRITAL'!A18 -> 4 | B19: ='PANEL DE CONTROL DISTRITAL'!B18 -> CONCILIACIÓN | C19: ='PANEL DE CONTROL DISTRITAL'!C18 -> Responsable de Módulo | D19: ='PANEL DE CONTROL DISTRITAL'!D18 -> Credenciales disponibles para entrega = | E19: ='PANEL DE CONTROL DISTRITAL'!E18 -> ((Credenciales recibidas - Credenciales inconsistentes) / Credenciales recibidas) x 100 | F19: ='PANEL DE CONTROL DISTRITAL'!F18 -> Semanal (remesa) | G19: ='PANEL DE CONTROL DISTRITAL'!G18 -> 0.9 | H19: ='PANEL DE CONTROL DISTRITAL'!H18 -> Credenciales Recibidas - Credenciales inconsistentes | I19: 2524 | J19: 3610 | K19: 1917 | L19: 489 | M19: 1018 | N19: 734 | O19: 722 | P19: 639 | Q19: 536 | R19: 128 | S19: 309 | T19: 91 | U19: 189 | V19: 201 | W19: 238 | X19: 283 | Y19: 244 | Z19: 354 | AA19: 527 | AB19: 138 | AC19: 537 | AD19: 0 | AE19: 0 | AF19: =IFERROR(SUM(I19:AE19)/SUM(I20:AE20),0) -> 1
H20: ='PANEL DE CONTROL DISTRITAL'!H19 -> Credenciales recibidas | I20: 2524 | J20: 3610 | K20: 1917 | L20: 489 | M20: 1018 | N20: 734 | O20: 722 | P20: 639 | Q20: 536 | R20: 128 | S20: 309 | T20: 91 | U20: 189 | V20: 201 | W20: 238 | X20: 283 | Y20: 244 | Z20: 354 | AA20: 527 | AB20: 138 | AC20: 537 | AD20: 0 | AE20: 0
A22: ='PANEL DE CONTROL DISTRITAL'!A21 -> 5 | B22: ='PANEL DE CONTROL DISTRITAL'!B21 -> CONCILIACIÓN | C22: ='PANEL DE CONTROL DISTRITAL'!C21 -> Responsable de Módulo | D22: ='PANEL DE CONTROL DISTRITAL'!D21 -> Credenciales disponibles para entrega = | E22: ='PANEL DE CONTROL DISTRITAL'!E21 -> (Credenciales en resguardo / Credenciales totales en SIIRFE disponibles para entrega) x 100 | F22: ='PANEL DE CONTROL DISTRITAL'!F21 -> Semanal (remesa) | G22: ='PANEL DE CONTROL DISTRITAL'!G21 -> 1 | H22: ='PANEL DE CONTROL DISTRITAL'!H21 -> Credenciales en resguardo | I22: 4381 | J22: 4541 | K22: 4063 | L22: 3796 | M22: 2830 | N22: 2274 | O22: 1962 | P22: 1860 | Q22: 1703 | R22: 1737 | S22: 1370 | T22: 923 | U22: 810 | V22: 790 | W22: 759 | X22: 724 | Y22: 724 | Z22: 874 | AA22: 775 | AB22: 839 | AC22: 689 | AD22: 594 | AE22: 0 | AF22: =IFERROR(SUM(I22:AE22)/SUM(I23:AE23),0) -> 1
H23: ='PANEL DE CONTROL DISTRITAL'!H22 -> Credenciales totales en SIIRFE disponibles para entrega | I23: 4381 | J23: 4541 | K23: 4063 | L23: 3796 | M23: 2830 | N23: 2274 | O23: 1962 | P23: 1860 | Q23: 1703 | R23: 1737 | S23: 1370 | T23: 923 | U23: 810 | V23: 790 | W23: 759 | X23: 724 | Y23: 724 | Z23: 874 | AA23: 775 | AB23: 839 | AC23: 689 | AD23: 594 | AE23: 0
A25: ='PANEL DE CONTROL DISTRITAL'!A24 -> 6 | B25: ='PANEL DE CONTROL DISTRITAL'!B24 -> ENTREGA | C25: ='PANEL DE CONTROL DISTRITAL'!C24 -> Operador de Equipo Tecnológico | D25: ='PANEL DE CONTROL DISTRITAL'!D24 -> Efectividad de entrega de CPV en MAC = | E25: ='PANEL DE CONTROL DISTRITAL'!E24 -> (Total de credenciales entregadas / Total de credenciales solicitadas) x 100 | F25: ='PANEL DE CONTROL DISTRITAL'!F24 -> Semanal (remesa) | G25: ='PANEL DE CONTROL DISTRITAL'!G24 -> 0.9 | H25: ='PANEL DE CONTROL DISTRITAL'!H24 -> Total de credenciales entregadas | I25: 2071 | J25: 3450 | K25: 2384 | L25: 756 | M25: 1984 | N25: 1290 | O25: 888 | P25: 740 | Q25: 693 | R25: 94 | S25: 676 | T25: 538 | U25: 302 | V25: 221 | W25: 269 | X25: 318 | Y25: 244 | Z25: 204 | AA25: 626 | AB25: 74 | AC25: 687 | AD25: 95 | AE25: 0 | AF25: =IFERROR(SUM(I25:AE25)/SUM(I26:AE26),0) -> 1
H26: ='PANEL DE CONTROL DISTRITAL'!H25 -> Total de credenciales solicitadas | I26: 2071 | J26: 3450 | K26: 2384 | L26: 756 | M26: 1984 | N26: 1290 | O26: 888 | P26: 740 | Q26: 693 | R26: 94 | S26: 676 | T26: 538 | U26: 302 | V26: 221 | W26: 269 | X26: 318 | Y26: 244 | Z26: 204 | AA26: 626 | AB26: 74 | AC26: 687 | AD26: 95 | AE26: 0
B27: *Registre el valor nominal solicitado en la celda, el resultado proporcional esta automatizado.
I29: Semaforización
J30: Valor que requiere atención y justificación en el apartado de observaciones
J31: Valor suficiente
J32: Valor esperado
B34: CUADRO DE OBSERVACIONES
B35: Descripción | H35: No conformidad

Sheet 090551
A1: ='PANEL DE CONTROL DISTRITAL'!A1:Q1 -> INSTITUTO NACIONAL ELECTORAL SISTEMA DE GESTIÓN DE LA CALIDAD CIUDAD DE MÉXICO
D2: Distrito | E2: 5 | F2: Módulo | H2: 90551
A4: TABLERO DE CONTROL DE PROCESOS SUSTANTIVOS DEL SISTEMA DE GESTIÓN DE LA CALIDAD
A6: ='PANEL DE CONTROL DISTRITAL'!A6 -> Número | B6: ='PANEL DE CONTROL DISTRITAL'!B6 -> PROCESOS SUSTANTIVOS E INDICADORES | I6: SEMANA OPERATIVA | AF6: % AVANCE REGISTRADO
B7: ='PANEL DE CONTROL DISTRITAL'!B7 -> DESCRIPCIÓN | E7: ='PANEL DE CONTROL DISTRITAL'!E7 -> MEDICIÓN | I7: ='PANEL DE CONTROL DISTRITAL'!A5 -> CAMPAÑA ANUAL PERMANENTE 2024
B9: ='PANEL DE CONTROL DISTRITAL'!B8 -> Proceso | C9: ='PANEL DE CONTROL DISTRITAL'!C8 -> Dueño de Proceso | D9: ='PANEL DE CONTROL DISTRITAL'!D8 -> Indicador | E9: ='PANEL DE CONTROL DISTRITAL'!E8 -> Cálculo | F9: ='PANEL DE CONTROL DISTRITAL'!F8 -> Periodo | G9: ='PANEL DE CONTROL DISTRITAL'!G8 -> Estimado | H9: ='PANEL DE CONTROL DISTRITAL'!H8 -> Nominativo | I9: ='090151'!I9 -> 2024-05 | J9: ='090151'!J9 -> 2024-06 | K9: ='090151'!K9 -> 2024-07 | L9: ='090151'!L9 -> 2024-08 | M9: ='090151'!M9 -> 2024-09 | N9: ='090151'!N9 -> 2024-10 | O9: ='090151'!O9 -> 2024-11 | P9: ='090151'!P9 -> 2024-12 | ... AE9: ='090151'!AE9 -> 2024-27
A10: ='PANEL DE CONTROL DISTRITAL'!A9 -> 1 | B10: ='PANEL DE CONTROL DISTRITAL'!B9 -> ENTREVISTA | C10: ='PANEL DE CONTROL DISTRITAL'!C9 -> Auxiliar de Atención Ciudadana | D10: ='PANEL DE CONTROL DISTRITAL'!D9 -> Efectividad de la entrevista = | E10: ='PANEL DE CONTROL DISTRITAL'!E9 -> (Número de trámites aplicados / (Número de fichas requisitadas - Notificaciones de improcedencia de trámite)) x 100 | F10: ='PANEL DE CONTROL DISTRITAL'!F9 -> Semanal (remesa) | G10: ='PANEL DE CONTROL DISTRITAL'!G9 -> 0.9 | H10: ='PANEL DE CONTROL DISTRITAL'!H9 -> Número de trámites aplicados | I10: 428 | J10: 559 | K10: 480 | L10: 69 | M10: 317 | N10: 349 | O10: 429 | P10: 346 | Q10: 248 | R10: 39 | S10: 213 | T10: 214 | U10: 274 | V10: 273 | W10: 329 | X10: 357 | Y10: 337 | Z10: 439 | AA10: 588 | AB10: 188 | AC10: 0 | AD10: 0 | AE10: 0 | AF10: =IFERROR(SUM(I10:AE10)/SUM(I11:AE11),0) -> 0.99969126
H11: ='PANEL DE CONTROL DISTRITAL'!H10 -> Número de fichas requisitadas - Notificaciones de improcedencia de trámite | I11: 428 | J11: 559 | K11: 480 | L11: 69 | M11: 317 | N11: 349 | O11: 429 | P11: 346 | Q11: 248 | R11: 39 | S11: 213 | T11: 214 | U11: 274 | V11: 274 | W11: 329 | X11: 358 | Y11: 337 | Z11: 439 | AA11: 588 | AB11: 188 | AC11: 0 | AD11: 0 | AE11: 0
A13: ='PANEL DE CONTROL DISTRITAL'!A12 -> 2 | B13: ='PANEL DE CONTROL DISTRITAL'!B12 -> TRÁMITE | C13: ='PANEL DE CONTROL DISTRITAL'!C12 -> Operador de Equipo Tecnológico | D13: ='PANEL DE CONTROL DISTRITAL'!D12 -> Trámites exitosos efectivos= | E13: ='PANEL DE CONTROL DISTRITAL'!E12 -> (Número de trámites exitosos / Número de trámites aplicados) x 100 | F13: ='PANEL DE CONTROL DISTRITAL'!F12 -> Semanal (remesa) | G13: ='PANEL DE CONTROL DISTRITAL'!G12 -> 0.9 | H13: ='PANEL DE CONTROL DISTRITAL'!H12 -> Número de trámites exitosos | I13: 427 | J13: 558 | K13: 479 | L13: 69 | M13: 317 | N13: 349 | O13: 428 | P13: 346 | Q13: 248 | R13: 39 | S13: 213 | T13: 214 | U13: 274 | V13: 273 | W13: 329 | X13: 357 | Y13: 337 | Z13: 439 | AA13: 587 | AB13: 188 | AC13: 0 | AD13: 0 | AE13: 0 | AF13: =IFERROR(SUM(I13:AE13)/SUM(I14:AE14),0) -> 0.99922792
H14: ='PANEL DE CONTROL DISTRITAL'!H13 -> Número de trámites aplicados | I14: 428 | J14: 559 | K14: 480 | L14: 69 | M14: 317 | N14: 349 | O14: 429 | P14: 346 | Q14: 248 | R14: 39 | S14: 213 | T14: 214 | U14: 274 | V14: 273 | W14: 329 | X14: 357 | Y14: 337 | Z14: 439 | AA14: 588 | AB14: 188 | AC14: 0 | AD14: 0 | AE14: 0
A16: ='PANEL DE CONTROL DISTRITAL'!A15 -> 3 | B16: ='PANEL DE CONTROL DISTRITAL'!B15 -> TRANSFERENCIA | C16: ='PANEL DE CONTROL DISTRITAL'!C15 -> Responsable de Módulo | D16: ='PANEL DE CONTROL DISTRITAL'!D15 -> Transacciones exitosas = | E16: ='PANEL DE CONTROL DISTRITAL'!E15 -> (Número de Archivos de Transacción aceptados /Total de Archivos de Transacción procesados) x100 | F16: ='PANEL DE CONTROL DISTRITAL'!F15 -> Semanal (remesa) | G16: ='PANEL DE CONTROL DISTRITAL'!G15 -> 0.9 | H16: ='PANEL DE CONTROL DISTRITAL'!H15 -> Número de Archivos de Transacción aceptados | I16: 428 | J16: 559 | K16: 480 | L16: 69 | M16: 317 | N16: 349 | O16: 429 | P16: 346 | Q16: 248 | R16: 39 | S16: 213 | T16: 214 | U16: 274 | V16: 273 | W16: 328 | X16: 357 | Y16: 337 | Z16: 439 | AA16: 588 | AB16: 188 | AC16: 0 | AD16: 0 | AE16: 0 | AF16: =IFERROR(SUM(I16:AE16)/SUM(I17:AE17),0) -> 0.99984558
H17: ='PANEL DE CONTROL DISTRITAL'!H16 -> Total de Archivos de Transacción procesados | I17: 428 | J17: 559 | K17: 480 | L17: 69 | M17: 317 | N17: 349 | O17: 429 | P17: 346 | Q17: 248 | R17: 39 | S17: 213 | T17: 214 | U17: 274 | V17: 273 | W17: 329 | X17: 357 | Y17: 337 | Z17: 439 | AA17: 588 | AB17: 188 | AC17: 0 | AD17: 0 | AE17: 0
A19: ='PANEL DE CONTROL DISTRITAL'!A18 -> 4 | B19: ='PANEL DE CONTROL DISTRITAL'!B18 -> CONCILIACIÓN | C19: ='PANEL DE CONTROL DISTRITAL'!C18 -> Responsable de Módulo | D19: ='PANEL DE CONTROL DISTRITAL'!D18 -> Credenciales disponibles para entrega = | E19: ='PANEL DE CONTROL DISTRITAL'!E18 -> ((Credenciales recibidas - Credenciales inconsistentes) / Credenciales recibidas) x 100 | F19: ='PANEL DE CONTROL DISTRITAL'!F18 -> Semanal (remesa) | G19: ='PANEL DE CONTROL DISTRITAL'!G18 -> 0.9 | H19: ='PANEL DE CONTROL DISTRITAL'!H18 -> Credenciales Recibidas - Credenciales inconsistentes | I19: 1957 | J19: 2454 | K19: 688 | L19: 157 | M19: 434 | N19: 359 | O19: 376 | P19: 377 | Q19: 287 | R19: 54 | S19: 229 | T19: 163 | U19: 335 | V19: 269 | W19: 285 | X19: 353 | Y19: 307 | Z19: 453 | AA19: 491 | AB19: 110 | AC19: 330 | AD19: 0 | AE19: 0 | AF19: =IFERROR(SUM(I19:AE19)/SUM(I20:AE20),0) -> 1
H20: ='PANEL DE CONTROL DISTRITAL'!H19 -> Credenciales recibidas | I20: 1957 | J20: 2454 | K20: 688 | L20: 157 | M20: 434 | N20: 359 | O20: 376 | P20: 377 | Q20: 287 | R20: 54 | S20: 229 | T20: 163 | U20: 335 | V20: 269 | W20: 285 | X20: 353 | Y20: 307 | Z20: 453 | AA20: 491 | AB20: 110 | AC20: 330 | AD20: 0 | AE20: 0
A22: ='PANEL DE CONTROL DISTRITAL'!A21 -> 5 | B22: ='PANEL DE CONTROL DISTRITAL'!B21 -> CONCILIACIÓN | C22: ='PANEL DE CONTROL DISTRITAL'!C21 -> Responsable de Módulo | D22: ='PANEL DE CONTROL DISTRITAL'!D21 -> Credenciales disponibles para entrega = | E22: ='PANEL DE CONTROL DISTRITAL'!E21 -> (Credenciales en resguardo / Credenciales totales en SIIRFE disponibles para entrega) x 100 | F22: ='PANEL DE CONTROL DISTRITAL'!F21 -> Semanal (remesa) | G22: ='PANEL DE CONTROL DISTRITAL'!G21 -> 1 | H22: ='PANEL DE CONTROL DISTRITAL'!H21 -> Credenciales en resguardo | I22: 2680 | J22: 2212 | K22: 2557 | L22: 1968 | M22: 1472 | N22: 1164 | O22: 936 | P22: 817 | Q22: 675 | R22: 643 | S22: 598 | T22: 578 | U22: 630 | V22: 661 | W22: 675 | X22: 682 | Y22: 673 | Z22: 728 | AA22: 837 | AB22: 794 | AC22: 706 | AD22: 398 | AE22: 0 | AF22: =IFERROR(SUM(I22:AE22)/SUM(I23:AE23),0) -> 1
H23: ='PANEL DE CONTROL DISTRITAL'!H22 -> Credenciales totales en SIIRFE disponibles para entrega | I23: 2680 | J23: 2212 | K23: 2557 | L23: 1968 | M23: 1472 | N23: 1164 | O23: 936 | P23: 817 | Q23: 675 | R23: 643 | S23: 598 | T23: 578 | U23: 630 | V23: 661 | W23: 675 | X23: 682 | Y23: 673 | Z23: 728 | AA23: 837 | AB23: 794 | AC23: 706 | AD23: 398 | AE23: 0
A25: ='PANEL DE CONTROL DISTRITAL'!A24 -> 6 | B25: ='PANEL DE CONTROL DISTRITAL'!B24 -> ENTREGA | C25: ='PANEL DE CONTROL DISTRITAL'!C24 -> Operador de Equipo Tecnológico | D25: ='PANEL DE CONTROL DISTRITAL'!D24 -> Efectividad de entrega de CPV en MAC = | E25: ='PANEL DE CONTROL DISTRITAL'!E24 -> (Total de credenciales entregadas / Total de credenciales solicitadas) x 100 | F25: ='PANEL DE CONTROL DISTRITAL'!F24 -> Semanal (remesa) | G25: ='PANEL DE CONTROL DISTRITAL'!G24 -> 0.9 | H25: ='PANEL DE CONTROL DISTRITAL'!H24 -> Total de credenciales entregadas | I25: 1614 | J25: 2922 | K25: 734 | L25: 346 | M25: 930 | N25: 667 | O25: 556 | P25: 496 | Q25: 429 | R25: 86 | S25: 274 | T25: 183 | U25: 283 | V25: 238 | W25: 271 | X25: 346 | Y25: 316 | Z25: 398 | AA25: 382 | AB25: 153 | AC25: 418 | AD25: 308 | AE25: 0 | AF25: =IFERROR(SUM(I25:AE25)/SUM(I26:AE26),0) -> 1
H26: ='PANEL DE CONTROL DISTRITAL'!H25 -> Total de credenciales solicitadas | I26: 1614 | J26: 2922 | K26: 734 | L26: 346 | M26: 930 | N26: 667 | O26: 556 | P26: 496 | Q26: 429 | R26: 86 | S26: 274 | T26: 183 | U26: 283 | V26: 238 | W26: 271 | X26: 346 | Y26: 316 | Z26: 398 | AA26: 382 | AB26: 153 | AC26: 418 | AD26: 308 | AE26: 0
B27: *Registre el valor nominal solicitado en la celda, el resultado proporcional esta automatizado.
I29: Semaforización
J30: Valor que requiere atención y justificación en el apartado de observaciones
J31: Valor suficiente
J32: Valor esperado
B34: CUADRO DE OBSERVACIONES
B35: Descripción | H35: No conformidad

Sheet 090651
A1: ='PANEL DE CONTROL DISTRITAL'!A1:Q1 -> INSTITUTO NACIONAL ELECTORAL SISTEMA DE GESTIÓN DE LA CALIDAD CIUDAD DE MÉXICO
D2: Distrito | E2: 6 | F2: Módulo | H2: 90651
A4: TABLERO DE CONTROL DE PROCESOS SUSTANTIVOS DEL SISTEMA DE GESTIÓN DE LA CALIDAD
A6: ='PANEL DE CONTROL DISTRITAL'!A6 -> Número | B6: ='PANEL DE CONTROL DISTRITAL'!B6 -> PROCESOS SUSTANTIVOS E INDICADORES | I6: SEMANA OPERATIVA | AF6: % AVANCE REGISTRADO
B7: ='PANEL DE CONTROL DISTRITAL'!B7 -> DESCRIPCIÓN | E7: ='PANEL DE CONTROL DISTRITAL'!E7 -> MEDICIÓN | I7: ='PANEL DE CONTROL DISTRITAL'!A5 -> CAMPAÑA ANUAL PERMANENTE 2024
B9: ='PANEL DE CONTROL DISTRITAL'!B8 -> Proceso | C9: ='PANEL DE CONTROL DISTRITAL'!C8 -> Dueño de Proceso | D9: ='PANEL DE CONTROL DISTRITAL'!D8 -> Indicador | E9: ='PANEL DE CONTROL DISTRITAL'!E8 -> Cálculo | F9: ='PANEL DE CONTROL DISTRITAL'!F8 -> Periodo | G9: ='PANEL DE CONTROL DISTRITAL'!G8 -> Estimado | H9: ='PANEL DE CONTROL DISTRITAL'!H8 -> Nominativo | I9: ='090151'!I9 -> 2024-05 | J9: ='090151'!J9 -> 2024-06 | K9: ='090151'!K9 -> 2024-07 | L9: ='090151'!L9 -> 2024-08 | M9: ='090151'!M9 -> 2024-09 | N9: ='090151'!N9 -> 2024-10 | O9: ='090151'!O9 -> 2024-11 | P9: ='090151'!P9 -> 2024-12 | ... AE9: ='090151'!AE9 -> 2024-27
A10: ='PANEL DE CONTROL DISTRITAL'!A9 -> 1 | B10: ='PANEL DE CONTROL DISTRITAL'!B9 -> ENTREVISTA | C10: ='PANEL DE CONTROL DISTRITAL'!C9 -> Auxiliar de Atención Ciudadana | D10: ='PANEL DE CONTROL DISTRITAL'!D9 -> Efectividad de la entrevista = | E10: ='PANEL DE CONTROL DISTRITAL'!E9 -> (Número de trámites aplicados / (Número de fichas requisitadas - Notificaciones de improcedencia de trámite)) x 100 | F10: ='PANEL DE CONTROL DISTRITAL'!F9 -> Semanal (remesa) | G10: ='PANEL DE CONTROL DISTRITAL'!G9 -> 0.9 | H10: ='PANEL DE CONTROL DISTRITAL'!H9 -> Número de trámites aplicados | I10: 495 | J10: 612 | K10: 637 | L10: 76 | M10: 357 | N10: 343 | O10: 380 | P10: 379 | Q10: 250 | R10: 48 | S10: 181 | T10: 188 | U10: 299 | V10: 272 | W10: 323 | X10: 308 | Y10: 324 | Z10: 398 | AA10: 571 | AB10: 205 | AC10: 0 | AD10: 2 | AE10: 0 | AF10: =IFERROR(SUM(I10:AE10)/SUM(I11:AE11),0) -> 0.99535859
H11: ='PANEL DE CONTROL DISTRITAL'!H10 -> Número de fichas requisitadas - Notificaciones de improcedencia de trámite | I11: 499 | J11: 616 | K11: 650 | L11: 76 | M11: 359 | N11: 343 | O11: 380 | P11: 379 | Q11: 252 | R11: 48 | S11: 181 | T11: 188 | U11: 300 | V11: 273 | W11: 323 | X11: 308 | Y11: 324 | Z11: 398 | AA11: 571 | AB11: 209 | AC11: 0 | AD11: 2 | AE11: 0
A13: ='PANEL DE CONTROL DISTRITAL'!A12 -> 2 | B13: ='PANEL DE CONTROL DISTRITAL'!B12 -> TRÁMITE | C13: ='PANEL DE CONTROL DISTRITAL'!C12 -> Operador de Equipo Tecnológico | D13: ='PANEL DE CONTROL DISTRITAL'!D12 -> Trámites exitosos efectivos= | E13: ='PANEL DE CONTROL DISTRITAL'!E12 -> (Número de trámites exitosos / Número de trámites aplicados) x 100 | F13: ='PANEL DE CONTROL DISTRITAL'!F12 -> Semanal (remesa) | G13: ='PANEL DE CONTROL DISTRITAL'!G12 -> 0.9 | H13: ='PANEL DE CONTROL DISTRITAL'!H12 -> Número de trámites exitosos | I13: 495 | J13: 611 | K13: 636 | L13: 76 | M13: 357 | N13: 342 | O13: 380 | P13: 379 | Q13: 250 | R13: 48 | S13: 181 | T13: 188 | U13: 299 | V13: 272 | W13: 322 | X13: 308 | Y13: 324 | Z13: 398 | AA13: 570 | AB13: 205 | AC13: 0 | AD13: 2 | AE13: 0 | AF13: =IFERROR(SUM(I13:AE13)/SUM(I14:AE14),0) -> 0.99924789
H14: ='PANEL DE CONTROL DISTRITAL'!H13 -> Número de trámites aplicados | I14: 495 | J14: 612 | K14: 637 | L14: 76 | M14: 357 | N14: 343 | O14: 380 | P14: 379 | Q14: 250 | R14: 48 | S14: 181 | T14: 188 | U14: 299 | V14: 272 | W14: 323 | X14: 308 | Y14: 324 | Z14: 398 | AA14: 571 | AB14: 205 | AC14: 0 | AD14: 2 | AE14: 0
A16: ='PANEL DE CONTROL DISTRITAL'!A15 -> 3 | B16: ='PANEL DE CONTROL DISTRITAL'!B15 -> TRANSFERENCIA | C16: ='PANEL DE CONTROL DISTRITAL'!C15 -> Responsable de Módulo | D16: ='PANEL DE CONTROL DISTRITAL'!D15 -> Transacciones exitosas = | E16: ='PANEL DE CONTROL DISTRITAL'!E15 -> (Número de Archivos de Transacción aceptados /Total de Archivos de Transacción procesados) x100 | F16: ='PANEL DE CONTROL DISTRITAL'!F15 -> Semanal (remesa) | G16: ='PANEL DE CONTROL DISTRITAL'!G15 -> 0.9 | H16: ='PANEL DE CONTROL DISTRITAL'!H15 -> Número de Archivos de Transacción aceptados | I16: 495 | J16: 612 | K16: 637 | L16: 76 | M16: 357 | N16: 343 | O16: 380 | P16: 379 | Q16: 250 | R16: 48 | S16: 181 | T16: 188 | U16: 299 | V16: 272 | W16: 323 | X16: 307 | Y16: 324 | Z16: 398 | AA16: 571 | AB16: 205 | AC16: 0 | AD16: 2 | AE16: 0 | AF16: =IFERROR(SUM(I16:AE16)/SUM(I17:AE17),0) -> 0.99984958
