Workbook

Sheet PANEL DE CONTROL DISTRITAL
A1: INSTITUTO NACIONAL ELECTORAL SISTEMA DE GESTIÓN DE LA CALIDAD CIUDAD DE MÉXICO
M2: Fecha de corte dd/mm/aaaa | Q2: Version 0
A4: TABLERO DE CONTROL DISTRITAL DE PROCESOS SUSTANTIVOS DEL SISTEMA DE GESTIÓN DE LA CALIDAD
A5: CAMPAÑA ANUAL PERMANENTE 2024
A6: Número | B6: PROCESOS SUSTANTIVOS E INDICADORES | I6: % AVANCE REGISTRADO | K6: % AVANCE REGISTRADO | M6: % AVANCE REGISTRADO | O6: % AVANCE REGISTRADO | Q6: % AVANCE REGISTRADO | S6: % AVANCE REGISTRADO | U6: % AVANCE REGISTRADO | W6: % AVANCE REGISTRADO | Y6: % AVANCE REGISTRADO | AA6: % AVANCE REGISTRADO | AC6: % AVANCE REGISTRADO | AE6: % AVANCE REGISTRADO | AG6: % AVANCE REGISTRADO | AI6: % AVANCE REGISTRADO | AK6: % AVANCE REGISTRADO | AM6: % AVANCE REGISTRADO | AO6: % AVANCE REGISTRADO | AQ6: % AVANCE REGISTRADO | AS6: % AVANCE REGISTRADO | AU6: % AVANCE REGISTRADO | AW6: % AVANCE REGISTRADO | AY6: % AVANCE REGISTRADO | BB6: % AVANCE REGISTRADO
B7: DESCRIPCIÓN | E7: MEDICIÓN
B8: Proceso | C8: Dueño de Proceso | D8: Indicador | E8: Cálculo | F8: Periodo | G8: Estimado | H8: Nominativo | I8: Distrito 01 | K8: Distrito 02 | M8: Distrito 03 | O8: Distrito 04 | Q8: Distrito 05 | S8: Distrito 06 | U8: Distrito 07 | W8: Distrito 08 | Y8: Distrito 09 | AA8: Distrito 10 | AC8: Distrito 11 | AE8: Distrito 12 | AG8: Distrito 13 | AI8: Distrito 14 | AK8: Distrito 15 | AM8: Distrito 16 | AO8: Distrito 17 | AQ8: Distrito 18 | AS8: Distrito 19 | AU8: Distrito 20 | AW8: Distrito 21 | AY8: Distrito 22 | BB8: Estatal
A9: 1 | B9: ENTREVISTA | C9: Auxiliar de Atención Ciudadana | D9: Efectividad de la entrevista = | E9: (Número de trámites aplicados / (Número de fichas requisitadas - Notificaciones de improcedencia de trámite)) x 100 | F9: Semanal (remesa) | G9: 0.9 | H9: Número de trámites aplicados | I9: =AVERAGE('090151'!AF10:AF11) -> 0.99876142 | K9: =AVERAGE('090251'!AF10:AF11) -> 0.99960393 | M9: =AVERAGE('090351'!AF10:AF11) -> 0.97401309 | O9: =AVERAGE('090451'!AF10:AF11) -> 0.99190086 | Q9: =AVERAGE('090551'!AF10:AF11) -> 0.99969126 | S9: =AVERAGE('090651'!AF10:AF11) -> 0.99535859 | U9: =AVERAGE('090751'!AF10:AF11) -> 0.99229152 | W9: =AVERAGE('090853'!AF10:AF11,'090852'!AF10:AF11) -> 0.98270487 | Y9: =AVERAGE('090951'!AF10:AF11) -> 0.99860763 | AA9: =AVERAGE('091051'!AF10:AF11) -> 1 | AC9: =AVERAGE('091151'!AF10:AF11) -> 1 | AE9: =AVERAGE('091251'!AF10:AF11,'091252'!AF10:AF11,'091253'!AF10:AF11) -> 0.97559461 | AG9: =AVERAGE('091351'!AF10:AF11) -> 1 | AI9: =AVERAGE('091451'!AF10:AF11) -> 0.99773124 | AK9: =AVERAGE('091551'!AF10:AF11,'091552'!AF10:AF11) -> 0.99672174 | AM9: =AVERAGE('091651'!AF10:AF11) -> 1 | AO9: =AVERAGE('091751'!AF10:AF11) -> 0.99285714 | AQ9: =AVERAGE('091851'!AF10:AF11) -> 0.99881033 | AS9: =AVERAGE('091952'!AF10:AF11) -> 0.99521179 | AU9: =AVERAGE('092051'!AF10:AF11) -> 0.99267481 | AW9: =AVERAGE('092151'!AF10:AF11,'092152'!AF10:AF11) -> 1 | AY9: =AVERAGE('092251'!AF10:AF11) -> 0.95106799 | BB9: =AVERAGE(I9,K9,M9,O9,Q9,S9,U9,W9,Y9,AA9,AC9,AE9,AG9,AI9,AK9,AM9,AO9,AQ9,AS9,AU9,AW9,AY9) -> 0.99243649
H10: Número de fichas requisitadas - Notificaciones de improcedencia de trámite
A12: 2 | B12: TRÁMITE | C12: Operador de Equipo Tecnológico | D12: Trámites exitosos efectivos= | E12: (Número de trámites exitosos / Número de trámites aplicados) x 100 | F12: Semanal (remesa) | G12: 0.9 | H12: Número de trámites exitosos | I12: =AVERAGE('090151'!AF13:AF14) -> 0.99906991 | K12: =AVERAGE('090251'!AF13:AF14) -> 0.99849433 | M12: =AVERAGE('090351'!AF13:AF14) -> 0.99949084 | O12: =AVERAGE('090451'!AF13:AF14) -> 0.99901623 | Q12: =AVERAGE('090551'!AF13:AF14) -> 0.99922792 | S12: =AVERAGE('090651'!AF13:AF14) -> 0.99924789 | U12: =AVERAGE('090751'!AF13:AF14) -> 0.99894068 | W12: =AVERAGE('090853'!AF13:AF14,'090852'!AF13:AF14) -> 0.99917003 | Y12: =AVERAGE('090951'!AF13:AF14) -> 0.99916341 | AA12: =AVERAGE('091051'!AF13:AF14) -> 0.99696344 | AC12: =AVERAGE('091151'!AF13:AF14) -> 0.9990309 | AE12: =AVERAGE('091251'!AF13:AF14,'091252'!AF13:AF14,'091253'!AF13:AF14) -> 0.9987494 | AG12: =AVERAGE('091351'!AF13:AF14) -> 0.99930949 | AI12: =AVERAGE('091451'!AF13:AF14) -> 0.99912542 | AK12: =AVERAGE('091551'!AF13:AF14,'091552'!AF13:AF14) -> 0.9983845 | AM12: =AVERAGE('091651'!AF13:AF14) -> 0.99880015 | AO12: =AVERAGE('091751'!AF13:AF14) -> 0.99691675 | AQ12: =AVERAGE('091851'!AF13:AF14) -> 0.99880892 | AS12: =AVERAGE('091952'!AF13:AF14) -> 0.99833457 | AU12: =AVERAGE('092051'!AF13:AF14) -> 0.99060823 | AW12: =AVERAGE('092151'!AF13:AF14,'092152'!AF13:AF14) -> 0.99888246 | AY12: =AVERAGE('092251'!AF13:AF14) -> 0.9991947 | BB12: =AVERAGE(I12,K12,M12,O12,Q12,S12,U12,W12,Y12,AA12,AC12,AE12,AG12,AI12,AK12,AM12,AO12,AQ12,AS12,AU12,AW12,AY12) -> 0.99840592
H13: Número de trámites aplicados
A15: 3 | B15: TRANSFERENCIA | C15: Responsable de Módulo | D15: Transacciones exitosas = | E15: (Número de Archivos de Transacción aceptados /Total de Archivos de Transacción procesados) x100 | F15: Semanal (remesa) | G15: 0.9 | H15: Número de Archivos de Transacción aceptados | I15: =AVERAGE('090151'!AF16:AF17) -> 1 | K15: =AVERAGE('090251'!AF16:AF17) -> 1 | M15: =AVERAGE('090351'!AF16:AF17) -> 0.99989817 | O15: =AVERAGE('090451'!AF16:AF17) -> 0.99626168 | Q15: =AVERAGE('090551'!AF16:AF17) -> 0.99984558 | S15: =AVERAGE('090651'!AF16:AF17) -> 0.99984958 | U15: =AVERAGE('090751'!AF16:AF17) -> 0.9998823 | W15: =AVERAGE('090853'!AF16:AF17,'090852'!AF16:AF17) -> 0.99983623 | Y15: =AVERAGE('090951'!AF16:AF17) -> 1 | AA15: =AVERAGE('091051'!AF16:AF17) -> 1 | AC15: =AVERAGE('091151'!AF16:AF17) -> 1 | AE15: =AVERAGE('091251'!AF16:AF17,'091252'!AF16:AF17,'091253'!AF16:AF17) -> 0.99953681 | AG15: =AVERAGE('091351'!AF16:AF17) -> 1 | AI15: =AVERAGE('091451'!AF16:AF17) -> 1 | AK15: =AVERAGE('091551'!AF16:AF17,'091552'!AF16:AF17) -> 0.99128828 | AM15: =AVERAGE('091651'!AF16:AF17) -> 0.99962505 | AO15: =AVERAGE('091751'!AF16:AF17) -> 0.99970636 | AQ15: =AVERAGE('091851'!AF16:AF17) -> 0.99982985 | AS15: =AVERAGE('091952'!AF16:AF17) -> 0.99981495 | AU15: =AVERAGE('092051'!AF16:AF17) -> 0.99910555 | AW15: =AVERAGE('092151'!AF16:AF17,'092152'!AF16:AF17) -> 0.99983777 | AY15: =AVERAGE('092251'!AF16:AF17) -> 1 | BB15: =AVERAGE(I15,K15,M15,O15,Q15,S15,U15,W15,Y15,AA15,AC15,AE15,AG15,AI15,AK15,AM15,AO15,AQ15,AS15,AU15,AW15,AY15) -> 0.99928719
H16: Total de Archivos de Transacción procesados
A18: 4 | B18: CONCILIACIÓN | C18: Responsable de Módulo | D18: Credenciales disponibles para entrega = | E18: ((Credenciales recibidas - Credenciales inconsistentes) / Credenciales recibidas) x 100 | F18: Semanal (remesa) | G18: 0.9 | H18: Credenciales Recibidas - Credenciales inconsistentes | I18: =AVERAGE('090151'!AF19:AF20) -> 0.99954955 | K18: =AVERAGE('090251'!AF19:AF20) -> 0.99978316 | M18: =AVERAGE('090351'!AF19:AF20) -> 1 | O18: =AVERAGE('090451'!AF19:AF20) -> 1 | Q18: =AVERAGE('090551'!AF19:AF20) -> 1 | S18: =AVERAGE('090651'!AF19:AF20) -> 1 | U18: =AVERAGE('090751'!AF19:AF20) -> 1 | W18: =AVERAGE('090853'!AF19:AF20,'090852'!AF19:AF20) -> 0.99996092 | Y18: =AVERAGE('090951'!AF19:AF20) -> 1 | AA18: =AVERAGE('091051'!AF19:AF20) -> 1 | AC18: =AVERAGE('091151'!AF19:AF20) -> 1 | AE18: =AVERAGE('091251'!AF19:AF20,'091252'!AF19:AF20,'091253'!AF19:AF20) -> 1 | AG18: =AVERAGE('091351'!AF19:AF20) -> 1 | AI18: =AVERAGE('091451'!AF19:AF20) -> 1 | AK18: =AVERAGE('091551'!AF19:AF20,'091552'!AF19:AF20) -> 1 | AM18: =AVERAGE('091651'!AF19:AF20) -> 1 | AO18: =AVERAGE('091751'!AF19:AF20) -> 1 | AQ18: =AVERAGE('091851'!AF19:AF20) -> 1 | AS18: =AVERAGE('091952'!AF19:AF20) -> 1 | AU18: =AVERAGE('092051'!AF19:AF20) -> 1 | AW18: =AVERAGE('092151'!AF19:AF20,'092152'!AF19:AF20) -> 1 | AY18: =AVERAGE('092251'!AF19:AF20) -> 1 | BB18: =AVERAGE(I18,K18,M18,O18,Q18,S18,U18,W18,Y18,AA18,AC18,AE18,AG18,AI18,AK18,AM18,AO18,AQ18,AS18,AU18,AW18,AY18) -> 0.99996789
H19: Credenciales recibidas
A21: 5 | B21: CONCILIACIÓN | C21: Responsable de Módulo | D21: Credenciales disponibles para entrega = | E21: (Credenciales en resguardo / Credenciales totales en SIIRFE disponibles para entrega) x 100 | F21: Semanal (remesa) | G21: 1 | H21: Credenciales en resguardo | I21: =AVERAGE('090151'!AF22:AF23) -> 1.0001644 | K21: =AVERAGE('090251'!AF22:AF23) -> 1 | M21: =AVERAGE('090351'!AF22:AF23) -> 1 | O21: =AVERAGE('090451'!AF22:AF23) -> 1 | Q21: =AVERAGE('090551'!AF22:AF23) -> 1 | S21: =AVERAGE('090651'!AF22:AF23) -> 1 | U21: =AVERAGE('090751'!AF22:AF23) -> 1 | W21: =AVERAGE('090853'!AF22:AF23,'090852'!AF22:AF23) -> 1.0000338 | Y21: =AVERAGE('090951'!AF22:AF23) -> 1 | AA21: =AVERAGE('091051'!AF22:AF23) -> 1 | AC21: =AVERAGE('091151'!AF22:AF23) -> 1 | AE21: =AVERAGE('091251'!AF22:AF23,'091252'!AF22:AF23,'091253'!AF22:AF23) -> 1 | AG21: =AVERAGE('091351'!AF22:AF23) -> 1 | AI21: =AVERAGE('091451'!AF22:AF23) -> 1 | AK21: =AVERAGE('091551'!AF22:AF23,'091552'!AF22:AF23) -> 1 | AM21: =AVERAGE('091651'!AF22:AF23) -> 0.98566954 | AO21: =AVERAGE('091751'!AF22:AF23) -> 1 | AQ21: =AVERAGE('091851'!AF22:AF23) -> 1 | AS21: =AVERAGE('091952'!AF22:AF23) -> 1 | AU21: =AVERAGE('092051'!AF22:AF23) -> 1 | AW21: =AVERAGE('092151'!AF22:AF23,'092152'!AF22:AF23) -> 1 | AY21: =AVERAGE('092251'!AF22:AF23) -> 1 | BB21: =AVERAGE(I21,K21,M21,O21,Q21,S21,U21,W21,Y21,AA21,AC21,AE21,AG21,AI21,AK21,AM21,AO21,AQ21,AS21,AU21,AW21,AY21) -> 0.99935763
H22: Credenciales totales en SIIRFE disponibles para entrega
A24: 6 | B24: ENTREGA | C24: Operador de Equipo Tecnológico | D24: Efectividad de entrega de CPV en MAC = | E24: (Total de credenciales entregadas / Total de credenciales solicitadas) x 100 | F24: Semanal (remesa) | G24: 0.9 | H24: Total de credenciales entregadas | I24: =AVERAGE('090151'!AF25:AF26) -> 1 | K24: =AVERAGE('090251'!AF25:AF26) -> 1 | M24: =AVERAGE('090351'!AF25:AF26) -> 1 | O24: =AVERAGE('090451'!AF25:AF26) -> 1 | Q24: =AVERAGE('090551'!AF25:AF26) -> 1 | S24: =AVERAGE('090651'!AF25:AF26) -> 1 | U24: =AVERAGE('090751'!AF25:AF26) -> 1 | W24: =AVERAGE('090853'!AF25:AF26,'090852'!AF25:AF26) -> 1 | Y24: =AVERAGE('090951'!AF25:AF26) -> 0.99959077 | AA24: =AVERAGE('091051'!AF25:AF26) -> 0.99992482 | AC24: =AVERAGE('091151'!AF25:AF26) -> 0.99992619 | AE24: =AVERAGE('091251'!AF25:AF26,'091252'!AF25:AF26,'091253'!AF25:AF26) -> 1 | AG24: =AVERAGE('091351'!AF25:AF26) -> 1 | AI24: =AVERAGE('091451'!AF25:AF26) -> 1 | AK24: =AVERAGE('091551'!AF25:AF26,'091552'!AF25:AF26) -> 1 | AM24: =AVERAGE('091651'!AF25:AF26) -> 0.99995444 | AO24: =AVERAGE('091751'!AF25:AF26) -> 1 | AQ24: =AVERAGE('091851'!AF25:AF26) -> 0.98821113 | AS24: =AVERAGE('091952'!AF25:AF26) -> 0.99916535 | AU24: =AVERAGE('092051'!AF25:AF26) -> 0.99934002 | AW24: =AVERAGE('092151'!AF25:AF26,'092152'!AF25:AF26) -> 1 | AY24: =AVERAGE('092251'!AF25:AF26) -> 1 | BB24: =AVERAGE(I24,K24,M24,O24,Q24,S24,U24,W24,Y24,AA24,AC24,AE24,AG24,AI24,AK24,AM24,AO24,AQ24,AS24,AU24,AW24,AY24) -> 0.99936876
H25: Total de credenciales solicitadas

Sheet 090151
A1: ='PANEL DE CONTROL DISTRITAL'!A1:Q1 -> INSTITUTO NACIONAL ELECTORAL SISTEMA DE GESTIÓN DE LA CALIDAD CIUDAD DE MÉXICO
D2: Distrito | E2: 1 | F2: Módulo | H2: 90151
A4: TABLERO DE CONTROL DE PROCESOS SUSTANTIVOS DEL SISTEMA DE GESTIÓN DE LA CALIDAD
A6: ='PANEL DE CONTROL DISTRITAL'!A6 -> Número | B6: ='PANEL DE CONTROL DISTRITAL'!B6 -> PROCESOS SUSTANTIVOS E INDICADORES | I6: SEMANA OPERATIVA | AF6: % AVANCE REGISTRADO
B7: ='PANEL DE CONTROL DISTRITAL'!B7 -> DESCRIPCIÓN | E7: ='PANEL DE CONTROL DISTRITAL'!E7 -> MEDICIÓN | I7: ='PANEL DE CONTROL DISTRITAL'!A5 -> CAMPAÑA ANUAL PERMANENTE 2024
B9: ='PANEL DE CONTROL DISTRITAL'!B8 -> Proceso | C9: ='PANEL DE CONTROL DISTRITAL'!C8 -> Dueño de Proceso | D9: ='PANEL DE CONTROL DISTRITAL'!D8 -> Indicador | E9: ='PANEL DE CONTROL DISTRITAL'!E8 -> Cálculo | F9: ='PANEL DE CONTROL DISTRITAL'!F8 -> Periodo | G9: ='PANEL DE CONTROL DISTRITAL'!G8 -> Estimado | H9: ='PANEL DE CONTROL DISTRITAL'!H8 -> Nominativo | I9: 2024-05 | J9: 2024-06 | K9: 2024-07 | L9: 2024-08 | M9: 2024-09 | N9: 2024-10 | O9: 2024-11 | P9: 2024-12 | Q9: 2024-13 | R9: 2024-14 | S9: 2024-15 | T9: 2024-16 | U9: 2024-17 | V9: 2024-18 | W9: 2024-19 | X9: 2024-20 | Y9: 2024-21 | Z9: 2024-22 | AA9: 2024-23 | AB9: 2024-24 | AC9: 2024-25 | AD9: 2024-26 | AE9: 2024-27
A10: ='PANEL DE CONTROL DISTRITAL'!A9 -> 1 | B10: ='PANEL DE CONTROL DISTRITAL'!B9 -> ENTREVISTA | C10: ='PANEL DE CONTROL DISTRITAL'!C9 -> Auxiliar de Atención Ciudadana | D10: ='PANEL DE CONTROL DISTRITAL'!D9 -> Efectividad de la entrevista = | E10: ='PANEL DE CONTROL DISTRITAL'!E9 -> (Número de trámites aplicados / (Número de fichas requisitadas - Notificaciones de improcedencia de trámite)) x 100 | F10: ='PANEL DE CONTROL DISTRITAL'!F9 -> Semanal (remesa) | G10: ='PANEL DE CONTROL DISTRITAL'!G9 -> 0.9 | H10: ='PANEL DE CONTROL DISTRITAL'!H9 -> Número de trámites aplicados | I10: 380 | J10: 594 | K10: 555 | L10: 68 | M10: 369 | N10: 361 | O10: 452 | P10: 379 | Q10: 260 | R10: 56 | S10: 199 | T10: 186 | U10: 272 | V10: 280 | W10: 358 | X10: 330 | Y10: 265 | Z10: 393 | AA10: 497 | AB10: 193 | AC10: 4 | AD10: 0 | AE10: 0 | AF10: =IFERROR(SUM(I10:AE10)/SUM(I11:AE11),0) -> 0.99876142
H11: ='PANEL DE CONTROL DISTRITAL'!H10 -> Número de fichas requisitadas - Notificaciones de improcedencia de trámite | I11: 380 | J11: 594 | K11: 557 | L11: 68 | M11: 369 | N11: 361 | O11: 452 | P11: 379 | Q11: 263 | R11: 56 | S11: 199 | T11: 186 | U11: 272 | V11: 280 | W11: 359 | X11: 330 | Y11: 265 | Z11: 393 | AA11: 497 | AB11: 195 | AC11: 4 | AD11: 0 | AE11: 0
A13: ='PANEL DE CONTROL DISTRITAL'!A12 -> 2 | B13: ='PANEL DE CONTROL DISTRITAL'!B12 -> TRÁMITE | C13: ='PANEL DE CONTROL DISTRITAL'!C12 -> Operador de Equipo Tecnológico | D13: ='PANEL DE CONTROL DISTRITAL'!D12 -> Trámites exitosos efectivos= | E13: ='PANEL DE CONTROL DISTRITAL'!E12 -> (Número de trámites exitosos / Número de trámites aplicados) x 100 | F13: ='PANEL DE CONTROL DISTRITAL'!F12 -> Semanal (remesa) | G13: ='PANEL DE CONTROL DISTRITAL'!G12 -> 0.9 | H13: ='PANEL DE CONTROL DISTRITAL'!H12 -> Número de trámites exitosos | I13: 380 | J13: 594 | K13: 554 | L13: 68 | M13: 368 | N13: 361 | O13: 452 | P13: 379 | Q13: 260 | R13: 56 | S13: 199 | T13: 186 | U13: 272 | V13: 280 | W13: 358 | X13: 330 | Y13: 265 | Z13: 393 | AA13: 497 | AB13: 193 | AC13: 0 | AD13: 0 | AE13: 0 | AF13: =IFERROR(SUM(I13:AE13)/SUM(I14:AE14),0) -> 0.99906991
H14: ='PANEL DE CONTROL DISTRITAL'!H13 -> Número de trámites aplicados | I14: 380 | J14: 594 | K14: 555 | L14: 68 | M14: 369 | N14: 361 | O14: 452 | P14: 379 | Q14: 260 | R14: 56 | S14: 199 | T14: 186 | U14: 272 | V14: 280 | W14: 358 | X14: 330 | Y14: 265 | Z14: 393 | AA14: 497 | AB14: 193 | AC14: 4 | AD14: 0 | AE14: 0
A16: ='PANEL DE CONTROL DISTRITAL'!A15 -> 3 | B16: ='PANEL DE CONTROL DISTRITAL'!B15 -> TRANSFERENCIA | C16: ='PANEL DE CONTROL DISTRITAL'!C15 -> Responsable de Módulo | D16: ='PANEL DE CONTROL DISTRITAL'!D15 -> Transacciones exitosas = | E16: ='PANEL DE CONTROL DISTRITAL'!E15 -> (Número de Archivos de Transacción aceptados /Total de Archivos de Transacción procesados) x100 | F16: ='PANEL DE CONTROL DISTRITAL'!F15 -> Semanal (remesa) | G16: ='PANEL DE CONTROL DISTRITAL'!G15 -> 0.9 | H16: ='PANEL DE CONTROL DISTRITAL'!H15 -> Número de Archivos de Transacción aceptados | I16: 380 | J16: 594 | K16: 555 | L16: 68 | M16: 369 | N16: 361 | O16: 452 | P16: 379 | Q16: 260 | R16: 56 | S16: 199 | T16: 186 | U16: 272 | V16: 280 | W16: 358 | X16: 330 | Y16: 265 | Z16: 393 | AA16: 497 | AB16: 193 | AC16: 4 | AD16: 0 | AE16: 0 | AF16: =IFERROR(SUM(I16:AE16)/SUM(I17:AE17),0) -> 1
H17: ='PANEL DE CONTROL DISTRITAL'!H16 -> Total de Archivos de Transacción procesados | I17: 380 | J17: 594 | K17: 555 | L17: 68 | M17: 369 | N17: 361 | O17: 452 | P17: 379 | Q17: 260 | R17: 56 | S17: 199 | T17: 186 | U17: 272 | V17: 280 | W17: 358 | X17: 330 | Y17: 265 | Z17: 393 | AA17: 497 | AB17: 193 | AC17: 4 | AD17: 0 | AE17: 0
A19: ='PANEL DE CONTROL DISTRITAL'!A18 -> 4 | B19: ='PANEL DE CONTROL DISTRITAL'!B18 -> CONCILIACIÓN | C19: ='PANEL DE CONTROL DISTRITAL'!C18 -> Responsable de Módulo | D19: ='PANEL DE CONTROL DISTRITAL'!D18 -> Credenciales disponibles para entrega = | E19: ='PANEL DE CONTROL DISTRITAL'!E18 -> ((Credenciales recibidas - Credenciales inconsistentes) / Credenciales recibidas) x 100 | F19: ='PANEL DE CONTROL DISTRITAL'!F18 -> Semanal (remesa) | G19: ='PANEL DE CONTROL DISTRITAL'!G18 -> 0.9 | H19: ='PANEL DE CONTROL DISTRITAL'!H18 -> Credenciales Recibidas - Credenciales inconsistentes | I19: 963 | J19: 1848 | K19: 742 | L19: 186 | M19: 469 | N19: 395 | O19: 378 | P19: 408 | Q19: 347 | R19: 57 | S19: 216 | T19: 144 | U19: 314 | V19: 263 | W19: 342 | X19: 334 | Y19: 258 | Z19: 376 | AA19: 418 | AB19: 90 | AC19: 328 | AD19: 0 | AE19: 0 | AF19: =IFERROR(SUM(I19:AE19)/SUM(I20:AE20),0) -> 0.99954955
H20: ='PANEL DE CONTROL DISTRITAL'!H19 -> Credenciales recibidas | I20: 963 | J20: 1848 | K20: 742 | L20: 190 | M20: 469 | N20: 395 | O20: 378 | P20: 408 | Q20: 347 | R20: 57 | S20: 216 | T20: 144 | U20: 314 | V20: 263 | W20: 342 | X20: 334 | Y20: 258 | Z20: 376 | AA20: 418 | AB20: 90 | AC20: 328 | AD20: 0 | AE20: 0
A22: ='PANEL DE CONTROL DISTRITAL'!A21 -> 5 | B22: ='PANEL DE CONTROL DISTRITAL'!B21 -> CONCILIACIÓN | C22: ='PANEL DE CONTROL DISTRITAL'!C21 -> Responsable de Módulo | D22: ='PANEL DE CONTROL DISTRITAL'!D21 -> Credenciales disponibles para entrega = | E22: ='PANEL DE CONTROL DISTRITAL'!E21 -> (Credenciales en resguardo / Credenciales totales en SIIRFE disponibles para entrega) x 100 | F22: ='PANEL DE CONTROL DISTRITAL'!F21 -> Semanal (remesa) | G22: ='PANEL DE CONTROL DISTRITAL'!G21 -> 1 | H22: ='PANEL DE CONTROL DISTRITAL'!H21 -> Credenciales en resguardo | I22: 2326 | J22: 1823 | K22: 1659 | L22: 1470 | M22: 1083 | N22: 939 | O22: 794 | P22: 586 | Q22: 576 | R22: 585 | S22: 559 | T22: 532 | U22: 597 | V22: 606 | W22: 619 | X22: 676 | Y22: 616 | Z22: 589 | AA22: 501 | AB22: 500 | AC22: 366 | AD22: 245 | AE22: 0 | AF22: =IFERROR(SUM(I22:AE22)/SUM(I23:AE23),0) -> 1.0001644
H23: ='PANEL DE CONTROL DISTRITAL'!H22 -> Credenciales totales en SIIRFE disponibles para entrega | I23: 2326 | J23: 1823 | K23: 1656 | L23: 1470 | M23: 1083 | N23: 939 | O23: 794 | P23: 586 | Q23: 576 | R23: 585 | S23: 559 | T23: 532 | U23: 597 | V23: 606 | W23: 619 | X23: 676 | Y23: 616 | Z23: 589 | AA23: 501 | AB23: 500 | AC23: 366 | AD23: 245 | AE23: 0
A25: ='PANEL DE CONTROL DISTRITAL'!A24 -> 6 | B25: ='PANEL DE CONTROL DISTRITAL'!B24 -> ENTREGA | C25: ='PANEL DE CONTROL DISTRITAL'!C24 -> Operador de Equipo Tecnológico | D25: ='PANEL DE CONTROL DISTRITAL'!D24 -> Efectividad de entrega de CPV en MAC = | E25: ='PANEL DE CONTROL DISTRITAL'!E24 -> (Total de credenciales entregadas / Total de credenciales solicitadas) x 100 | F25: ='PANEL DE CONTROL DISTRITAL'!F24 -> Semanal (remesa) | G25: ='PANEL DE CONTROL DISTRITAL'!G24 -> 0.9 | H25: ='PANEL DE CONTROL DISTRITAL'!H24 -> Total de credenciales entregadas | I25: 1057 | J25: 2351 | K25: 902 | L25: 375 | M25: 856 | N25: 539 | O25: 499 | P25: 616 | Q25: 357 | R25: 48 | S25: 242 | T25: 171 | U25: 249 | V25: 254 | W25: 329 | X25: 277 | Y25: 318 | Z25: 403 | AA25: 506 | AB25: 91 | AC25: 462 | AD25: 121 | AE25: 0 | AF25: =IFERROR(SUM(I25:AE25)/SUM(I26:AE26),0) -> 1
H26: ='PANEL DE CONTROL DISTRITAL'!H25 -> Total de credenciales solicitadas | I26: 1057 | J26: 2351 | K26: 902 | L26: 375 | M26: 856 | N26: 539 | O26: 499 | P26: 616 | Q26: 357 | R26: 48 | S26: 242 | T26: 171 | U26: 249 | V26: 254 | W26: 329 | X26: 277 | Y26: 318 | Z26: 403 | AA26: 506 | AB26: 91 | AC26: 462 | AD26: 121 | AE26: 0
B27: *Registre el valor nominal solicitado en la celda, el resultado proporcional esta automatizado.
I29: Semaforización
J30: Valor que requiere atención y justificación en el apartado de observaciones
J31: Valor suficiente
J32: Valor esperado
B34: CUADRO DE OBSERVACIONES
B35: Descripción | H35: No conformidad

Sheet 090251
A1: ='PANEL DE CONTROL DISTRITAL'!A1:Q1 -> INSTITUTO NACIONAL ELECTORAL SISTEMA DE GESTIÓN DE LA CALIDAD CIUDAD DE MÉXICO
D2: Distrito | E2: 2 | F2: Módulo | H2: 90251
A4: TABLERO DE CONTROL DE PROCESOS SUSTANTIVOS DEL SISTEMA DE GESTIÓN DE LA CALIDAD
A6: ='PANEL DE CONTROL DISTRITAL'!A6 -> Número | B6: ='PANEL DE CONTROL DISTRITAL'!B6 -> PROCESOS SUSTANTIVOS E INDICADORES | I6: SEMANA OPERATIVA | AF6: % AVANCE REGISTRADO
B7: ='PANEL DE CONTROL DISTRITAL'!B7 -> DESCRIPCIÓN | E7: ='PANEL DE CONTROL DISTRITAL'!E7 -> MEDICIÓN | I7: ='PANEL DE CONTROL DISTRITAL'!A5 -> CAMPAÑA ANUAL PERMANENTE 2024
B9: ='PANEL DE CONTROL DISTRITAL'!B8 -> Proceso | C9: ='PANEL DE CONTROL DISTRITAL'!C8 -> Dueño de Proceso | D9: ='PANEL DE CONTROL DISTRITAL'!D8 -> Indicador | E9: ='PANEL DE CONTROL DISTRITAL'!E8 -> Cálculo | F9: ='PANEL DE CONTROL DISTRITAL'!F8 -> Periodo | G9: ='PANEL DE CONTROL DISTRITAL'!G8 -> Estimado | H9: ='PANEL DE CONTROL DISTRITAL'!H8 -> Nominativo | I9: ='090151'!I9 -> 2024-05 | J9: ='090151'!J9 -> 2024-06 | K9: ='090151'!K9 -> 2024-07 | L9: ='090151'!L9 -> 2024-08 | M9: ='090151'!M9 -> 2024-09 | N9: ='090151'!N9 -> 2024-10 | O9: ='090151'!O9 -> 2024-11 | P9: ='090151'!P9 -> 2024-12 | ... AE9: ='090151'!AE9 -> 2024-27
A10: ='PANEL DE CONTROL DISTRITAL'!A9 -> 1 | B10: ='PANEL DE CONTROL DISTRITAL'!B9 -> ENTREVISTA | C10: ='PANEL DE CONTROL DISTRITAL'!C9 -> Auxiliar de Atención Ciudadana | D10: ='PANEL DE CONTROL DISTRITAL'!D9 -> Efectividad de la entrevista = | E10: ='PANEL DE CONTROL DISTRITAL'!E9 -> (Número de trámites aplicados / (Número de fichas requisitadas - Notificaciones de improcedencia de trámite)) x 100 | F10: ='PANEL DE CONTROL DISTRITAL'!F9 -> Semanal (remesa) | G10: ='PANEL DE CONTROL DISTRITAL'!G9 -> 0.9 | H10: ='PANEL DE CONTROL DISTRITAL'!H9 -> Número de trámites aplicados | I10: 926 | J10: 1640 | K10: 1436 | L10: 117 | M10: 658 | N10: 759 | O10: 786 | P10: 801 | Q10: 690 | R10: 58 | S10: 249 | T10: 290 | U10: 338 | V10: 546 | W10: 516 | X10: 574 | Y10: 466 | Z10: 584 | AA10: 795 | AB10: 389 | AC10: 0 | AD10: 1 | AE10: 0 | AF10: =IFERROR(SUM(I10:AE10)/SUM(I11:AE11),0) -> 0.99960393
H11: ='PANEL DE CONTROL DISTRITAL'!H10 -> Número de fichas requisitadas - Notificaciones de improcedencia de trámite | I11: 926 | J11: 1640 | K11: 1436 | L11: 117 | M11: 658 | N11: 759 | O11: 786 | P11: 801 | Q11: 690 | R11: 58 | S11: 249 | T11: 290 | U11: 338 | V11: 546 | W11: 521 | X11: 574 | Y11: 466 | Z11: 584 | AA11: 795 | AB11: 389 | AC11: 0 | AD11: 1 | AE11: 0
A13: ='PANEL DE CONTROL DISTRITAL'!A12 -> 2 | B13: ='PANEL DE CONTROL DISTRITAL'!B12 -> TRÁMITE | C13: ='PANEL DE CONTROL DISTRITAL'!C12 -> Operador de Equipo Tecnológico | D13: ='PANEL DE CONTROL DISTRITAL'!D12 -> Trámites exitosos efectivos= | E13: ='PANEL DE CONTROL DISTRITAL'!E12 -> (Número de trámites exitosos / Número de trámites aplicados) x 100 | F13: ='PANEL DE CONTROL DISTRITAL'!F12 -> Semanal (remesa) | G13: ='PANEL DE CONTROL DISTRITAL'!G12 -> 0.9 | H13: ='PANEL DE CONTROL DISTRITAL'!H12 -> Número de trámites exitosos | I13: 921 | J13: 1638 | K13: 1434 | L13: 117 | M13: 657 | N13: 757 | O13: 786 | P13: 800 | Q13: 689 | R13: 58 | S13: 246 | T13: 290 | U13: 338 | V13: 545 | W13: 516 | X13: 574 | Y13: 466 | Z13: 584 | AA13: 795 | AB13: 389 | AC13: 0 | AD13: 0 | AE13: 0 | AF13: =IFERROR(SUM(I13:AE13)/SUM(I14:AE14),0) -> 0.99849433
H14: ='PANEL DE CONTROL DISTRITAL'!H13 -> Número de trámites aplicados | I14: 926 | J14: 1640 | K14: 1436 | L14: 117 | M14: 658 | N14: 759 | O14: 786 | P14: 801 | Q14: 690 | R14: 58 | S14: 249 | T14: 290 | U14: 338 | V14: 546 | W14: 516 | X14: 574 | Y14: 466 | Z14: 584 | AA14: 795 | AB14: 389 | AC14: 0 | AD14: 1 | AE14: 0
A16: ='PANEL DE CONTROL DISTRITAL'!A15 -> 3 | B16: ='PANEL DE CONTROL DISTRITAL'!B15 -> TRANSFERENCIA | C16: ='PANEL DE CONTROL DISTRITAL'!C15 -> Responsable de Módulo | D16: ='PANEL DE CONTROL DISTRITAL'!D15 -> Transacciones exitosas = | E16: ='PANEL DE CONTROL DISTRITAL'!E15 -> (Número de Archivos de Transacción aceptados /Total de Archivos de Transacción procesados) x100 | F16: ='PANEL DE CONTROL DISTRITAL'!F15 -> Semanal (remesa) | G16: ='PANEL DE CONTROL DISTRITAL'!G15 -> 0.9 | H16: ='PANEL DE CONTROL DISTRITAL'!H15 -> Número de Archivos de Transacción aceptados | I16: 926 | J16: 1640 | K16: 1436 | L16: 117 | M16: 658 | N16: 759 | O16: 786 | P16: 801 | Q16: 690 | R16: 58 | S16: 249 | T16: 290 | U16: 338 | V16: 546 | W16: 516 | X16: 574 | Y16: 466 | Z16: 584 | AA16: 795 | AB16: 389 | AC16: 0 | AD16: 1 | AE16: 0 | AF16: =IFERROR(SUM(I16:AE16)/SUM(I17:AE17),0) -> 1
H17: ='PANEL DE CONTROL DISTRITAL'!H16 -> Total de Archivos de Transacción procesados | I17: 926 | J17: 1640 | K17: 1436 | L17: 117 | M17: 658 | N17: 759 | O17: 786 | P17: 801 | Q17: 690 | R17: 58 | S17: 249 | T17: 290 | U17: 338 | V17: 546 | W17: 516 | X17: 574 | Y17: 466 | Z17: 584 | AA17: 795 | AB17: 389 | AC17: 0 | AD17: 1 | AE17: 0
A19: ='PANEL DE CONTROL DISTRITAL'!A18 -> 4 | B19: ='PANEL DE CONTROL DISTRITAL'!B18 -> CONCILIACIÓN | C19: ='PANEL DE CONTROL DISTRITAL'!C18 -> Responsable de Módulo | D19: ='PANEL DE CONTROL DISTRITAL'!D18 -> Credenciales disponibles para entrega = | E19: ='PANEL DE CONTROL DISTRITAL'!E18 -> ((Credenciales recibidas - Credenciales inconsistentes) / Credenciales recibidas) x 100 | F19: ='PANEL DE CONTROL DISTRITAL'!F18 -> Semanal (remesa) | G19: ='PANEL DE CONTROL DISTRITAL'!G18 -> 0.9 | H19: ='PANEL DE CONTROL DISTRITAL'!H18 -> Credenciales Recibidas - Credenciales inconsistentes | I19: 3023 | J19: 3755 | K19: 1993 | L19: 500 | M19: 1036 | N19: 682 | O19: 764 | P19: 755 | Q19: 771 | R19: 162 | S19: 366 | T19: 226 | U19: 408 | V19: 351 | W19: 631 | X19: 588 | Y19: 436 | Z19: 469 | AA19: 750 | AB19: 159 | AC19: 618 | AD19: 0 | AE19: 0 | AF19: =IFERROR(SUM(I19:AE19)/SUM(I20:AE20),0) -> 0.99978316
H20: ='PANEL DE CONTROL DISTRITAL'!H19 -> Credenciales recibidas | I20: 3023 | J20: 3755 | K20: 1993 | L20: 500 | M20: 1040 | N20: 682 | O20: 764 | P20: 755 | Q20: 771 | R20: 162 | S20: 366 | T20: 226 | U20: 408 | V20: 351 | W20: 631 | X20: 588 | Y20: 436 | Z20: 469 | AA20: 750 | AB20: 159 | AC20: 618 | AD20: 0 | AE20: 0
A22: ='PANEL DE CONTROL DISTRITAL'!A21 -> 5 | B22: ='PANEL DE CONTROL DISTRITAL'!B21 -> CONCILIACIÓN | C22: ='PANEL DE CONTROL DISTRITAL'!C21 -> Responsable de Módulo | D22: ='PANEL DE CONTROL DISTRITAL'!D21 -> Credenciales disponibles para entrega = | E22: ='PANEL DE CONTROL DISTRITAL'!E21 -> (Credenciales en resguardo / Credenciales totales en SIIRFE disponibles para entrega) x 100 | F22: ='PANEL DE CONTROL DISTRITAL'!F21 -> Semanal (remesa) | G22: ='PANEL DE CONTROL DISTRITAL'!G21 -> 1 | H22: ='PANEL DE CONTROL DISTRITAL'!H21 -> Credenciales en resguardo | I22: 7219 | J22: 6396 | K22: 6372 | L22: 6349 | M22: 3940 | N22: 2614 | O22: 1893 | P22: 1564 | Q22: 682 | R22: 884 | S22: 620 | T22: 506 | U22: 534 | V22: 550 | W22: 528 | X22: 540 | Y22: 536 | Z22: 468 | AA22: 547 | AB22: 633 | AC22: 427 | AD22: 185 | AE22: 0 | AF22: =IFERROR(SUM(I22:AE22)/SUM(I23:AE23),0) -> 1
H23: ='PANEL DE CONTROL DISTRITAL'!H22 -> Credenciales totales en SIIRFE disponibles para entrega | I23: 7219 | J23: 6396 | K23: 6372 | L23: 6349 | M23: 3940 | N23: 2614 | O23: 1893 | P23: 1564 | Q23: 682 | R23: 884 | S23: 620 | T23: 506 | U23: 534 | V23: 550 | W23: 528 | X23: 540 | Y23: 536 | Z23: 468 | AA23: 547 | AB23: 633 | AC23: 427 | AD23: 185 | AE23: 0
A25: ='PANEL DE CONTROL DISTRITAL'!A24 -> 6 | B25: ='PANEL DE CONTROL DISTRITAL'!B24 -> ENTREGA | C25: ='PANEL DE CONTROL DISTRITAL'!C24 -> Operador de Equipo Tecnológico | D25: ='PANEL DE CONTROL DISTRITAL'!D24 -> Efectividad de entrega de CPV en MAC = | E25: ='PANEL DE CONTROL DISTRITAL'!E24 -> (Total de credenciales entregadas / Total de credenciales solicitadas) x 100 | F25: ='PANEL DE CONTROL DISTRITAL'!F24 -> Semanal (remesa) | G25: ='PANEL DE CONTROL DISTRITAL'!G24 -> 0.9 | H25: ='PANEL DE CONTROL DISTRITAL'!H24 -> Total de credenciales entregadas | I25: 2292 | J25: 4578 | K25: 1998 | L25: 523 | M25: 3445 | N25: 2008 | O25: 1369 | P25: 1084 | Q25: 825 | R25: 140 | S25: 630 | T25: 340 | U25: 380 | V25: 335 | W25: 653 | X25: 576 | Y25: 440 | Z25: 537 | AA25: 671 | AB25: 73 | AC25: 824 | AD25: 242 | AE25: 0 | AF25: =IFERROR(SUM(I25:AE25)/SUM(I26:AE26),0) -> 1
H26: ='PANEL DE CONTROL DISTRITAL'!H25 -> Total de credenciales solicitadas | I26: 2292 | J26: 4578 | K26: 1998 | L26: 523 | M26: 3445 | N26: 2008 | O26: 1369 | P26: 1084 | Q26: 825 | R26: 140 | S26: 630 | T26: 340 | U26: 380 | V26: 335 | W26: 653 | X26: 576 | Y26: 440 | Z26: 537 | AA26: 671 | AB26: 73 | AC26: 824 | AD26: 242 | AE26: 0
B27: *Registre el valor nominal solicitado en la celda, el resultado proporcional esta automatizado.
I29: Semaforización
J30: Valor que requiere atención y justificación en el apartado de observaciones
J31: Valor suficiente
J32: Valor esperado
B34: CUADRO DE OBSERVACIONES
B35: Descripción | H35: No conformidad

Sheet 090351
A1: ='PANEL DE CONTROL DISTRITAL'!A1:Q1 -> INSTITUTO NACIONAL ELECTORAL SISTEMA DE GESTIÓN DE LA CALIDAD CIUDAD DE MÉXICO
D2: Distrito | E2: 3 | F2: Módulo | H2: 90351
A4: TABLERO DE CONTROL DE PROCESOS SUSTANTIVOS DEL SISTEMA DE GESTIÓN DE LA CALIDAD
A6: ='PANEL DE CONTROL DISTRITAL'!A6 -> Número | B6: ='PANEL DE CONTROL DISTRITAL'!B6 -> PROCESOS SUSTANTIVOS E INDICADORES | I6: SEMANA OPERATIVA | AF6: % AVANCE REGISTRADO
B7: ='PANEL DE CONTROL DISTRITAL'!B7 -> DESCRIPCIÓN | E7: ='PANEL DE CONTROL DISTRITAL'!E7 -> MEDICIÓN | I7: ='PANEL DE CONTROL DISTRITAL'!A5 -> CAMPAÑA ANUAL PERMANENTE 2024
B9: ='PANEL DE CONTROL DISTRITAL'!B8 -> Proceso | C9: ='PANEL DE CONTROL DISTRITAL'!C8 -> Dueño de Proceso | D9: ='PANEL DE CONTROL DISTRITAL'!D8 -> Indicador | E9: ='PANEL DE CONTROL DISTRITAL'!E8 -> Cálculo | F9: ='PANEL DE CONTROL DISTRITAL'!F8 -> Periodo | G9: ='PANEL DE CONTROL DISTRITAL'!G8 -> Estimado | H9: ='PANEL DE CONTROL DISTRITAL'!H8 -> Nominativo | I9: ='090151'!I9 -> 2024-05 | J9: ='090151'!J9 -> 2024-06 | K9: ='090151'!K9 -> 2024-07 | L9: ='090151'!L9 -> 2024-08 | M9: ='090151'!M9 -> 2024-09 | N9: ='090151'!N9 -> 2024-10 | O9: ='090151'!O9 -> 2024-11 | P9: ='090151'!P9 -> 2024-12 | ... AE9: ='090151'!AE9 -> 2024-27
A10: ='PANEL DE CONTROL DISTRITAL'!A9 -> 1 | B10: ='PANEL DE CONTROL DISTRITAL'!B9 -> ENTREVISTA | C10: ='PANEL DE CONTROL DISTRITAL'!C9 -> Auxiliar de Atención Ciudadana | D10: ='PANEL DE CONTROL DISTRITAL'!D9 -> Efectividad de la entrevista = | E10: ='PANEL DE CONTROL DISTRITAL'!E9 -> (Número de trámites aplicados / (Número de fichas requisitadas - Notificaciones de improcedencia de trámite)) x 100 | F10: ='PANEL DE CONTROL DISTRITAL'!F9 -> Semanal (remesa) | G10: ='PANEL DE CONTROL DISTRITAL'!G9 -> 0.9 | H10: ='PANEL DE CONTROL DISTRITAL'!H9 -> Número de trámites aplicados | I10: 671 | J10: 1172 | K10: 863 | L10: 100 | M10: 636 | N10: 689 | O10: 639 | P10: 477 | Q10: 494 | R10: 65 | S10: 264 | T10: 257 | U10: 374 | V10: 413 | W10: 510 | X10: 429 | Y10: 380 | Z10: 527 | AA10: 655 | AB10: 205 | AC10: 0 | AD10: 0 | AE10: 0 | AF10: =IFERROR(SUM(I10:AE10)/SUM(I11:AE11),0) -> 0.97401309
H11: ='PANEL DE CONTROL DISTRITAL'!H10 -> Número de fichas requisitadas - Notificaciones de improcedencia de trámite | I11: 682 | J11: 1195 | K11: 885 | L11: 104 | M11: 664 | N11: 733 | O11: 682 | P11: 503 | Q11: 510 | R11: 68 | S11: 270 | T11: 267 | U11: 382 | V11: 421 | W11: 510 | X11: 429 | Y11: 380 | Z11: 527 | AA11: 665 | AB11: 205 | AC11: 0 | AD11: 0 | AE11: 0
A13: ='PANEL DE CONTROL DISTRITAL'!A12 -> 2 | B13: ='PANEL DE CONTROL DISTRITAL'!B12 -> TRÁMITE | C13: ='PANEL DE CONTROL DISTRITAL'!C12 -> Operador de Equipo Tecnológico | D13: ='PANEL DE CONTROL DISTRITAL'!D12 -> Trámites exitosos efectivos= | E13: ='PANEL DE CONTROL DISTRITAL'!E12 -> (Número de trámites exitosos / Número de trámites aplicados) x 100 | F13: ='PANEL DE CONTROL DISTRITAL'!F12 -> Semanal (remesa) | G13: ='PANEL DE CONTROL DISTRITAL'!G12 -> 0.9 | H13: ='PANEL DE CONTROL DISTRITAL'!H12 -> Número de trámites exitosos | I13: 669 | J13: 1173 | K13: 862 | L13: 99 | M13: 636 | N13: 689 | O13: 639 | P13: 477 | Q13: 493 | R13: 65 | S13: 264 | T13: 257 | U13: 374 | V13: 413 | W13: 510 | X13: 429 | Y13: 380 | Z13: 526 | AA13: 655 | AB13: 205 | AC13: 0 | AD13: 0 | AE13: 0 | AF13: =IFERROR(SUM(I13:AE13)/SUM(I14:AE14),0) -> 0.99949084
H14: ='PANEL DE CONTROL DISTRITAL'!H13 -> Número de trámites aplicados | I14: 671 | J14: 1172 | K14: 863 | L14: 100 | M14: 636 | N14: 689 | O14: 639 | P14: 477 | Q14: 494 | R14: 65 | S14: 264 | T14: 257 | U14: 374 | V14: 413 | W14: 510 | X14: 429 | Y14: 380 | Z14: 527 | AA14: 655 | AB14: 205 | AC14: 0 | AD14: 0 | AE14: 0
A16: ='PANEL DE CONTROL DISTRITAL'!A15 -> 3 | B16: ='PANEL DE CONTROL DISTRITAL'!B15 -> TRANSFERENCIA | C16: ='PANEL DE CONTROL DISTRITAL'!C15 -> Responsable de Módulo | D16: ='PANEL DE CONTROL DISTRITAL'!D15 -> Transacciones exitosas = | E16: ='PANEL DE CONTROL DISTRITAL'!E15 -> (Número de Archivos de Transacción aceptados /Total de Archivos de Transacción procesados) x100 | F16: ='PANEL DE CONTROL DISTRITAL'!F15 -> Semanal (remesa) | G16: ='PANEL DE CONTROL DISTRITAL'!G15 -> 0.9 | H16: ='PANEL DE CONTROL DISTRITAL'!H15 -> Número de Archivos de Transacción aceptados | I16: 671 | J16: 1172 | K16: 862 | L16: 100 | M16: 636 | N16: 689 | O16: 639 | P16: 477 | Q16: 494 | R16: 65 | S16: 264 | T16: 257 | U16: 374 | V16: 413 | W16: 510 | X16: 429 | Y16: 380 | Z16: 527 | AA16: 655 | AB16: 205 | AC16: 0 | AD16: 0 | AE16: 0 | AF16: =IFERROR(SUM(I16:AE16)/SUM(I17:AE17),0) -> 0.99989817
H17: ='PANEL DE CONTROL DISTRITAL'!H16 -> Total de Archivos de Transacción procesados | I17: 671 | J17: 1172 | K17: 863 | L17: 100 | M17: 636 | N17: 689 | O17: 639 | P17: 477 | Q17: 494 | R17: 65 | S17: 264 | T17: 257 | U17: 374 | V17: 413 | W17: 510 | X17: 429 | Y17: 380 | Z17: 527 | AA17: 655 | AB17: 205 | AC17: 0 | AD17: 0 | AE17: 0
A19: ='PANEL DE CONTROL DISTRITAL'!A18 -> 4 | B19: ='PANEL DE CONTROL DISTRITAL'!B18 -> CONCILIACIÓN | C19: ='PANEL DE CONTROL DISTRITAL'!C18 -> Responsable de Módulo | D19: ='PANEL DE CONTROL DISTRITAL'!D18 -> Credenciales disponibles para entrega = | E19: ='PANEL DE CONTROL DISTRITAL'!E18 -> ((Credenciales recibidas - Credenciales inconsistentes) / Credenciales recibidas) x 100 | F19: ='PANEL DE CONTROL DISTRITAL'!F18 -> Semanal (remesa) | G19: ='PANEL DE CONTROL DISTRITAL'!G18 -> 0.9 | H19: ='PANEL DE CONTROL DISTRITAL'!H18 -> Credenciales Recibidas - Credenciales inconsistentes | I19: 1397 | J19: 2510 | K19: 1386 | L19: 310 | M19: 757 | N19: 676 | O19: 650 | P19: 564 | Q19: 465 | R19: 117 | S19: 358 | T19: 180 | U19: 426 | V19: 382 | W19: 467 | X19: 474 | Y19: 338 | Z19: 539 | AA19: 549 | AB19: 126 | AC19: 374 | AD19: 0 | AE19: 0 | AF19: =IFERROR(SUM(I19:AE19)/SUM(I20:AE20),0) -> 1
H20: ='PANEL DE CONTROL DISTRITAL'!H19 -> Credenciales recibidas | I20: 1397 | J20: 2510 | K20: 1386 | L20: 310 | M20: 757 | N20: 676 | O20: 650 | P20: 564 | Q20: 465 | R20: 117 | S20: 358 | T20: 180 | U20: 426 | V20: 382 | W20: 467 | X20: 474 | Y20: 338 | Z20: 539 | AA20: 549 | AB20: 126 | AC20: 374 | AD20: 0 | AE20: 0
A22: ='PANEL DE CONTROL DISTRITAL'!A21 -> 5 | B22: ='PANEL DE CONTROL DISTRITAL'!B21 -> CONCILIACIÓN | C22: ='PANEL DE CONTROL DISTRITAL'!C21 -> Responsable de Módulo | D22: ='PANEL DE CONTROL DISTRITAL'!D21 -> Credenciales disponibles para entrega = | E22: ='PANEL DE CONTROL DISTRITAL'!E21 -> (Credenciales en resguardo / Credenciales totales en SIIRFE disponibles para entrega) x 100 | F22: ='PANEL DE CONTROL DISTRITAL'!F21 -> Semanal (remesa) | G22: ='PANEL DE CONTROL DISTRITAL'!G21 -> 1 | H22: ='PANEL DE CONTROL DISTRITAL'!H21 -> Credenciales en resguardo | I22: 2954 | J22: 3598 | K22: 3864 | L22: 3597 | M22: 2441 | N22: 2071 | O22: 2014 | P22: 1622 | Q22: 1254 | R22: 1298 | S22: 1219 | T22: 1092 | U22: 1167 | V22: 1250 | W22: 1377 | X22: 1499 | Y22: 1441 | Z22: 1629 | AA22: 1269 | AB22: 1221 | AC22: 1076 | AD22: 519 | AE22: 0 | AF22: =IFERROR(SUM(I22:AE22)/SUM(I23:AE23),0) -> 1
H23: ='PANEL DE CONTROL DISTRITAL'!H22 -> Credenciales totales en SIIRFE disponibles para entrega | I23: 2954 | J23: 3598 | K23: 3864 | L23: 3597 | M23: 2441 | N23: 2071 | O23: 2014 | P23: 1622 | Q23: 1254 | R23: 1298 | S23: 1219 | T23: 1092 | U23: 1167 | V23: 1250 | W23: 1377 | X23: 1499 | Y23: 1441 | Z23: 1629 | AA23: 1269 | AB23: 1221 | AC23: 1076 | AD23: 519 | AE23: 0
A25: ='PANEL DE CONTROL DISTRITAL'!A24 -> 6 | B25: ='PANEL DE CONTROL DISTRITAL'!B24 -> ENTREGA | C25: ='PANEL DE CONTROL DISTRITAL'!C24 -> Operador de Equipo Tecnológico | D25: ='PANEL DE CONTROL DISTRITAL'!D24 -> Efectividad de entrega de CPV en MAC = | E25: ='PANEL DE CONTROL DISTRITAL'!E24 -> (Total de credenciales entregadas / Total de credenciales solicitadas) x 100 | F25: ='PANEL DE CONTROL DISTRITAL'!F24 -> Semanal (remesa) | G25: ='PANEL DE CONTROL DISTRITAL'!G24 -> 0.9 | H25: ='PANEL DE CONTROL DISTRITAL'!H24 -> Total de credenciales entregadas | I25: 1415 | J25: 1866 | K25: 1114 | L25: 577 | M25: 1913 | N25: 1046 | O25: 679 | P25: 956 | Q25: 833 | R25: 73 | S25: 437 | T25: 307 | U25: 351 | V25: 299 | W25: 340 | X25: 352 | Y25: 396 | Z25: 351 | AA25: 909 | AB25: 174 | AC25: 529 | AD25: 547 | AE25: 0 | AF25: =IFERROR(SUM(I25:AE25)/SUM(I26:AE26),0) -> 1
H26: ='PANEL DE CONTROL DISTRITAL'!H25 -> Total de credenciales solicitadas | I26: 1415 | J26: 1866 | K26: 1114 | L26: 577 | M26: 1913 | N26: 1046 | O26: 679 | P26: 956 | Q26: 833 | R26: 73 | S26: 437 | T26: 307 | U26: 351 | V26: 299 | W26: 340 | X26: 352 | Y26: 396 | Z26: 351 | AA26: 909 | AB26: 174 | AC26: 529 | AD26: 547 | AE26: 0
B27: *Registre el valor nominal solicitado en la celda, el resultado proporcional esta automatizado.
I29: Semaforización
J30: Valor que requiere atención y justificación en el apartado de observaciones
J31: Valor suficiente
J32: Valor esperado
B34: CUADRO DE OBSERVACIONES
B35: Descripción | H35: No conformidad

Sheet 090451
A1: ='PANEL DE CONTROL DISTRITAL'!A1:Q1 -> INSTITUTO NACIONAL ELECTORAL SISTEMA DE GESTIÓN DE LA CALIDAD CIUDAD DE MÉXICO
D2: Distrito | E2: 4 | F2: Módulo | H2: 90451
A4: TABLERO DE CONTROL DE PROCESOS SUSTANTIVOS DEL SISTEMA DE GESTIÓN DE LA CALIDAD
A6: ='PANEL DE CONTROL DISTRITAL'!A6 -> Número | B6: ='PANEL DE CONTROL DISTRITAL'!B6 -> PROCESOS SUSTANTIVOS E INDICADORES | I6: SEMANA OPERATIVA | AF6: % AVANCE REGISTRADO
B7: ='PANEL DE CONTROL DISTRITAL'!B7 -> DESCRIPCIÓN | E7: ='PANEL DE CONTROL DISTRITAL'!E7 -> MEDICIÓN | I7: ='PANEL DE CONTROL DISTRITAL'!A5 -> CAMPAÑA ANUAL PERMANENTE 2024
B9: ='PANEL DE CONTROL DISTRITAL'!B8 -> Proceso | C9: ='PANEL DE CONTROL DISTRITAL'!C8 -> Dueño de Proceso | D9: ='PANEL DE CONTROL DISTRITAL'!D8 -> Indicador | E9: ='PANEL DE CONTROL DISTRITAL'!E8 -> Cálculo | F9: ='PANEL DE CONTROL DISTRITAL'!F8 -> Periodo | G9: ='PANEL DE CONTROL DISTRITAL'!G8 -> Estimado | H9: ='PANEL DE CONTROL DISTRITAL'!H8 -> Nominativo | I9: ='090151'!I9 -> 2024-05 | J9: ='090151'!J9 -> 2024-06 | K9: ='090151'!K9 -> 2024-07 | L9: ='090151'!L9 -> 2024-08 | M9: ='090151'!M9 -> 2024-09 | N9: ='090151'!N9 -> 2024-10 | O9: ='090151'!O9 -> 2024-11 | P9: ='090151'!P9 -> 2024-12 | ... AE9: ='090151'!AE9 -> 2024-27
A10: ='PANEL DE CONTROL DISTRITAL'!A9 -> 1 | B10: ='PANEL DE CONTROL DISTRITAL'!B9 -> ENTREVISTA | C10: ='PANEL DE CONTROL DISTRITAL'!C9 -> Auxiliar de Atención Ciudadana | D10: ='PANEL DE CONTROL DISTRITAL'!D9 -> Efectividad de la entrevista = | E10: ='PANEL DE CONTROL DISTRITAL'!E9 -> (Número de trámites aplicados / (Número de fichas requisitadas - Notificaciones de improcedencia de trámite)) x 100 | F10: ='PANEL DE CONTROL DISTRITAL'!F9 -> Semanal (remesa) | G10: ='PANEL DE CONTROL DISTRITAL'!G9 -> 0.9 | H10: ='PANEL DE CONTROL DISTRITAL'!H9 -> Número de trámites aplicados | I10: 870 | J10: 1583 | K10: 1332 | L10: 142 | M10: 668 | N10: 791 | O10: 706 | P10: 622 | Q10: 483 | R10: 69 | S10: 158 | T10: 115 | U10: 171 | V10: 203 | W10: 285 | X10: 284 | Y10: 248 | Z10: 464 | AA10: 633 | AB10: 338 | AC10: 0 | AD10: 0 | AE10: 0 | AF10: =IFERROR(SUM(I10:AE10)/SUM(I11:AE11),0) -> 0.99190086
H11: ='PANEL DE CONTROL DISTRITAL'!H10 -> Número de fichas requisitadas - Notificaciones de improcedencia de trámite | I11: 874 | J11: 1605 | K11: 1337 | L11: 148 | M11: 681 | N11: 807 | O11: 709 | P11: 627 | Q11: 484 | R11: 69 | S11: 158 | T11: 115 | U11: 171 | V11: 203 | W11: 289 | X11: 284 | Y11: 248 | Z11: 468 | AA11: 633 | AB11: 338 | AC11: 0 | AD11: 0 | AE11: 0
A13: ='PANEL DE CONTROL DISTRITAL'!A12 -> 2 | B13: ='PANEL DE CONTROL DISTRITAL'!B12 -> TRÁMITE | C13: ='PANEL DE CONTROL DISTRITAL'!C12 -> Operador de Equipo Tecnológico | D13: ='PANEL DE CONTROL DISTRITAL'!D12 -> Trámites exitosos efectivos= | E13: ='PANEL DE CONTROL DISTRITAL'!E12 -> (Número de trámites exitosos / Número de trámites aplicados) x 100 | F13: ='PANEL DE CONTROL DISTRITAL'!F12 -> Semanal (remesa) | G13: ='PANEL DE CONTROL DISTRITAL'!G12 -> 0.9 | H13: ='PANEL DE CONTROL DISTRITAL'!H12 -> Número de trámites exitosos | I13: 867 | J13: 1581 | K13: 1330 | L13: 142 | M13: 668 | N13: 790 | O13: 706 | P13: 621 | Q13: 483 | R13: 69 | S13: 158 | T13: 115 | U13: 171 | V13: 203 | W13: 285 | X13: 284 | Y13: 247 | Z13: 464 | AA13: 633 | AB13: 338 | AC13: 0 | AD13: 0 | AE13: 0 | AF13: =IFERROR(SUM(I13:AE13)/SUM(I14:AE14),0) -> 0.99901623
H14: ='PANEL DE CONTROL DISTRITAL'!H13 -> Número de trámites aplicados | I14: 870 | J14: 1583 | K14: 1332 | L14: 142 | M14: 668 | N14: 791 | O14: 706 | P14: 622 | Q14: 483 | R14: 69 | S14: 158 | T14: 115 | U14: 171 | V14: 203 | W14: 285 | X14: 284 | Y14: 248 | Z14: 464 | AA14: 633 | AB14: 338 | AC14: 0 | AD14: 0 | AE14: 0
A16: ='PANEL DE CONTROL DISTRITAL'!A15 -> 3 | B16: ='PANEL DE CONTROL DISTRITAL'!B15 -> TRANSFERENCIA | C16: ='PANEL DE CONTROL DISTRITAL'!C15 -> Responsable de Módulo | D16: ='PANEL DE CONTROL DISTRITAL'!D15 -> Transacciones exitosas = | E16: ='PANEL DE CONTROL DISTRITAL'!E15 -> (Número de Archivos de Transacción aceptados /Total de Archivos de Transacción procesados) x100 | F16: ='PANEL DE CONTROL DISTRITAL'!F15 -> Semanal (remesa) | G16: ='PANEL DE CONTROL DISTRITAL'!G15 -> 0.9 | H16: ='PANEL DE CONTROL DISTRITAL'!H15 -> Número de Archivos de Transacción aceptados | I16: 870 | J16: 1579 | K16: 1332 | L16: 137 | M16: 665 | N16: 785 | O16: 706 | P16: 614 | Q16: 480 | R16: 69 | S16: 158 | T16: 115 | U16: 171 | V16: 201 | W16: 283 | X16: 282 | Y16: 247 | Z16: 463 | AA16: 632 | AB16: 338 | AC16: 0 | AD16: 0 | AE16: 0 | AF16: =IFERROR(SUM(I16:AE16)/SUM(I17:AE17),0) -> 0.99626168
H17: ='PANEL DE CONTROL DISTRITAL'!H16 -> Total de Archivos de Transacción procesados | I17: 870 | J17: 1583 | K17: 1332 | L17: 142 | M17: 668 | N17: 791 | O17: 706 | P17: 622 | Q17: 483 | R17: 69 | S17: 158 | T17: 115 | U17: 171 | V17: 203 | W17: 285 | X17: 284 | Y17: 248 | Z17: 464 | AA17: 633 | AB17: 338 | AC17: 0 | AD17: 0 | AE17: 0
A19: ='PANEL DE CONTROL DISTRITAL'!A18 -> 4 | B19: ='PANEL DE CONTROL DISTRITAL'!B18 -> CONCILIACIÓN | C19: ='PANEL DE CONTROL DISTRITAL'!C18 -> Responsable de Módulo | D19: ='PANEL DE CONTROL DISTRITAL'!D18 -> Credenciales disponibles para entrega = | E19: ='PANEL DE CONTROL DISTRITAL'!E18 -> ((Credenciales recibidas - Credenciales inconsistentes) / Credenciales recibidas) x 100 | F19: ='PANEL DE CONTROL DISTRITAL'!F18 -> Semanal (remesa) | G19: ='PANEL DE CONTROL DISTRITAL'!G18 -> 0.9 | H19: ='PANEL DE CONTROL DISTRITAL'!H18 -> Credenciales Recibidas - Credenciales inconsistentes | I19: 2524 | J19: 3610 | K19: 1917 | L19: 489 | M19: 1018 | N19: 734 | O19: 722 | P19: 639 | Q19: 536 | R19: 128 | S19: 309 | T19: 91 | U19: 189 | V19: 201 | W19: 238 | X19: 283 | Y19: 244 | Z19: 354 | AA19: 527 | AB19: 138 | AC19: 537 | AD19: 0 | AE19: 0 | AF19: =IFERROR(SUM(I19:AE19)/SUM(I20:AE20),0) -> 1
H20: ='PANEL DE CONTROL DISTRITAL'!H19 -> Credenciales recibidas | I20: 2524 | J20: 3610 | K20: 1917 | L20: 489 | M20: 1018 | N20: 734 | O20: 722 | P20: 639 | Q20: 536 | R20: 128 | S20: 309 | T20: 91 | U20: 189 | V20: 201 | W20: 238 | X20: 283 | Y20: 244 | Z20: 354 | AA20: 527 | AB20: 138 | AC20: 537 | AD20: 0 | AE20: 0
A22: ='PANEL DE CONTROL DISTRITAL'!A21 -> 5 | B22: ='PANEL DE CONTROL DISTRITAL'!B21 -> CONCILIACIÓN | C22: ='PANEL DE CONTROL DISTRITAL'!C21 -> Responsable de Módulo | D22: ='PANEL DE CONTROL DISTRITAL'!D21 -> Credenciales disponibles para entrega = | E22: ='PANEL DE CONTROL DISTRITAL'!E21 -> (Credenciales en resguardo / Credenciales totales en SIIRFE disponibles para entrega) x 100 | F22: ='PANEL DE CONTROL DISTRITAL'!F21 -> Semanal (remesa) | G22: ='PANEL DE CONTROL DISTRITAL'!G21 -> 1 | H22: ='PANEL DE CONTROL DISTRITAL'!H21 -> Credenciales en resguardo | I22: 4381 | J22: 4541 | K22: 4063 | L22: 3796 | M22: 2830 | N22: 2274 | O22: 1962 | P22: 1860 | Q22: 1703 | R22: 1737 | S22: 1370 | T22: 923 | U22: 810 | V22: 790 | W22: 759 | X22: 724 | Y22: 724 | Z22: 874 | AA22: 775 | AB22: 839 | AC22: 689 | AD22: 594 | AE22: 0 | AF22: =IFERROR(SUM(I22:AE22)/SUM(I23:AE23),0) -> 1
H23: ='PANEL DE CONTROL DISTRITAL'!H22 -> Credenciales totales en SIIRFE disponibles para entrega | I23: 4381 | J23: 4541 | K23: 4063 | L23: 3796 | M23: 2830 | N23: 2274 | O23: 1962 | P23: 1860 | Q23: 1703 | R23: 1737 | S23: 1370 | T23: 923 | U23: 810 | V23: 790 | W23: 759 | X23: 724 | Y23: 724 | Z23: 874 | AA23: 775 | AB23: 839 | AC23: 689 | AD23: 594 | AE23: 0
A25: ='PANEL DE CONTROL DISTRITAL'!A24 -> 6 | B25: ='PANEL DE CONTROL DISTRITAL'!B24 -> ENTREGA | C25: ='PANEL DE CONTROL DISTRITAL'!C24 -> Operador de Equipo Tecnológico | D25: ='PANEL DE CONTROL DISTRITAL'!D24 -> Efectividad de entrega de CPV en MAC = | E25: ='PANEL DE CONTROL DISTRITAL'!E24 -> (Total de credenciales entregadas / Total de credenciales solicitadas) x 100 | F25: ='PANEL DE CONTROL DISTRITAL'!F24 -> Semanal (remesa) | G25: ='PANEL DE CONTROL DISTRITAL'!G24 -> 0.9 | H25: ='PANEL DE CONTROL DISTRITAL'!H24 -> Total de credenciales entregadas | I25: 2071 | J25: 3450 | K25: 2384 | L25: 756 | M25: 1984 | N25: 1290 | O25: 888 | P25: 740 | Q25: 693 | R25: 94 | S25: 676 | T25: 538 | U25: 302 | V25: 221 | W25: 269 | X25: 318 | Y25: 244 | Z25: 204 | AA25: 626 | AB25: 74 | AC25: 687 | AD25: 95 | AE25: 0 | AF25: =IFERROR(SUM(I25:AE25)/SUM(I26:AE26),0) -> 1
H26: ='PANEL DE CONTROL DISTRITAL'!H25 -> Total de credenciales solicitadas | I26: 2071 | J26: 3450 | K26: 2384 | L26: 756 | M26: 1984 | N26: 1290 | O26: 888 | P26: 740 | Q26: 693 | R26: 94 | S26: 676 | T26: 538 | U26: 302 | V26: 221 | W26: 269 | X26: 318 | Y26: 244 | Z26: 204 | AA26: 626 | AB26: 74 | AC26: 687 | AD26: 95 | AE26: 0
B27: *Registre el valor nominal solicitado en la celda, el resultado proporcional esta automatizado.
I29: Semaforización
J30: Valor que requiere atención y justificación en el apartado de observaciones
J31: Valor suficiente
J32: Valor esperado
B34: CUADRO DE OBSERVACIONES
B35: Descripción | H35: No conformidad

Sheet 090551
A1: ='PANEL DE CONTROL DISTRITAL'!A1:Q1 -> INSTITUTO NACIONAL ELECTORAL SISTEMA DE GESTIÓN DE LA CALIDAD CIUDAD DE MÉXICO
D2: Distrito | E2: 5 | F2: Módulo | H2: 90551
A4: TABLERO DE CONTROL DE PROCESOS SUSTANTIVOS DEL SISTEMA DE GESTIÓN DE LA CALIDAD
A6: ='PANEL DE CONTROL DISTRITAL'!A6 -> Número | B6: ='PANEL DE CONTROL DISTRITAL'!B6 -> PROCESOS SUSTANTIVOS E INDICADORES | I6: SEMANA OPERATIVA | AF6: % AVANCE REGISTRADO
B7: ='PANEL DE CONTROL DISTRITAL'!B7 -> DESCRIPCIÓN | E7: ='PANEL DE CONTROL DISTRITAL'!E7 -> MEDICIÓN | I7: ='PANEL DE CONTROL DISTRITAL'!A5 -> CAMPAÑA ANUAL PERMANENTE 2024
B9: ='PANEL DE CONTROL DISTRITAL'!B8 -> Proceso | C9: ='PANEL DE CONTROL DISTRITAL'!C8 -> Dueño de Proceso | D9: ='PANEL DE CONTROL DISTRITAL'!D8 -> Indicador | E9: ='PANEL DE CONTROL DISTRITAL'!E8 -> Cálculo | F9: ='PANEL DE CONTROL DISTRITAL'!F8 -> Periodo | G9: ='PANEL DE CONTROL DISTRITAL'!G8 -> Estimado | H9: ='PANEL DE CONTROL DISTRITAL'!H8 -> Nominativo | I9: ='090151'!I9 -> 2024-05 | J9: ='090151'!J9 -> 2024-06 | K9: ='090151'!K9 -> 2024-07 | L9: ='090151'!L9 -> 2024-08 | M9: ='090151'!M9 -> 2024-09 | N9: ='090151'!N9 -> 2024-10 | O9: ='090151'!O9 -> 2024-11 | P9: ='090151'!P9 -> 2024-12 | ... AE9: ='090151'!AE9 -> 2024-27
A10: ='PANEL DE CONTROL DISTRITAL'!A9 -> 1 | B10: ='PANEL DE CONTROL DISTRITAL'!B9 -> ENTREVISTA | C10: ='PANEL DE CONTROL DISTRITAL'!C9 -> Auxiliar de Atención Ciudadana | D10: ='PANEL DE CONTROL DISTRITAL'!D9 -> Efectividad de la entrevista = | E10: ='PANEL DE CONTROL DISTRITAL'!E9 -> (Número de trámites aplicados / (Número de fichas requisitadas - Notificaciones de improcedencia de trámite)) x 100 | F10: ='PANEL DE CONTROL DISTRITAL'!F9 -> Semanal (remesa) | G10: ='PANEL DE CONTROL DISTRITAL'!G9 -> 0.9 | H10: ='PANEL DE CONTROL DISTRITAL'!H9 -> Número de trámites aplicados | I10: 428 | J10: 559 | K10: 480 | L10: 69 | M10: 317 | N10: 349 | O10: 429 | P10: 346 | Q10: 248 | R10: 39 | S10: 213 | T10: 214 | U10: 274 | V10: 273 | W10: 329 | X10: 357 | Y10: 337 | Z10: 439 | AA10: 588 | AB10: 188 | AC10: 0 | AD10: 0 | AE10: 0 | AF10: =IFERROR(SUM(I10:AE10)/SUM(I11:AE11),0) -> 0.99969126
H11: ='PANEL DE CONTROL DISTRITAL'!H10 -> Número de fichas requisitadas - Notificaciones de improcedencia de trámite | I11: 428 | J11: 559 | K11: 480 | L11: 69 | M11: 317 | N11: 349 | O11: 429 | P11: 346 | Q11: 248 | R11: 39 | S11: 213 | T11: 214 | U11: 274 | V11: 274 | W11: 329 | X11: 358 | Y11: 337 | Z11: 439 | AA11: 588 | AB11: 188 | AC11: 0 | AD11: 0 | AE11: 0
A13: ='PANEL DE CONTROL DISTRITAL'!A12 -> 2 | B13: ='PANEL DE CONTROL DISTRITAL'!B12 -> TRÁMITE | C13: ='PANEL DE CONTROL DISTRITAL'!C12 -> Operador de Equipo Tecnológico | D13: ='PANEL DE CONTROL DISTRITAL'!D12 -> Trámites exitosos efectivos= | E13: ='PANEL DE CONTROL DISTRITAL'!E12 -> (Número de trámites exitosos / Número de trámites aplicados) x 100 | F13: ='PANEL DE CONTROL DISTRITAL'!F12 -> Semanal (remesa) | G13: ='PANEL DE CONTROL DISTRITAL'!G12 -> 0.9 | H13: ='PANEL DE CONTROL DISTRITAL'!H12 -> Número de trámites exitosos | I13: 427 | J13: 558 | K13: 479 | L13: 69 | M13: 317 | N13: 349 | O13: 428 | P13: 346 | Q13: 248 | R13: 39 | S13: 213 | T13: 214 | U13: 274 | V13: 273 | W13: 329 | X13: 357 | Y13: 337 | Z13: 439 | AA13: 587 | AB13: 188 | AC13: 0 | AD13: 0 | AE13: 0 | AF13: =IFERROR(SUM(I13:AE13)/SUM(I14:AE14),0) -> 0.99922792
H14: ='PANEL DE CONTROL DISTRITAL'!H13 -> Número de trámites aplicados | I14: 428 | J14: 559 | K14: 480 | L14: 69 | M14: 317 | N14: 349 | O14: 429 | P14: 346 | Q14: 248 | R14: 39 | S14: 213 | T14: 214 | U14: 274 | V14: 273 | W14: 329 | X14: 357 | Y14: 337 | Z14: 439 | AA14: 588 | AB14: 188 | AC14: 0 | AD14: 0 | AE14: 0
A16: ='PANEL DE CONTROL DISTRITAL'!A15 -> 3 | B16: ='PANEL DE CONTROL DISTRITAL'!B15 -> TRANSFERENCIA | C16: ='PANEL DE CONTROL DISTRITAL'!C15 -> Responsable de Módulo | D16: ='PANEL DE CONTROL DISTRITAL'!D15 -> Transacciones exitosas = | E16: ='PANEL DE CONTROL DISTRITAL'!E15 -> (Número de Archivos de Transacción aceptados /Total de Archivos de Transacción procesados) x100 | F16: ='PANEL DE CONTROL DISTRITAL'!F15 -> Semanal (remesa) | G16: ='PANEL DE CONTROL DISTRITAL'!G15 -> 0.9 | H16: ='PANEL DE CONTROL DISTRITAL'!H15 -> Número de Archivos de Transacción aceptados | I16: 428 | J16: 559 | K16: 480 | L16: 69 | M16: 317 | N16: 349 | O16: 429 | P16: 346 | Q16: 248 | R16: 39 | S16: 213 | T16: 214 | U16: 274 | V16: 273 | W16: 328 | X16: 357 | Y16: 337 | Z16: 439 | AA16: 588 | AB16: 188 | AC16: 0 | AD16: 0 | AE16: 0 | AF16: =IFERROR(SUM(I16:AE16)/SUM(I17:AE17),0) -> 0.99984558
H17: ='PANEL DE CONTROL DISTRITAL'!H16 -> Total de Archivos de Transacción procesados | I17: 428 | J17: 559 | K17: 480 | L17: 69 | M17: 317 | N17: 349 | O17: 429 | P17: 346 | Q17: 248 | R17: 39 | S17: 213 | T17: 214 | U17: 274 | V17: 273 | W17: 329 | X17: 357 | Y17: 337 | Z17: 439 | AA17: 588 | AB17: 188 | AC17: 0 | AD17: 0 | AE17: 0
A19: ='PANEL DE CONTROL DISTRITAL'!A18 -> 4 | B19: ='PANEL DE CONTROL DISTRITAL'!B18 -> CONCILIACIÓN | C19: ='PANEL DE CONTROL DISTRITAL'!C18 -> Responsable de Módulo | D19: ='PANEL DE CONTROL DISTRITAL'!D18 -> Credenciales disponibles para entrega = | E19: ='PANEL DE CONTROL DISTRITAL'!E18 -> ((Credenciales recibidas - Credenciales inconsistentes) / Credenciales recibidas) x 100 | F19: ='PANEL DE CONTROL DISTRITAL'!F18 -> Semanal (remesa) | G19: ='PANEL DE CONTROL DISTRITAL'!G18 -> 0.9 | H19: ='PANEL DE CONTROL DISTRITAL'!H18 -> Credenciales Recibidas - Credenciales inconsistentes | I19: 1957 | J19: 2454 | K19: 688 | L19: 157 | M19: 434 | N19: 359 | O19: 376 | P19: 377 | Q19: 287 | R19: 54 | S19: 229 | T19: 163 | U19: 335 | V19: 269 | W19: 285 | X19: 353 | Y19: 307 | Z19: 453 | AA19: 491 | AB19: 110 | AC19: 330 | AD19: 0 | AE19: 0 | AF19: =IFERROR(SUM(I19:AE19)/SUM(I20:AE20),0) -> 1
H20: ='PANEL DE CONTROL DISTRITAL'!H19 -> Credenciales recibidas | I20: 1957 | J20: 2454 | K20: 688 | L20: 157 | M20: 434 | N20: 359 | O20: 376 | P20: 377 | Q20: 287 | R20: 54 | S20: 229 | T20: 163 | U20: 335 | V20: 269 | W20: 285 | X20: 353 | Y20: 307 | Z20: 453 | AA20: 491 | AB20: 110 | AC20: 330 | AD20: 0 | AE20: 0
A22: ='PANEL DE CONTROL DISTRITAL'!A21 -> 5 | B22: ='PANEL DE CONTROL DISTRITAL'!B21 -> CONCILIACIÓN | C22: ='PANEL DE CONTROL DISTRITAL'!C21 -> Responsable de Módulo | D22: ='PANEL DE CONTROL DISTRITAL'!D21 -> Credenciales disponibles para entrega = | E22: ='PANEL DE CONTROL DISTRITAL'!E21 -> (Credenciales en resguardo / Credenciales totales en SIIRFE disponibles para entrega) x 100 | F22: ='PANEL DE CONTROL DISTRITAL'!F21 -> Semanal (remesa) | G22: ='PANEL DE CONTROL DISTRITAL'!G21 -> 1 | H22: ='PANEL DE CONTROL DISTRITAL'!H21 -> Credenciales en resguardo | I22: 2680 | J22: 2212 | K22: 2557 | L22: 1968 | M22: 1472 | N22: 1164 | O22: 936 | P22: 817 | Q22: 675 | R22: 643 | S22: 598 | T22: 578 | U22: 630 | V22: 661 | W22: 675 | X22: 682 | Y22: 673 | Z22: 728 | AA22: 837 | AB22: 794 | AC22: 706 | AD22: 398 | AE22: 0 | AF22: =IFERROR(SUM(I22:AE22)/SUM(I23:AE23),0) -> 1
H23: ='PANEL DE CONTROL DISTRITAL'!H22 -> Credenciales totales en SIIRFE disponibles para entrega | I23: 2680 | J23: 2212 | K23: 2557 | L23: 1968 | M23: 1472 | N23: 1164 | O23: 936 | P23: 817 | Q23: 675 | R23: 643 | S23: 598 | T23: 578 | U23: 630 | V23: 661 | W23: 675 | X23: 682 | Y23: 673 | Z23: 728 | AA23: 837 | AB23: 794 | AC23: 706 | AD23: 398 | AE23: 0
A25: ='PANEL DE CONTROL DISTRITAL'!A24 -> 6 | B25: ='PANEL DE CONTROL DISTRITAL'!B24 -> ENTREGA | C25: ='PANEL DE CONTROL DISTRITAL'!C24 -> Operador de Equipo Tecnológico | D25: ='PANEL DE CONTROL DISTRITAL'!D24 -> Efectividad de entrega de CPV en MAC = | E25: ='PANEL DE CONTROL DISTRITAL'!E24 -> (Total de credenciales entregadas / Total de credenciales solicitadas) x 100 | F25: ='PANEL DE CONTROL DISTRITAL'!F24 -> Semanal (remesa) | G25: ='PANEL DE CONTROL DISTRITAL'!G24 -> 0.9 | H25: ='PANEL DE CONTROL DISTRITAL'!H24 -> Total de credenciales entregadas | I25: 1614 | J25: 2922 | K25: 734 | L25: 346 | M25: 930 | N25: 667 | O25: 556 | P25: 496 | Q25: 429 | R25: 86 | S25: 274 | T25: 183 | U25: 283 | V25: 238 | W25: 271 | X25: 346 | Y25: 316 | Z25: 398 | AA25: 382 | AB25: 153 | AC25: 418 | AD25: 308 | AE25: 0 | AF25: =IFERROR(SUM(I25:AE25)/SUM(I26:AE26),0) -> 1
H26: ='PANEL DE CONTROL DISTRITAL'!H25 -> Total de credenciales solicitadas | I26: 1614 | J26: 2922 | K26: 734 | L26: 346 | M26: 930 | N26: 667 | O26: 556 | P26: 496 | Q26: 429 | R26: 86 | S26: 274 | T26: 183 | U26: 283 | V26: 238 | W26: 271 | X26: 346 | Y26: 316 | Z26: 398 | AA26: 382 | AB26: 153 | AC26: 418 | AD26: 308 | AE26: 0
B27: *Registre el valor nominal solicitado en la celda, el resultado proporcional esta automatizado.
I29: Semaforización
J30: Valor que requiere atención y justificación en el apartado de observaciones
J31: Valor suficiente
J32: Valor esperado
B34: CUADRO DE OBSERVACIONES
B35: Descripción | H35: No conformidad

Sheet 090651
A1: ='PANEL DE CONTROL DISTRITAL'!A1:Q1 -> INSTITUTO NACIONAL ELECTORAL SISTEMA DE GESTIÓN DE LA CALIDAD CIUDAD DE MÉXICO
D2: Distrito | E2: 6 | F2: Módulo | H2: 90651
A4: TABLERO DE CONTROL DE PROCESOS SUSTANTIVOS DEL SISTEMA DE GESTIÓN DE LA CALIDAD
A6: ='PANEL DE CONTROL DISTRITAL'!A6 -> Número | B6: ='PANEL DE CONTROL DISTRITAL'!B6 -> PROCESOS SUSTANTIVOS E INDICADORES | I6: SEMANA OPERATIVA | AF6: % AVANCE REGISTRADO
B7: ='PANEL DE CONTROL DISTRITAL'!B7 -> DESCRIPCIÓN | E7: ='PANEL DE CONTROL DISTRITAL'!E7 -> MEDICIÓN | I7: ='PANEL DE CONTROL DISTRITAL'!A5 -> CAMPAÑA ANUAL PERMANENTE 2024
B9: ='PANEL DE CONTROL DISTRITAL'!B8 -> Proceso | C9: ='PANEL DE CONTROL DISTRITAL'!C8 -> Dueño de Proceso | D9: ='PANEL DE CONTROL DISTRITAL'!D8 -> Indicador | E9: ='PANEL DE CONTROL DISTRITAL'!E8 -> Cálculo | F9: ='PANEL DE CONTROL DISTRITAL'!F8 -> Periodo | G9: ='PANEL DE CONTROL DISTRITAL'!G8 -> Estimado | H9: ='PANEL DE CONTROL DISTRITAL'!H8 -> Nominativo | I9: ='090151'!I9 -> 2024-05 | J9: ='090151'!J9 -> 2024-06 | K9: ='090151'!K9 -> 2024-07 | L9: ='090151'!L9 -> 2024-08 | M9: ='090151'!M9 -> 2024-09 | N9: ='090151'!N9 -> 2024-10 | O9: ='090151'!O9 -> 2024-11 | P9: ='090151'!P9 -> 2024-12 | ... AE9: ='090151'!AE9 -> 2024-27
A10: ='PANEL DE CONTROL DISTRITAL'!A9 -> 1 | B10: ='PANEL DE CONTROL DISTRITAL'!B9 -> ENTREVISTA | C10: ='PANEL DE CONTROL DISTRITAL'!C9 -> Auxiliar de Atención Ciudadana | D10: ='PANEL DE CONTROL DISTRITAL'!D9 -> Efectividad de la entrevista = | E10: ='PANEL DE CONTROL DISTRITAL'!E9 -> (Número de trámites aplicados / (Número de fichas requisitadas - Notificaciones de improcedencia de trámite)) x 100 | F10: ='PANEL DE CONTROL DISTRITAL'!F9 -> Semanal (remesa) | G10: ='PANEL DE CONTROL DISTRITAL'!G9 -> 0.9 | H10: ='PANEL DE CONTROL DISTRITAL'!H9 -> Número de trámites aplicados | I10: 495 | J10: 612 | K10: 637 | L10: 76 | M10: 357 | N10: 343 | O10: 380 | P10: 379 | Q10: 250 | R10: 48 | S10: 181 | T10: 188 | U10: 299 | V10: 272 | W10: 323 | X10: 308 | Y10: 324 | Z10: 398 | AA10: 571 | AB10: 205 | AC10: 0 | AD10: 2 | AE10: 0 | AF10: =IFERROR(SUM(I10:AE10)/SUM(I11:AE11),0) -> 0.99535859
H11: ='PANEL DE CONTROL DISTRITAL'!H10 -> Número de fichas requisitadas - Notificaciones de improcedencia de trámite | I11: 499 | J11: 616 | K11: 650 | L11: 76 | M11: 359 | N11: 343 | O11: 380 | P11: 379 | Q11: 252 | R11: 48 | S11: 181 | T11: 188 | U11: 300 | V11: 273 | W11: 323 | X11: 308 | Y11: 324 | Z11: 398 | AA11: 571 | AB11: 209 | AC11: 0 | AD11: 2 | AE11: 0
A13: ='PANEL DE CONTROL DISTRITAL'!A12 -> 2 | B13: ='PANEL DE CONTROL DISTRITAL'!B12 -> TRÁMITE | C13: ='PANEL DE CONTROL DISTRITAL'!C12 -> Operador de Equipo Tecnológico | D13: ='PANEL DE CONTROL DISTRITAL'!D12 -> Trámites exitosos efectivos= | E13: ='PANEL DE CONTROL DISTRITAL'!E12 -> (Número de trámites exitosos / Número de trámites aplicados) x 100 | F13: ='PANEL DE CONTROL DISTRITAL'!F12 -> Semanal (remesa) | G13: ='PANEL DE CONTROL DISTRITAL'!G12 -> 0.9 | H13: ='PANEL DE CONTROL DISTRITAL'!H12 -> Número de trámites exitosos | I13: 495 | J13: 611 | K13: 636 | L13: 76 | M13: 357 | N13: 342 | O13: 380 | P13: 379 | Q13: 250 | R13: 48 | S13: 181 | T13: 188 | U13: 299 | V13: 272 | W13: 322 | X13: 308 | Y13: 324 | Z13: 398 | AA13: 570 | AB13: 205 | AC13: 0 | AD13: 2 | AE13: 0 | AF13: =IFERROR(SUM(I13:AE13)/SUM(I14:AE14),0) -> 0.99924789
H14: ='PANEL DE CONTROL DISTRITAL'!H13 -> Número de trámites aplicados | I14: 495 | J14: 612 | K14: 637 | L14: 76 | M14: 357 | N14: 343 | O14: 380 | P14: 379 | Q14: 250 | R14: 48 | S14: 181 | T14: 188 | U14: 299 | V14: 272 | W14: 323 | X14: 308 | Y14: 324 | Z14: 398 | AA14: 571 | AB14: 205 | AC14: 0 | AD14: 2 | AE14: 0
A16: ='PANEL DE CONTROL DISTRITAL'!A15 -> 3 | B16: ='PANEL DE CONTROL DISTRITAL'!B15 -> TRANSFERENCIA | C16: ='PANEL DE CONTROL DISTRITAL'!C15 -> Responsable de Módulo | D16: ='PANEL DE CONTROL DISTRITAL'!D15 -> Transacciones exitosas = | E16: ='PANEL DE CONTROL DISTRITAL'!E15 -> (Número de Archivos de Transacción aceptados /Total de Archivos de Transacción procesados) x100 | F16: ='PANEL DE CONTROL DISTRITAL'!F15 -> Semanal (remesa) | G16: ='PANEL DE CONTROL DISTRITAL'!G15 -> 0.9 | H16: ='PANEL DE CONTROL DISTRITAL'!H15 -> Número de Archivos de Transacción aceptados | I16: 495 | J16: 612 | K16: 637 | L16: 76 | M16: 357 | N16: 343 | O16: 380 | P16: 379 | Q16: 250 | R16: 48 | S16: 181 | T16: 188 | U16: 299 | V16: 272 | W16: 323 | X16: 307 | Y16: 324 | Z16: 398 | AA16: 571 | AB16: 205 | AC16: 0 | AD16: 2 | AE16: 0 | AF16: =IFERROR(SUM(I16:AE16)/SUM(I17:AE17),0) -> 0.99984958
H17: ='PANEL DE CONTROL DISTRITAL'!H16 -> Total de Archivos de Transacción procesados | I17: 495 | J17: 612 | K17: 637 | L17: 76 | M17: 357 | N17: 343 | O17: 380 | P17: 379 | Q17: 250 | R17: 48 | S17: 181 | T17: 188 | U17: 299 | V17: 272 | W17: 323 | X17: 308 | Y17: 324 | Z17: 398 | AA17: 571 | AB17: 205 | AC17: 0 | AD17: 2 | AE17: 0
A19: ='PANEL DE CONTROL DISTRITAL'!A18 -> 4 | B19: ='PANEL DE CONTROL DISTRITAL'!B18 -> CONCILIACIÓN | C19: ='PANEL DE CONTROL DISTRITAL'!C18 -> Responsable de Módulo | D19: ='PANEL DE CONTROL DISTRITAL'!D18 -> Credenciales disponibles para entrega = | E19: ='PANEL DE CONTROL DISTRITAL'!E18 -> ((Credenciales recibidas - Credenciales inconsistentes) / Credenciales recibidas) x 100 | F19: ='PANEL DE CONTROL DISTRITAL'!F18 -> Semanal (remesa) | G19: ='PANEL DE CONTROL DISTRITAL'!G18 -> 0.9 | H19: ='PANEL DE CONTROL DISTRITAL'!H18 -> Credenciales Recibidas - Credenciales inconsistentes | I19: 1371 | J19: 2132 | K19: 545 | L19: 468 | M19: 446 | N19: 430 | O19: 269 | P19: 430 | Q19: 186 | R19: 125 | S19: 267 | T19: 148 | U19: 199 | V19: 342 | W19: 296 | X19: 371 | Y19: 288 | Z19: 396 | AA19: 468 | AB19: 104 | AC19: 361 | AD19: 0 | AE19: 0 | AF19: =IFERROR(SUM(I19:AE19)/SUM(I20:AE20),0) -> 1
H20: ='PANEL DE CONTROL DISTRITAL'!H19 -> Credenciales recibidas | I20: 1371 | J20: 2132 | K20: 545 | L20: 468 | M20: 446 | N20: 430 | O20: 269 | P20: 430 | Q20: 186 | R20: 125 | S20: 267 | T20: 148 | U20: 199 | V20: 342 | W20: 296 | X20: 371 | Y20: 288 | Z20: 396 | AA20: 468 | AB20: 104 | AC20: 361 | AD20: 0 | AE20: 0
A22: ='PANEL DE CONTROL DISTRITAL'!A21 -> 5 | B22: ='PANEL DE CONTROL DISTRITAL'!B21 -> CONCILIACIÓN | C22: ='PANEL DE CONTROL DISTRITAL'!C21 -> Responsable de Módulo | D22: ='PANEL DE CONTROL DISTRITAL'!D21 -> Credenciales disponibles para entrega = | E22: ='PANEL DE CONTROL DISTRITAL'!E21 -> (Credenciales en resguardo / Credenciales totales en SIIRFE disponibles para entrega) x 100 | F22: ='PANEL DE CONTROL DISTRITAL'!F21 -> Semanal (remesa) | G22: ='PANEL DE CONTROL DISTRITAL'!G21 -> 1 | H22: ='PANEL DE CONTROL DISTRITAL'!H21 -> Credenciales en resguardo | I22: 1887 | J22: 2156 | K22: 1968 | L22: 2053 | M22: 1596 | N22: 1289 | O22: 900 | P22: 751 | Q22: 490 | R22: 302 | S22: 311 | T22: 336 | U22: 299 | V22: 341 | W22: 351 | X22: 408 | Y22: 401 | Z22: 463 | AA22: 523 | AB22: 527 | AC22: 439 | AD22: 98 | AE22: 0 | AF22: =IFERROR(SUM(I22:AE22)/SUM(I23:AE23),0) -> 1
H23: ='PANEL DE CONTROL DISTRITAL'!H22 -> Credenciales totales en SIIRFE disponibles para entrega | I23: 1887 | J23: 2156 | K23: 1968 | L23: 2053 | M23: 1596 | N23: 1289 | O23: 900 | P23: 751 | Q23: 490 | R23: 302 | S23: 311 | T23: 336 | U23: 299 | V23: 341 | W23: 351 | X23: 408 | Y23: 401 | Z23: 463 | AA23: 523 | AB23: 527 | AC23: 439 | AD23: 98 | AE23: 0
A25: ='PANEL DE CONTROL DISTRITAL'!A24 -> 6 | B25: ='PANEL DE CONTROL DISTRITAL'!B24 -> ENTREGA | C25: ='PANEL DE CONTROL DISTRITAL'!C24 -> Operador de Equipo Tecnológico | D25: ='PANEL DE CONTROL DISTRITAL'!D24 -> Efectividad de entrega de CPV en MAC = | E25: ='PANEL DE CONTROL DISTRITAL'!E24 -> (Total de credenciales entregadas / Total de credenciales solicitadas) x 100 | F25: ='PANEL DE CONTROL DISTRITAL'!F24 -> Semanal (remesa) | G25: ='PANEL DE CONTROL DISTRITAL'!G24 -> 0.9 | H25: ='PANEL DE CONTROL DISTRITAL'!H24 -> Total de credenciales entregadas | I25: 1825 | J25: 1863 | K25: 727 | L25: 383 | M25: 903 | N25: 737 | O25: 623 | P25: 579 | Q25: 447 | R25: 67 | S25: 258 | T25: 123 | U25: 236 | V25: 300 | W25: 286 | X25: 314 | Y25: 295 | Z25: 334 | AA25: 408 | AB25: 100 | AC25: 449 | AD25: 341 | AE25: 0 | AF25: =IFERROR(SUM(I25:AE25)/SUM(I26:AE26),0) -> 1
H26: ='PANEL DE CONTROL DISTRITAL'!H25 -> Total de credenciales solicitadas | I26: 1825 | J26: 1863 | K26: 727 | L26: 383 | M26: 903 | N26: 737 | O26: 623 | P26: 579 | Q26: 447 | R26: 67 | S26: 258 | T26: 123 | U26: 236 | V26: 300 | W26: 286 | X26: 314 | Y26: 295 | Z26: 334 | AA26: 408 | AB26: 100 | AC26: 449 | AD26: 341 | AE26: 0
B27: *Registre el valor nominal solicitado en la celda, el resultado proporcional esta automatizado.
I29: Semaforización
J30: Valor que requiere atención y justificación en el apartado de observaciones
J31: Valor suficiente
J32: Valor esperado
B34: CUADRO DE OBSERVACIONES
B35: Descripción | H35: No conformidad

Sheet 090751
A1: ='PANEL DE CONTROL DISTRITAL'!A1:Q1 -> INSTITUTO NACIONAL ELECTORAL SISTEMA DE GESTIÓN DE LA CALIDAD CIUDAD DE MÉXICO
D2: Distrito | E2: 7 | F2: Módulo | H2: 90751
A4: TABLERO DE CONTROL DE PROCESOS SUSTANTIVOS DEL SISTEMA DE GESTIÓN DE LA CALIDAD
A6: ='PANEL DE CONTROL DISTRITAL'!A6 -> Número | B6: ='PANEL DE CONTROL DISTRITAL'!B6 -> PROCESOS SUSTANTIVOS E INDICADORES | I6: SEMANA OPERATIVA | AF6: % AVANCE REGISTRADO
B7: ='PANEL DE CONTROL DISTRITAL'!B7 -> DESCRIPCIÓN | E7: ='PANEL DE CONTROL DISTRITAL'!E7 -> MEDICIÓN | I7: ='PANEL DE CONTROL DISTRITAL'!A5 -> CAMPAÑA ANUAL PERMANENTE 2024
B9: ='PANEL DE CONTROL DISTRITAL'!B8 -> Proceso | C9: ='PANEL DE CONTROL DISTRITAL'!C8 -> Dueño de Proceso | D9: ='PANEL DE CONTROL DISTRITAL'!D8 -> Indicador | E9: ='PANEL DE CONTROL DISTRITAL'!E8 -> Cálculo | F9: ='PANEL DE CONTROL DISTRITAL'!F8 -> Periodo | G9: ='PANEL DE CONTROL DISTRITAL'!G8 -> Estimado | H9: ='PANEL DE CONTROL DISTRITAL'!H8 -> Nominativo | I9: ='090151'!I9 -> 2024-05 | J9: ='090151'!J9 -> 2024-06 | K9: ='090151'!K9 -> 2024-07 | L9: ='090151'!L9 -> 2024-08 | M9: ='090151'!M9 -> 2024-09 | N9: ='090151'!N9 -> 2024-10 | O9: ='090151'!O9 -> 2024-11 | P9: ='090151'!P9 -> 2024-12 | ... AE9: ='090151'!AE9 -> 2024-27
A10: ='PANEL DE CONTROL DISTRITAL'!A9 -> 1 | B10: ='PANEL DE CONTROL DISTRITAL'!B9 -> ENTREVISTA | C10: ='PANEL DE CONTROL DISTRITAL'!C9 -> Auxiliar de Atención Ciudadana | D10: ='PANEL DE CONTROL DISTRITAL'!D9 -> Efectividad de la entrevista = | E10: ='PANEL DE CONTROL DISTRITAL'!E9 -> (Número de trámites aplicados / (Número de fichas requisitadas - Notificaciones de improcedencia de trámite)) x 100 | F10: ='PANEL DE CONTROL DISTRITAL'!F9 -> Semanal (remesa) | G10: ='PANEL DE CONTROL DISTRITAL'!G9 -> 0.9 | H10: ='PANEL DE CONTROL DISTRITAL'!H9 -> Número de trámites aplicados | I10: 630 | J10: 783 | K10: 630 | L10: 102 | M10: 455 | N10: 447 | O10: 481 | P10: 442 | Q10: 356 | R10: 61 | S10: 253 | T10: 241 | U10: 337 | V10: 422 | W10: 501 | X10: 429 | Y10: 407 | Z10: 544 | AA10: 682 | AB10: 293 | AC10: 0 | AD10: 0 | AE10: 0 | AF10: =IFERROR(SUM(I10:AE10)/SUM(I11:AE11),0) -> 0.99229152
H11: ='PANEL DE CONTROL DISTRITAL'!H10 -> Número de fichas requisitadas - Notificaciones de improcedencia de trámite | I11: 630 | J11: 784 | K11: 630 | L11: 102 | M11: 457 | N11: 452 | O11: 481 | P11: 442 | Q11: 356 | R11: 61 | S11: 253 | T11: 241 | U11: 337 | V11: 428 | W11: 511 | X11: 439 | Y11: 411 | Z11: 551 | AA11: 689 | AB11: 307 | AC11: 0 | AD11: 0 | AE11: 0
A13: ='PANEL DE CONTROL DISTRITAL'!A12 -> 2 | B13: ='PANEL DE CONTROL DISTRITAL'!B12 -> TRÁMITE | C13: ='PANEL DE CONTROL DISTRITAL'!C12 -> Operador de Equipo Tecnológico | D13: ='PANEL DE CONTROL DISTRITAL'!D12 -> Trámites exitosos efectivos= | E13: ='PANEL DE CONTROL DISTRITAL'!E12 -> (Número de trámites exitosos / Número de trámites aplicados) x 100 | F13: ='PANEL DE CONTROL DISTRITAL'!F12 -> Semanal (remesa) | G13: ='PANEL DE CONTROL DISTRITAL'!G12 -> 0.9 | H13: ='PANEL DE CONTROL DISTRITAL'!H12 -> Número de trámites exitosos | I13: 627 | J13: 783 | K13: 630 | L13: 102 | M13: 455 | N13: 447 | O13: 479 | P13: 442 | Q13: 355 | R13: 61 | S13: 253 | T13: 241 | U13: 337 | V13: 422 | W13: 501 | X13: 427 | Y13: 407 | Z13: 544 | AA13: 681 | AB13: 293 | AC13: 0 | AD13: 0 | AE13: 0 | AF13: =IFERROR(SUM(I13:AE13)/SUM(I14:AE14),0) -> 0.99894068
H14: ='PANEL DE CONTROL DISTRITAL'!H13 -> Número de trámites aplicados | I14: 630 | J14: 783 | K14: 630 | L14: 102 | M14: 455 | N14: 447 | O14: 481 | P14: 442 | Q14: 356 | R14: 61 | S14: 253 | T14: 241 | U14: 337 | V14: 422 | W14: 501 | X14: 429 | Y14: 407 | Z14: 544 | AA14: 682 | AB14: 293 | AC14: 0 | AD14: 0 | AE14: 0
A16: ='PANEL DE CONTROL DISTRITAL'!A15 -> 3 | B16: ='PANEL DE CONTROL DISTRITAL'!B15 -> TRANSFERENCIA | C16: ='PANEL DE CONTROL DISTRITAL'!C15 -> Responsable de Módulo | D16: ='PANEL DE CONTROL DISTRITAL'!D15 -> Transacciones exitosas = | E16: ='PANEL DE CONTROL DISTRITAL'!E15 -> (Número de Archivos de Transacción aceptados /Total de Archivos de Transacción procesados) x100 | F16: ='PANEL DE CONTROL DISTRITAL'!F15 -> Semanal (remesa) | G16: ='PANEL DE CONTROL DISTRITAL'!G15 -> 0.9 | H16: ='PANEL DE CONTROL DISTRITAL'!H15 -> Número de Archivos de Transacción aceptados | I16: 630 | J16: 782 | K16: 630 | L16: 102 | M16: 455 | N16: 447 | O16: 481 | P16: 442 | Q16: 356 | R16: 61 | S16: 253 | T16: 241 | U16: 337 | V16: 422 | W16: 501 | X16: 429 | Y16: 407 | Z16: 544 | AA16: 682 | AB16: 293 | AC16: 0 | AD16: 0 | AE16: 0 | AF16: =IFERROR(SUM(I16:AE16)/SUM(I17:AE17),0) -> 0.9998823
H17: ='PANEL DE CONTROL DISTRITAL'!H16 -> Total de Archivos de Transacción procesados | I17: 630 | J17: 783 | K17: 630 | L17: 102 | M17: 455 | N17: 447 | O17: 481 | P17: 442 | Q17: 356 | R17: 61 | S17: 253 | T17: 241 | U17: 337 | V17: 422 | W17: 501 | X17: 429 | Y17: 407 | Z17: 544 | AA17: 682 | AB17: 293 | AC17: 0 | AD17: 0 | AE17: 0
A19: ='PANEL DE CONTROL DISTRITAL'!A18 -> 4 | B19: ='PANEL DE CONTROL DISTRITAL'!B18 -> CONCILIACIÓN | C19: ='PANEL DE CONTROL DISTRITAL'!C18 -> Responsable de Módulo | D19: ='PANEL DE CONTROL DISTRITAL'!D18 -> Credenciales disponibles para entrega = | E19: ='PANEL DE CONTROL DISTRITAL'!E18 -> ((Credenciales recibidas - Credenciales inconsistentes) / Credenciales recibidas) x 100 | F19: ='PANEL DE CONTROL DISTRITAL'!F18 -> Semanal (remesa) | G19: ='PANEL DE CONTROL DISTRITAL'!G18 -> 0.9 | H19: ='PANEL DE CONTROL DISTRITAL'!H18 -> Credenciales Recibidas - Credenciales inconsistentes | I19: 1503 | J19: 3043 | K19: 955 | L19: 214 | M19: 587 | N19: 474 | O19: 431 | P19: 457 | Q19: 390 | R19: 93 | S19: 292 | T19: 193 | U19: 364 | V19: 368 | W19: 506 | X19: 441 | Y19: 365 | Z19: 543 | AA19: 586 | AB19: 139 | AC19: 456 | AD19: 0 | AE19: 0 | AF19: =IFERROR(SUM(I19:AE19)/SUM(I20:AE20),0) -> 1
H20: ='PANEL DE CONTROL DISTRITAL'!H19 -> Credenciales recibidas | I20: 1503 | J20: 3043 | K20: 955 | L20: 214 | M20: 587 | N20: 474 | O20: 431 | P20: 457 | Q20: 390 | R20: 93 | S20: 292 | T20: 193 | U20: 364 | V20: 368 | W20: 506 | X20: 441 | Y20: 365 | Z20: 543 | AA20: 586 | AB20: 139 | AC20: 456 | AD20: 0 | AE20: 0
A22: ='PANEL DE CONTROL DISTRITAL'!A21 -> 5 | B22: ='PANEL DE CONTROL DISTRITAL'!B21 -> CONCILIACIÓN | C22: ='PANEL DE CONTROL DISTRITAL'!C21 -> Responsable de Módulo | D22: ='PANEL DE CONTROL DISTRITAL'!D21 -> Credenciales disponibles para entrega = | E22: ='PANEL DE CONTROL DISTRITAL'!E21 -> (Credenciales en resguardo / Credenciales totales en SIIRFE disponibles para entrega) x 100 | F22: ='PANEL DE CONTROL DISTRITAL'!F21 -> Semanal (remesa) | G22: ='PANEL DE CONTROL DISTRITAL'!G21 -> 1 | H22: ='PANEL DE CONTROL DISTRITAL'!H21 -> Credenciales en resguardo | I22: 2684 | J22: 3772 | K22: 3143 | L22: 2842 | M22: 1984 | N22: 1510 | O22: 1137 | P22: 957 | Q22: 847 | R22: 894 | S22: 888 | T22: 783 | U22: 779 | V22: 863 | W22: 975 | X22: 792 | Y22: 776 | Z22: 896 | AA22: 832 | AB22: 893 | AC22: 670 | AD22: 178 | AE22: 0 | AF22: =IFERROR(SUM(I22:AE22)/SUM(I23:AE23),0) -> 1
H23: ='PANEL DE CONTROL DISTRITAL'!H22 -> Credenciales totales en SIIRFE disponibles para entrega | I23: 2684 | J23: 3772 | K23: 3143 | L23: 2842 | M23: 1984 | N23: 1510 | O23: 1137 | P23: 957 | Q23: 847 | R23: 894 | S23: 888 | T23: 783 | U23: 779 | V23: 863 | W23: 975 | X23: 792 | Y23: 776 | Z23: 896 | AA23: 832 | AB23: 893 | AC23: 670 | AD23: 178 | AE23: 0
A25: ='PANEL DE CONTROL DISTRITAL'!A24 -> 6 | B25: ='PANEL DE CONTROL DISTRITAL'!B24 -> ENTREGA | C25: ='PANEL DE CONTROL DISTRITAL'!C24 -> Operador de Equipo Tecnológico | D25: ='PANEL DE CONTROL DISTRITAL'!D24 -> Efectividad de entrega de CPV en MAC = | E25: ='PANEL DE CONTROL DISTRITAL'!E24 -> (Total de credenciales entregadas / Total de credenciales solicitadas) x 100 | F25: ='PANEL DE CONTROL DISTRITAL'!F24 -> Semanal (remesa) | G25: ='PANEL DE CONTROL DISTRITAL'!G24 -> 0.9 | H25: ='PANEL DE CONTROL DISTRITAL'!H24 -> Total de credenciales entregadas | I25: 1015 | J25: 1955 | K25: 1579 | L25: 515 | M25: 1445 | N25: 948 | O25: 754 | P25: 637 | Q25: 500 | R25: 46 | S25: 298 | T25: 298 | U25: 368 | V25: 284 | W25: 394 | X25: 624 | Y25: 381 | Z25: 423 | AA25: 650 | AB25: 78 | AC25: 679 | AD25: 492 | AE25: 0 | AF25: =IFERROR(SUM(I25:AE25)/SUM(I26:AE26),0) -> 1
H26: ='PANEL DE CONTROL DISTRITAL'!H25 -> Total de credenciales solicitadas | I26: 1015 | J26: 1955 | K26: 1579 | L26: 515 | M26: 1445 | N26: 948 | O26: 754 | P26: 637 | Q26: 500 | R26: 46 | S26: 298 | T26: 298 | U26: 368 | V26: 284 | W26: 394 | X26: 624 | Y26: 381 | Z26: 423 | AA26: 650 | AB26: 78 | AC26: 679 | AD26: 492 | AE26: 0
B27: *Registre el valor nominal solicitado en la celda, el resultado proporcional esta automatizado.
I29: Semaforización
J30: Valor que requiere atención y justificación en el apartado de observaciones
J31: Valor suficiente
J32: Valor esperado
B34: CUADRO DE OBSERVACIONES
B35: Descripción | H35: No conformidad

Sheet 090852
A1: ='PANEL DE CONTROL DISTRITAL'!A1:Q1 -> INSTITUTO NACIONAL ELECTORAL SISTEMA DE GESTIÓN DE LA CALIDAD CIUDAD DE MÉXICO
D2: Distrito | E2: 8 | F2: Módulo | H2: 90852
A4: TABLERO DE CONTROL DE PROCESOS SUSTANTIVOS DEL SISTEMA DE GESTIÓN DE LA CALIDAD
A6: ='PANEL DE CONTROL DISTRITAL'!A6 -> Número | B6: ='PANEL DE CONTROL DISTRITAL'!B6 -> PROCESOS SUSTANTIVOS E INDICADORES | I6: SEMANA OPERATIVA | AF6: % AVANCE REGISTRADO
B7: ='PANEL DE CONTROL DISTRITAL'!B7 -> DESCRIPCIÓN | E7: ='PANEL DE CONTROL DISTRITAL'!E7 -> MEDICIÓN | I7: ='PANEL DE CONTROL DISTRITAL'!A5 -> CAMPAÑA ANUAL PERMANENTE 2024
B9: ='PANEL DE CONTROL DISTRITAL'!B8 -> Proceso | C9: ='PANEL DE CONTROL DISTRITAL'!C8 -> Dueño de Proceso | D9: ='PANEL DE CONTROL DISTRITAL'!D8 -> Indicador | E9: ='PANEL DE CONTROL DISTRITAL'!E8 -> Cálculo | F9: ='PANEL DE CONTROL DISTRITAL'!F8 -> Periodo | G9: ='PANEL DE CONTROL DISTRITAL'!G8 -> Estimado | H9: ='PANEL DE CONTROL DISTRITAL'!H8 -> Nominativo | I9: ='090151'!I9 -> 2024-05 | J9: ='090151'!J9 -> 2024-06 | K9: ='090151'!K9 -> 2024-07 | L9: ='090151'!L9 -> 2024-08 | M9: ='090151'!M9 -> 2024-09 | N9: ='090151'!N9 -> 2024-10 | O9: ='090151'!O9 -> 2024-11 | P9: ='090151'!P9 -> 2024-12 | ... AE9: ='090151'!AE9 -> 2024-27
A10: ='PANEL DE CONTROL DISTRITAL'!A9 -> 1 | B10: ='PANEL DE CONTROL DISTRITAL'!B9 -> ENTREVISTA | C10: ='PANEL DE CONTROL DISTRITAL'!C9 -> Auxiliar de Atención Ciudadana | D10: ='PANEL DE CONTROL DISTRITAL'!D9 -> Efectividad de la entrevista = | E10: ='PANEL DE CONTROL DISTRITAL'!E9 -> (Número de trámites aplicados / (Número de fichas requisitadas - Notificaciones de improcedencia de trámite)) x 100 | F10: ='PANEL DE CONTROL DISTRITAL'!F9 -> Semanal (remesa) | G10: ='PANEL DE CONTROL DISTRITAL'!G9 -> 0.9 | H10: ='PANEL DE CONTROL DISTRITAL'!H9 -> Número de trámites aplicados | I10: 504 | J10: 1126 | K10: 976 | L10: 111 | M10: 595 | N10: 627 | O10: 649 | P10: 521 | Q10: 446 | R10: 49 | S10: 198 | T10: 205 | U10: 282 | V10: 366 | W10: 443 | X10: 389 | Y10: 389 | Z10: 529 | AA10: 696 | AB10: 269 | AC10: 0 | AD10: 2 | AE10: 0 | AF10: =IFERROR(SUM(I10:AE10)/SUM(I11:AE11),0) -> 0.97209833
H11: ='PANEL DE CONTROL DISTRITAL'!H10 -> Número de fichas requisitadas - Notificaciones de improcedencia de trámite | I11: 510 | J11: 1154 | K11: 1000 | L11: 118 | M11: 620 | N11: 660 | O11: 691 | P11: 521 | Q11: 446 | R11: 54 | S11: 210 | T11: 207 | U11: 298 | V11: 370 | W11: 458 | X11: 399 | Y11: 396 | Z11: 539 | AA11: 716 | AB11: 272 | AC11: 0 | AD11: 2 | AE11: 0
A13: ='PANEL DE CONTROL DISTRITAL'!A12 -> 2 | B13: ='PANEL DE CONTROL DISTRITAL'!B12 -> TRÁMITE | C13: ='PANEL DE CONTROL DISTRITAL'!C12 -> Operador de Equipo Tecnológico | D13: ='PANEL DE CONTROL DISTRITAL'!D12 -> Trámites exitosos efectivos= | E13: ='PANEL DE CONTROL DISTRITAL'!E12 -> (Número de trámites exitosos / Número de trámites aplicados) x 100 | F13: ='PANEL DE CONTROL DISTRITAL'!F12 -> Semanal (remesa) | G13: ='PANEL DE CONTROL DISTRITAL'!G12 -> 0.9 | H13: ='PANEL DE CONTROL DISTRITAL'!H12 -> Número de trámites exitosos | I13: 504 | J13: 1124 | K13: 976 | L13: 111 | M13: 595 | N13: 627 | O13: 648 | P13: 521 | Q13: 446 | R13: 49 | S13: 197 | T13: 205 | U13: 282 | V13: 366 | W13: 443 | X13: 389 | Y13: 389 | Z13: 528 | AA13: 696 | AB13: 269 | AC13: 0 | AD13: 0 | AE13: 0 | AF13: =IFERROR(SUM(I13:AE13)/SUM(I14:AE14),0) -> 0.99925309
H14: ='PANEL DE CONTROL DISTRITAL'!H13 -> Número de trámites aplicados | I14: 504 | J14: 1126 | K14: 976 | L14: 111 | M14: 595 | N14: 627 | O14: 649 | P14: 521 | Q14: 446 | R14: 49 | S14: 198 | T14: 205 | U14: 282 | V14: 366 | W14: 443 | X14: 389 | Y14: 389 | Z14: 529 | AA14: 696 | AB14: 269 | AC14: 0 | AD14: 2 | AE14: 0
A16: ='PANEL DE CONTROL DISTRITAL'!A15 -> 3 | B16: ='PANEL DE CONTROL DISTRITAL'!B15 -> TRANSFERENCIA | C16: ='PANEL DE CONTROL DISTRITAL'!C15 -> Responsable de Módulo | D16: ='PANEL DE CONTROL DISTRITAL'!D15 -> Transacciones exitosas = | E16: ='PANEL DE CONTROL DISTRITAL'!E15 -> (Número de Archivos de Transacción aceptados /Total de Archivos de Transacción procesados) x100 | F16: ='PANEL DE CONTROL DISTRITAL'!F15 -> Semanal (remesa) | G16: ='PANEL DE CONTROL DISTRITAL'!G15 -> 0.9 | H16: ='PANEL DE CONTROL DISTRITAL'!H15 -> Número de Archivos de Transacción aceptados | I16: 504 | J16: 1126 | K16: 976 | L16: 111 | M16: 595 | N16: 626 | O16: 649 | P16: 521 | Q16: 446 | R16: 49 | S16: 198 | T16: 205 | U16: 282 | V16: 366 | W16: 443 | X16: 389 | Y16: 389 | Z16: 529 | AA16: 695 | AB16: 269 | AC16: 0 | AD16: 2 | AE16: 0 | AF16: =IFERROR(SUM(I16:AE16)/SUM(I17:AE17),0) -> 0.9997866
H17: ='PANEL DE CONTROL DISTRITAL'!H16 -> Total de Archivos de Transacción procesados | I17: 504 | J17: 1126 | K17: 976 | L17: 111 | M17: 595 | N17: 627 | O17: 649 | P17: 521 | Q17: 446 | R17: 49 | S17: 198 | T17: 205 | U17: 282 | V17: 366 | W17: 443 | X17: 389 | Y17: 389 | Z17: 529 | AA17: 696 | AB17: 269 | AC17: 0 | AD17: 2 | AE17: 0
A19: ='PANEL DE CONTROL DISTRITAL'!A18 -> 4 | B19: ='PANEL DE CONTROL DISTRITAL'!B18 -> CONCILIACIÓN | C19: ='PANEL DE CONTROL DISTRITAL'!C18 -> Responsable de Módulo | D19: ='PANEL DE CONTROL DISTRITAL'!D18 -> Credenciales disponibles para entrega = | E19: ='PANEL DE CONTROL DISTRITAL'!E18 -> ((Credenciales recibidas - Credenciales inconsistentes) / Credenciales recibidas) x 100 | F19: ='PANEL DE CONTROL DISTRITAL'!F18 -> Semanal (remesa) | G19: ='PANEL DE CONTROL DISTRITAL'!G18 -> 0.9 | H19: ='PANEL DE CONTROL DISTRITAL'!H18 -> Credenciales Recibidas - Credenciales inconsistentes | I19: 1412 | J19: 2505 | K19: 1376 | L19: 359 | M19: 777 | N19: 604 | O19: 658 | P19: 550 | Q19: 510 | R19: 103 | S19: 272 | T19: 158 | U19: 313 | V19: 343 | W19: 392 | X19: 435 | Y19: 338 | Z19: 547 | AA19: 561 | AB19: 136 | AC19: 442 | AD19: 2 | AE19: 0 | AF19: =IFERROR(SUM(I19:AE19)/SUM(I20:AE20),0) -> 0.99992184
H20: ='PANEL DE CONTROL DISTRITAL'!H19 -> Credenciales recibidas | I20: 1412 | J20: 2505 | K20: 1376 | L20: 359 | M20: 777 | N20: 604 | O20: 659 | P20: 550 | Q20: 510 | R20: 103 | S20: 272 | T20: 158 | U20: 313 | V20: 343 | W20: 392 | X20: 435 | Y20: 338 | Z20: 547 | AA20: 561 | AB20: 136 | AC20: 442 | AD20: 2 | AE20: 0
A22: ='PANEL DE CONTROL DISTRITAL'!A21 -> 5 | B22: ='PANEL DE CONTROL DISTRITAL'!B21 -> CONCILIACIÓN | C22: ='PANEL DE CONTROL DISTRITAL'!C21 -> Responsable de Módulo | D22: ='PANEL DE CONTROL DISTRITAL'!D21 -> Credenciales disponibles para entrega = | E22: ='PANEL DE CONTROL DISTRITAL'!E21 -> (Credenciales en resguardo / Credenciales totales en SIIRFE disponibles para entrega) x 100 | F22: ='PANEL DE CONTROL DISTRITAL'!F21 -> Semanal (remesa) | G22: ='PANEL DE CONTROL DISTRITAL'!G21 -> 1 | H22: ='PANEL DE CONTROL DISTRITAL'!H21 -> Credenciales en resguardo | I22: 2800 | J22: 2987 | K22: 3101 | L22: 2925 | M22: 2227 | N22: 1782 | O22: 1583 | P22: 1453 | Q22: 961 | R22: 966 | S22: 813 | T22: 688 | U22: 646 | V22: 737 | W22: 775 | X22: 810 | Y22: 739 | Z22: 875 | AA22: 825 | AB22: 897 | AC22: 776 | AD22: 196 | AE22: 0 | AF22: =IFERROR(SUM(I22:AE22)/SUM(I23:AE23),0) -> 1.0000677
H23: ='PANEL DE CONTROL DISTRITAL'!H22 -> Credenciales totales en SIIRFE disponibles para entrega | I23: 2800 | J23: 2987 | K23: 3101 | L23: 2928 | M23: 2227 | N23: 1782 | O23: 1583 | P23: 1453 | Q23: 961 | R23: 961 | S23: 813 | T23: 688 | U23: 646 | V23: 737 | W23: 775 | X23: 810 | Y23: 739 | Z23: 875 | AA23: 825 | AB23: 897 | AC23: 776 | AD23: 196 | AE23: 0
A25: ='PANEL DE CONTROL DISTRITAL'!A24 -> 6 | B25: ='PANEL DE CONTROL DISTRITAL'!B24 -> ENTREGA | C25: ='PANEL DE CONTROL DISTRITAL'!C24 -> Operador de Equipo Tecnológico | D25: ='PANEL DE CONTROL DISTRITAL'!D24 -> Efectividad de entrega de CPV en MAC = | E25: ='PANEL DE CONTROL DISTRITAL'!E24 -> (Total de credenciales entregadas / Total de credenciales solicitadas) x 100 | F25: ='PANEL DE CONTROL DISTRITAL'!F24 -> Semanal (remesa) | G25: ='PANEL DE CONTROL DISTRITAL'!G24 -> 0.9 | H25: ='PANEL DE CONTROL DISTRITAL'!H24 -> Total de credenciales entregadas | I25: 1499 | J25: 2318 | K25: 1258 | L25: 535 | M25: 1475 | N25: 1049 | O25: 788 | P25: 680 | Q25: 587 | R25: 98 | S25: 425 | T25: 283 | U25: 356 | V25: 251 | W25: 354 | X25: 400 | Y25: 409 | Z25: 411 | AA25: 611 | AB25: 64 | AC25: 563 | AD25: 582 | AE25: 0 | AF25: =IFERROR(SUM(I25:AE25)/SUM(I26:AE26),0) -> 1
H26: ='PANEL DE CONTROL DISTRITAL'!H25 -> Total de credenciales solicitadas | I26: 1499 | J26: 2318 | K26: 1258 | L26: 535 | M26: 1475 | N26: 1049 | O26: 788 | P26: 680 | Q26: 587 | R26: 98 | S26: 425 | T26: 283 | U26: 356 | V26: 251 | W26: 354 | X26: 400 | Y26: 409 | Z26: 411 | AA26: 611 | AB26: 64 | AC26: 563 | AD26: 582 | AE26: 0
B27: *Registre el valor nominal solicitado en la celda, el resultado proporcional esta automatizado.
I29: Semaforización
J30: Valor que requiere atención y justificación en el apartado de observaciones
J31: Valor suficiente
J32: Valor esperado
B34: CUADRO DE OBSERVACIONES
B35: Descripción | H35: No conformidad

Sheet 090853
A1: ='PANEL DE CONTROL DISTRITAL'!A1:Q1 -> INSTITUTO NACIONAL ELECTORAL SISTEMA DE GESTIÓN DE LA CALIDAD CIUDAD DE MÉXICO
D2: Distrito | E2: 8 | F2: Módulo | H2: 90853
A4: TABLERO DE CONTROL DE PROCESOS SUSTANTIVOS DEL SISTEMA DE GESTIÓN DE LA CALIDAD
A6: ='PANEL DE CONTROL DISTRITAL'!A6 -> Número | B6: ='PANEL DE CONTROL DISTRITAL'!B6 -> PROCESOS SUSTANTIVOS E INDICADORES | I6: SEMANA OPERATIVA | AF6: % AVANCE REGISTRADO
B7: ='PANEL DE CONTROL DISTRITAL'!B7 -> DESCRIPCIÓN | E7: ='PANEL DE CONTROL DISTRITAL'!E7 -> MEDICIÓN | I7: ='PANEL DE CONTROL DISTRITAL'!A5 -> CAMPAÑA ANUAL PERMANENTE 2024
B9: ='PANEL DE CONTROL DISTRITAL'!B8 -> Proceso | C9: ='PANEL DE CONTROL DISTRITAL'!C8 -> Dueño de Proceso | D9: ='PANEL DE CONTROL DISTRITAL'!D8 -> Indicador | E9: ='PANEL DE CONTROL DISTRITAL'!E8 -> Cálculo | F9: ='PANEL DE CONTROL DISTRITAL'!F8 -> Periodo | G9: ='PANEL DE CONTROL DISTRITAL'!G8 -> Estimado | H9: ='PANEL DE CONTROL DISTRITAL'!H8 -> Nominativo | I9: ='090151'!I9 -> 2024-05 | J9: ='090151'!J9 -> 2024-06 | K9: ='090151'!K9 -> 2024-07 | L9: ='090151'!L9 -> 2024-08 | M9: ='090151'!M9 -> 2024-09 | N9: ='090151'!N9 -> 2024-10 | O9: ='090151'!O9 -> 2024-11 | P9: ='090151'!P9 -> 2024-12 | ... AE9: ='090151'!AE9 -> 2024-27
A10: ='PANEL DE CONTROL DISTRITAL'!A9 -> 1 | B10: ='PANEL DE CONTROL DISTRITAL'!B9 -> ENTREVISTA | C10: ='PANEL DE CONTROL DISTRITAL'!C9 -> Auxiliar de Atención Ciudadana | D10: ='PANEL DE CONTROL DISTRITAL'!D9 -> Efectividad de la entrevista = | E10: ='PANEL DE CONTROL DISTRITAL'!E9 -> (Número de trámites aplicados / (Número de fichas requisitadas - Notificaciones de improcedencia de trámite)) x 100 | F10: ='PANEL DE CONTROL DISTRITAL'!F9 -> Semanal (remesa) | G10: ='PANEL DE CONTROL DISTRITAL'!G9 -> 0.9 | H10: ='PANEL DE CONTROL DISTRITAL'!H9 -> Número de trámites aplicados | I10: 521 | J10: 955 | K10: 930 | L10: 100 | M10: 521 | N10: 572 | O10: 537 | P10: 520 | Q10: 414 | R10: 42 | S10: 181 | T10: 181 | U10: 272 | V10: 292 | W10: 389 | X10: 393 | Y10: 396 | Z10: 528 | AA10: 687 | AB10: 331 | AC10: 0 | AD10: 0 | AE10: 0 | AF10: =IFERROR(SUM(I10:AE10)/SUM(I11:AE11),0) -> 0.99331142
H11: ='PANEL DE CONTROL DISTRITAL'!H10 -> Número de fichas requisitadas - Notificaciones de improcedencia de trámite | I11: 535 | J11: 958 | K11: 932 | L11: 100 | M11: 521 | N11: 572 | O11: 537 | P11: 520 | Q11: 414 | R11: 42 | S11: 181 | T11: 181 | U11: 272 | V11: 292 | W11: 400 | X11: 402 | Y11: 406 | Z11: 531 | AA11: 691 | AB11: 334 | AC11: 0 | AD11: 0 | AE11: 0
A13: ='PANEL DE CONTROL DISTRITAL'!A12 -> 2 | B13: ='PANEL DE CONTROL DISTRITAL'!B12 -> TRÁMITE | C13: ='PANEL DE CONTROL DISTRITAL'!C12 -> Operador de Equipo Tecnológico | D13: ='PANEL DE CONTROL DISTRITAL'!D12 -> Trámites exitosos efectivos= | E13: ='PANEL DE CONTROL DISTRITAL'!E12 -> (Número de trámites exitosos / Número de trámites aplicados) x 100 | F13: ='PANEL DE CONTROL DISTRITAL'!F12 -> Semanal (remesa) | G13: ='PANEL DE CONTROL DISTRITAL'!G12 -> 0.9 | H13: ='PANEL DE CONTROL DISTRITAL'!H12 -> Número de trámites exitosos | I13: 521 | J13: 953 | K13: 929 | L13: 100 | M13: 521 | N13: 572 | O13: 537 | P13: 519 | Q13: 414 | R13: 42 | S13: 181 | T13: 181 | U13: 272 | V13: 291 | W13: 389 | X13: 392 | Y13: 395 | Z13: 527 | AA13: 687 | AB13: 331 | AC13: 0 | AD13: 0 | AE13: 0 | AF13: =IFERROR(SUM(I13:AE13)/SUM(I14:AE14),0) -> 0.99908697
H14: ='PANEL DE CONTROL DISTRITAL'!H13 -> Número de trámites aplicados | I14: 521 | J14: 955 | K14: 930 | L14: 100 | M14: 521 | N14: 572 | O14: 537 | P14: 520 | Q14: 414 | R14: 42 | S14: 181 | T14: 181 | U14: 272 | V14: 292 | W14: 389 | X14: 393 | Y14: 396 | Z14: 528 | AA14: 687 | AB14: 331 | AC14: 0 | AD14: 0 | AE14: 0
A16: ='PANEL DE CONTROL DISTRITAL'!A15 -> 3 | B16: ='PANEL DE CONTROL DISTRITAL'!B15 -> TRANSFERENCIA | C16: ='PANEL DE CONTROL DISTRITAL'!C15 -> Responsable de Módulo | D16: ='PANEL DE CONTROL DISTRITAL'!D15 -> Transacciones exitosas = | E16: ='PANEL DE CONTROL DISTRITAL'!E15 -> (Número de Archivos de Transacción aceptados /Total de Archivos de Transacción procesados) x100 | F16: ='PANEL DE CONTROL DISTRITAL'!F15 -> Semanal (remesa) | G16: ='PANEL DE CONTROL DISTRITAL'!G15 -> 0.9 | H16: ='PANEL DE CONTROL DISTRITAL'!H15 -> Número de Archivos de Transacción aceptados | I16: 520 | J16: 955 | K16: 930 | L16: 100 | M16: 521 | N16: 572 | O16: 537 | P16: 520 | Q16: 414 | R16: 42 | S16: 181 | T16: 181 | U16: 272 | V16: 292 | W16: 389 | X16: 393 | Y16: 396 | Z16: 528 | AA16: 687 | AB16: 331 | AC16: 0 | AD16: 0 | AE16: 0 | AF16: =IFERROR(SUM(I16:AE16)/SUM(I17:AE17),0) -> 0.99988587
H17: ='PANEL DE CONTROL DISTRITAL'!H16 -> Total de Archivos de Transacción procesados | I17: 521 | J17: 955 | K17: 930 | L17: 100 | M17: 521 | N17: 572 | O17: 537 | P17: 520 | Q17: 414 | R17: 42 | S17: 181 | T17: 181 | U17: 272 | V17: 292 | W17: 389 | X17: 393 | Y17: 396 | Z17: 528 | AA17: 687 | AB17: 331 | AC17: 0 | AD17: 0 | AE17: 0
A19: ='PANEL DE CONTROL DISTRITAL'!A18 -> 4 | B19: ='PANEL DE CONTROL DISTRITAL'!B18 -> CONCILIACIÓN | C19: ='PANEL DE CONTROL DISTRITAL'!C18 -> Responsable de Módulo | D19: ='PANEL DE CONTROL DISTRITAL'!D18 -> Credenciales disponibles para entrega = | E19: ='PANEL DE CONTROL DISTRITAL'!E18 -> ((Credenciales recibidas - Credenciales inconsistentes) / Credenciales recibidas) x 100 | F19: ='PANEL DE CONTROL DISTRITAL'!F18 -> Semanal (remesa) | G19: ='PANEL DE CONTROL DISTRITAL'!G18 -> 0.9 | H19: ='PANEL DE CONTROL DISTRITAL'!H18 -> Credenciales Recibidas - Credenciales inconsistentes | I19: 2054 | J19: 2932 | K19: 1187 | L19: 325 | M19: 729 | N19: 578 | O19: 566 | P19: 500 | Q19: 438 | R19: 84 | S19: 291 | T19: 143 | U19: 301 | V19: 255 | W19: 341 | X19: 417 | Y19: 357 | Z19: 457 | AA19: 579 | AB19: 119 | AC19: 529 | AD19: 0 | AE19: 0 | AF19: =IFERROR(SUM(I19:AE19)/SUM(I20:AE20),0) -> 1
H20: ='PANEL DE CONTROL DISTRITAL'!H19 -> Credenciales recibidas | I20: 2054 | J20: 2932 | K20: 1187 | L20: 325 | M20: 729 | N20: 578 | O20: 566 | P20: 500 | Q20: 438 | R20: 84 | S20: 291 | T20: 143 | U20: 301 | V20: 255 | W20: 341 | X20: 417 | Y20: 357 | Z20: 457 | AA20: 579 | AB20: 119 | AC20: 529 | AD20: 0 | AE20: 0
A22: ='PANEL DE CONTROL DISTRITAL'!A21 -> 5 | B22: ='PANEL DE CONTROL DISTRITAL'!B21 -> CONCILIACIÓN | C22: ='PANEL DE CONTROL DISTRITAL'!C21 -> Responsable de Módulo | D22: ='PANEL DE CONTROL DISTRITAL'!D21 -> Credenciales disponibles para entrega = | E22: ='PANEL DE CONTROL DISTRITAL'!E21 -> (Credenciales en resguardo / Credenciales totales en SIIRFE disponibles para entrega) x 100 | F22: ='PANEL DE CONTROL DISTRITAL'!F21 -> Semanal (remesa) | G22: ='PANEL DE CONTROL DISTRITAL'!G21 -> 1 | H22: ='PANEL DE CONTROL DISTRITAL'!H21 -> Credenciales en resguardo | I22: 3690 | J22: 3472 | K22: 3508 | L22: 3341 | M22: 2616 | N22: 2242 | O22: 1995 | P22: 1737 | Q22: 1396 | R22: 1387 | S22: 1311 | T22: 1198 | U22: 1235 | V22: 1228 | W22: 1228 | X22: 1200 | Y22: 1178 | Z22: 1231 | AA22: 1254 | AB22: 1258 | AC22: 1030 | AD22: 670 | AE22: 0 | AF22: =IFERROR(SUM(I22:AE22)/SUM(I23:AE23),0) -> 1
H23: ='PANEL DE CONTROL DISTRITAL'!H22 -> Credenciales totales en SIIRFE disponibles para entrega | I23: 3690 | J23: 3472 | K23: 3508 | L23: 3341 | M23: 2616 | N23: 2242 | O23: 1995 | P23: 1737 | Q23: 1396 | R23: 1387 | S23: 1311 | T23: 1198 | U23: 1235 | V23: 1228 | W23: 1228 | X23: 1200 | Y23: 1178 | Z23: 1231 | AA23: 1254 | AB23: 1258 | AC23: 1030 | AD23: 670 | AE23: 0
A25: ='PANEL DE CONTROL DISTRITAL'!A24 -> 6 | B25: ='PANEL DE CONTROL DISTRITAL'!B24 -> ENTREGA | C25: ='PANEL DE CONTROL DISTRITAL'!C24 -> Operador de Equipo Tecnológico | D25: ='PANEL DE CONTROL DISTRITAL'!D24 -> Efectividad de entrega de CPV en MAC = | E25: ='PANEL DE CONTROL DISTRITAL'!E24 -> (Total de credenciales entregadas / Total de credenciales solicitadas) x 100 | F25: ='PANEL DE CONTROL DISTRITAL'!F24 -> Semanal (remesa) | G25: ='PANEL DE CONTROL DISTRITAL'!G24 -> 0.9 | H25: ='PANEL DE CONTROL DISTRITAL'!H24 -> Total de credenciales entregadas | I25: 2412 | J25: 3150 | K25: 1142 | L25: 492 | M25: 1454 | N25: 952 | O25: 719 | P25: 758 | Q25: 779 | R25: 93 | S25: 367 | T25: 256 | U25: 264 | V25: 262 | W25: 341 | X25: 445 | Y25: 379 | Z25: 457 | AA25: 556 | AB25: 115 | AC25: 757 | AD25: 360 | AE25: 0 | AF25: =IFERROR(SUM(I25:AE25)/SUM(I26:AE26),0) -> 1
H26: ='PANEL DE CONTROL DISTRITAL'!H25 -> Total de credenciales solicitadas | I26: 2412 | J26: 3150 | K26: 1142 | L26: 492 | M26: 1454 | N26: 952 | O26: 719 | P26: 758 | Q26: 779 | R26: 93 | S26: 367 | T26: 256 | U26: 264 | V26: 262 | W26: 341 | X26: 445 | Y26: 379 | Z26: 457 | AA26: 556 | AB26: 115 | AC26: 757 | AD26: 360 | AE26: 0
B27: *Registre el valor nominal solicitado en la celda, el resultado proporcional esta automatizado.
I29: Semaforización
J30: Valor que requiere atención y justificación en el apartado de observaciones
J31: Valor suficiente
J32: Valor esperado
B34: CUADRO DE OBSERVACIONES
B35: Descripción | H35: No conformidad

Sheet 090951
A1: ='PANEL DE CONTROL DISTRITAL'!A1:Q1 -> INSTITUTO NACIONAL ELECTORAL SISTEMA DE GESTIÓN DE LA CALIDAD CIUDAD DE MÉXICO
D2: Distrito | E2: 9 | F2: Módulo | H2: 90951
A4: TABLERO DE CONTROL DE PROCESOS SUSTANTIVOS DEL SISTEMA DE GESTIÓN DE LA CALIDAD
A6: ='PANEL DE CONTROL DISTRITAL'!A6 -> Número | B6: ='PANEL DE CONTROL DISTRITAL'!B6 -> PROCESOS SUSTANTIVOS E INDICADORES | I6: SEMANA OPERATIVA | AF6: % AVANCE REGISTRADO
B7: ='PANEL DE CONTROL DISTRITAL'!B7 -> DESCRIPCIÓN | E7: ='PANEL DE CONTROL DISTRITAL'!E7 -> MEDICIÓN | I7: ='PANEL DE CONTROL DISTRITAL'!A5 -> CAMPAÑA ANUAL PERMANENTE 2024
B9: ='PANEL DE CONTROL DISTRITAL'!B8 -> Proceso | C9: ='PANEL DE CONTROL DISTRITAL'!C8 -> Dueño de Proceso | D9: ='PANEL DE CONTROL DISTRITAL'!D8 -> Indicador | E9: ='PANEL DE CONTROL DISTRITAL'!E8 -> Cálculo | F9: ='PANEL DE CONTROL DISTRITAL'!F8 -> Periodo | G9: ='PANEL DE CONTROL DISTRITAL'!G8 -> Estimado | H9: ='PANEL DE CONTROL DISTRITAL'!H8 -> Nominativo | I9: ='090151'!I9 -> 2024-05 | J9: ='090151'!J9 -> 2024-06 | K9: ='090151'!K9 -> 2024-07 | L9: ='090151'!L9 -> 2024-08 | M9: ='090151'!M9 -> 2024-09 | N9: ='090151'!N9 -> 2024-10 | O9: ='090151'!O9 -> 2024-11 | P9: ='090151'!P9 -> 2024-12 | ... AE9: ='090151'!AE9 -> 2024-27
A10: ='PANEL DE CONTROL DISTRITAL'!A9 -> 1 | B10: ='PANEL DE CONTROL DISTRITAL'!B9 -> ENTREVISTA | C10: ='PANEL DE CONTROL DISTRITAL'!C9 -> Auxiliar de Atención Ciudadana | D10: ='PANEL DE CONTROL DISTRITAL'!D9 -> Efectividad de la entrevista = | E10: ='PANEL DE CONTROL DISTRITAL'!E9 -> (Número de trámites aplicados / (Número de fichas requisitadas - Notificaciones de improcedencia de trámite)) x 100 | F10: ='PANEL DE CONTROL DISTRITAL'!F9 -> Semanal (remesa) | G10: ='PANEL DE CONTROL DISTRITAL'!G9 -> 0.9 | H10: ='PANEL DE CONTROL DISTRITAL'!H9 -> Número de trámites aplicados | I10: 473 | J10: 774 | K10: 672 | L10: 82 | M10: 426 | N10: 493 | O10: 450 | P10: 367 | Q10: 329 | R10: 49 | S10: 181 | T10: 177 | U10: 254 | V10: 294 | W10: 326 | X10: 352 | Y10: 331 | Z10: 395 | AA10: 546 | AB10: 199 | AC10: 2 | AD10: 0 | AE10: 0 | AF10: =IFERROR(SUM(I10:AE10)/SUM(I11:AE11),0) -> 0.99860763
H11: ='PANEL DE CONTROL DISTRITAL'!H10 -> Número de fichas requisitadas - Notificaciones de improcedencia de trámite | I11: 479 | J11: 774 | K11: 672 | L11: 82 | M11: 426 | N11: 493 | O11: 450 | P11: 367 | Q11: 329 | R11: 49 | S11: 181 | T11: 177 | U11: 254 | V11: 294 | W11: 328 | X11: 352 | Y11: 331 | Z11: 395 | AA11: 546 | AB11: 200 | AC11: 3 | AD11: 0 | AE11: 0
A13: ='PANEL DE CONTROL DISTRITAL'!A12 -> 2 | B13: ='PANEL DE CONTROL DISTRITAL'!B12 -> TRÁMITE | C13: ='PANEL DE CONTROL DISTRITAL'!C12 -> Operador de Equipo Tecnológico | D13: ='PANEL DE CONTROL DISTRITAL'!D12 -> Trámites exitosos efectivos= | E13: ='PANEL DE CONTROL DISTRITAL'!E12 -> (Número de trámites exitosos / Número de trámites aplicados) x 100 | F13: ='PANEL DE CONTROL DISTRITAL'!F12 -> Semanal (remesa) | G13: ='PANEL DE CONTROL DISTRITAL'!G12 -> 0.9 | H13: ='PANEL DE CONTROL DISTRITAL'!H12 -> Número de trámites exitosos | I13: 470 | J13: 774 | K13: 672 | L13: 82 | M13: 426 | N13: 492 | O13: 449 | P13: 367 | Q13: 329 | R13: 49 | S13: 181 | T13: 177 | U13: 254 | V13: 294 | W13: 325 | X13: 352 | Y13: 331 | Z13: 395 | AA13: 546 | AB13: 199 | AC13: 2 | AD13: 0 | AE13: 0 | AF13: =IFERROR(SUM(I13:AE13)/SUM(I14:AE14),0) -> 0.99916341
H14: ='PANEL DE CONTROL DISTRITAL'!H13 -> Número de trámites aplicados | I14: 473 | J14: 774 | K14: 672 | L14: 82 | M14: 426 | N14: 493 | O14: 450 | P14: 367 | Q14: 329 | R14: 49 | S14: 181 | T14: 177 | U14: 254 | V14: 294 | W14: 326 | X14: 352 | Y14: 331 | Z14: 395 | AA14: 546 | AB14: 199 | AC14: 2 | AD14: 0 | AE14: 0
A16: ='PANEL DE CONTROL DISTRITAL'!A15 -> 3 | B16: ='PANEL DE CONTROL DISTRITAL'!B15 -> TRANSFERENCIA | C16: ='PANEL DE CONTROL DISTRITAL'!C15 -> Responsable de Módulo | D16: ='PANEL DE CONTROL DISTRITAL'!D15 -> Transacciones exitosas = | E16: ='PANEL DE CONTROL DISTRITAL'!E15 -> (Número de Archivos de Transacción aceptados /Total de Archivos de Transacción procesados) x100 | F16: ='PANEL DE CONTROL DISTRITAL'!F15 -> Semanal (remesa) | G16: ='PANEL DE CONTROL DISTRITAL'!G15 -> 0.9 | H16: ='PANEL DE CONTROL DISTRITAL'!H15 -> Número de Archivos de Transacción aceptados | I16: 473 | J16: 774 | K16: 672 | L16: 82 | M16: 426 | N16: 493 | O16: 450 | P16: 367 | Q16: 329 | R16: 49 | S16: 181 | T16: 177 | U16: 254 | V16: 294 | W16: 326 | X16: 352 | Y16: 331 | Z16: 395 | AA16: 546 | AB16: 199 | AC16: 2 | AD16: 0 | AE16: 0 | AF16: =IFERROR(SUM(I16:AE16)/SUM(I17:AE17),0) -> 1
H17: ='PANEL DE CONTROL DISTRITAL'!H16 -> Total de Archivos de Transacción procesados | I17: 473 | J17: 774 | K17: 672 | L17: 82 | M17: 426 | N17: 493 | O17: 450 | P17: 367 | Q17: 329 | R17: 49 | S17: 181 | T17: 177 | U17: 254 | V17: 294 | W17: 326 | X17: 352 | Y17: 331 | Z17: 395 | AA17: 546 | AB17: 199 | AC17: 2 | AD17: 0 | AE17: 0
A19: ='PANEL DE CONTROL DISTRITAL'!A18 -> 4 | B19: ='PANEL DE CONTROL DISTRITAL'!B18 -> CONCILIACIÓN | C19: ='PANEL DE CONTROL DISTRITAL'!C18 -> Responsable de Módulo | D19: ='PANEL DE CONTROL DISTRITAL'!D18 -> Credenciales disponibles para entrega = | E19: ='PANEL DE CONTROL DISTRITAL'!E18 -> ((Credenciales recibidas - Credenciales inconsistentes) / Credenciales recibidas) x 100 | F19: ='PANEL DE CONTROL DISTRITAL'!F18 -> Semanal (remesa) | G19: ='PANEL DE CONTROL DISTRITAL'!G18 -> 0.9 | H19: ='PANEL DE CONTROL DISTRITAL'!H18 -> Credenciales Recibidas - Credenciales inconsistentes | I19: 1442 | J19: 2169 | K19: 950 | L19: 258 | M19: 572 | N19: 472 | O19: 435 | P19: 388 | Q19: 346 | R19: 88 | S19: 235 | T19: 146 | U19: 269 | V19: 282 | W19: 325 | X19: 361 | Y19: 276 | Z19: 410 | AA19: 543 | AB19: 0 | AC19: 346 | AD19: 0 | AE19: 0 | AF19: =IFERROR(SUM(I19:AE19)/SUM(I20:AE20),0) -> 1
H20: ='PANEL DE CONTROL DISTRITAL'!H19 -> Credenciales recibidas | I20: 1442 | J20: 2169 | K20: 950 | L20: 258 | M20: 572 | N20: 472 | O20: 435 | P20: 388 | Q20: 346 | R20: 88 | S20: 235 | T20: 146 | U20: 269 | V20: 282 | W20: 325 | X20: 361 | Y20: 276 | Z20: 410 | AA20: 543 | AB20: 0 | AC20: 346 | AD20: 0 | AE20: 0
A22: ='PANEL DE CONTROL DISTRITAL'!A21 -> 5 | B22: ='PANEL DE CONTROL DISTRITAL'!B21 -> CONCILIACIÓN | C22: ='PANEL DE CONTROL DISTRITAL'!C21 -> Responsable de Módulo | D22: ='PANEL DE CONTROL DISTRITAL'!D21 -> Credenciales disponibles para entrega = | E22: ='PANEL DE CONTROL DISTRITAL'!E21 -> (Credenciales en resguardo / Credenciales totales en SIIRFE disponibles para entrega) x 100 | F22: ='PANEL DE CONTROL DISTRITAL'!F21 -> Semanal (remesa) | G22: ='PANEL DE CONTROL DISTRITAL'!G21 -> 1 | H22: ='PANEL DE CONTROL DISTRITAL'!H21 -> Credenciales en resguardo | I22: 1768 | J22: 1897 | K22: 2184 | L22: 2126 | M22: 1650 | N22: 1085 | O22: 842 | P22: 632 | Q22: 583 | R22: 606 | S22: 576 | T22: 559 | U22: 540 | V22: 567 | W22: 532 | X22: 548 | Y22: 555 | Z22: 633 | AA22: 781 | AB22: 693 | AC22: 437 | AD22: 297 | AE22: 0 | AF22: =IFERROR(SUM(I22:AE22)/SUM(I23:AE23),0) -> 1
H23: ='PANEL DE CONTROL DISTRITAL'!H22 -> Credenciales totales en SIIRFE disponibles para entrega | I23: 1768 | J23: 1897 | K23: 2184 | L23: 2126 | M23: 1650 | N23: 1085 | O23: 842 | P23: 632 | Q23: 583 | R23: 606 | S23: 576 | T23: 559 | U23: 540 | V23: 567 | W23: 532 | X23: 548 | Y23: 555 | Z23: 633 | AA23: 781 | AB23: 693 | AC23: 437 | AD23: 297 | AE23: 0
A25: ='PANEL DE CONTROL DISTRITAL'!A24 -> 6 | B25: ='PANEL DE CONTROL DISTRITAL'!B24 -> ENTREGA | C25: ='PANEL DE CONTROL DISTRITAL'!C24 -> Operador de Equipo Tecnológico | D25: ='PANEL DE CONTROL DISTRITAL'!D24 -> Efectividad de entrega de CPV en MAC = | E25: ='PANEL DE CONTROL DISTRITAL'!E24 -> (Total de credenciales entregadas / Total de credenciales solicitadas) x 100 | F25: ='PANEL DE CONTROL DISTRITAL'!F24 -> Semanal (remesa) | G25: ='PANEL DE CONTROL DISTRITAL'!G24 -> 0.9 | H25: ='PANEL DE CONTROL DISTRITAL'!H24 -> Total de credenciales entregadas | I25: 1898 | J25: 2040 | K25: 659 | L25: 316 | M25: 1048 | N25: 1037 | O25: 655 | P25: 598 | Q25: 395 | R25: 65 | S25: 265 | T25: 163 | U25: 288 | V25: 255 | W25: 360 | X25: 345 | Y25: 269 | Z25: 332 | AA25: 395 | AB25: 88 | AC25: 602 | AD25: 140 | AE25: 0 | AF25: =IFERROR(SUM(I25:AE25)/SUM(I26:AE26),0) -> 0.99959077
H26: ='PANEL DE CONTROL DISTRITAL'!H25 -> Total de credenciales solicitadas | I26: 1898 | J26: 2043 | K26: 659 | L26: 316 | M26: 1048 | N26: 1037 | O26: 655 | P26: 600 | Q26: 395 | R26: 65 | S26: 265 | T26: 163 | U26: 288 | V26: 255 | W26: 360 | X26: 345 | Y26: 269 | Z26: 332 | AA26: 395 | AB26: 88 | AC26: 602 | AD26: 140 | AE26: 0
B27: *Registre el valor nominal solicitado en la celda, el resultado proporcional esta automatizado.
I29: Semaforización
J30: Valor que requiere atención y justificación en el apartado de observaciones
J31: Valor suficiente
J32: Valor esperado
B34: CUADRO DE OBSERVACIONES
B35: Descripción | H35: No conformidad

Sheet 091051
A1: ='PANEL DE CONTROL DISTRITAL'!A1:Q1 -> INSTITUTO NACIONAL ELECTORAL SISTEMA DE GESTIÓN DE LA CALIDAD CIUDAD DE MÉXICO
D2: Distrito | E2: 10 | F2: Módulo | H2: 91051
A4: TABLERO DE CONTROL DE PROCESOS SUSTANTIVOS DEL SISTEMA DE GESTIÓN DE LA CALIDAD
A6: ='PANEL DE CONTROL DISTRITAL'!A6 -> Número | B6: ='PANEL DE CONTROL DISTRITAL'!B6 -> PROCESOS SUSTANTIVOS E INDICADORES | I6: SEMANA OPERATIVA | AF6: % AVANCE REGISTRADO
B7: ='PANEL DE CONTROL DISTRITAL'!B7 -> DESCRIPCIÓN | E7: ='PANEL DE CONTROL DISTRITAL'!E7 -> MEDICIÓN | I7: ='PANEL DE CONTROL DISTRITAL'!A5 -> CAMPAÑA ANUAL PERMANENTE 2024
B9: ='PANEL DE CONTROL DISTRITAL'!B8 -> Proceso | C9: ='PANEL DE CONTROL DISTRITAL'!C8 -> Dueño de Proceso | D9: ='PANEL DE CONTROL DISTRITAL'!D8 -> Indicador | E9: ='PANEL DE CONTROL DISTRITAL'!E8 -> Cálculo | F9: ='PANEL DE CONTROL DISTRITAL'!F8 -> Periodo | G9: ='PANEL DE CONTROL DISTRITAL'!G8 -> Estimado | H9: ='PANEL DE CONTROL DISTRITAL'!H8 -> Nominativo | I9: ='090151'!I9 -> 2024-05 | J9: ='090151'!J9 -> 2024-06 | K9: ='090151'!K9 -> 2024-07 | L9: ='090151'!L9 -> 2024-08 | M9: ='090151'!M9 -> 2024-09 | N9: ='090151'!N9 -> 2024-10 | O9: ='090151'!O9 -> 2024-11 | P9: ='090151'!P9 -> 2024-12 | ... AE9: ='090151'!AE9 -> 2024-27
A10: ='PANEL DE CONTROL DISTRITAL'!A9 -> 1 | B10: ='PANEL DE CONTROL DISTRITAL'!B9 -> ENTREVISTA | C10: ='PANEL DE CONTROL DISTRITAL'!C9 -> Auxiliar de Atención Ciudadana | D10: ='PANEL DE CONTROL DISTRITAL'!D9 -> Efectividad de la entrevista = | E10: ='PANEL DE CONTROL DISTRITAL'!E9 -> (Número de trámites aplicados / (Número de fichas requisitadas - Notificaciones de improcedencia de trámite)) x 100 | F10: ='PANEL DE CONTROL DISTRITAL'!F9 -> Semanal (remesa) | G10: ='PANEL DE CONTROL DISTRITAL'!G9 -> 0.9 | H10: ='PANEL DE CONTROL DISTRITAL'!H9 -> Número de trámites aplicados | I10: 552 | J10: 841 | K10: 724 | L10: 76 | M10: 467 | N10: 481 | O10: 506 | P10: 453 | Q10: 442 | R10: 59 | S10: 199 | T10: 210 | U10: 293 | V10: 305 | W10: 405 | X10: 355 | Y10: 382 | Z10: 490 | AA10: 692 | AB10: 288 | AC10: 3 | AD10: 10 | AE10: 0 | AF10: =IFERROR(SUM(I10:AE10)/SUM(I11:AE11),0) -> 1
H11: ='PANEL DE CONTROL DISTRITAL'!H10 -> Número de fichas requisitadas - Notificaciones de improcedencia de trámite | I11: 552 | J11: 841 | K11: 724 | L11: 76 | M11: 467 | N11: 481 | O11: 506 | P11: 453 | Q11: 442 | R11: 59 | S11: 199 | T11: 210 | U11: 293 | V11: 305 | W11: 405 | X11: 355 | Y11: 382 | Z11: 490 | AA11: 692 | AB11: 288 | AC11: 3 | AD11: 10 | AE11: 0
A13: ='PANEL DE CONTROL DISTRITAL'!A12 -> 2 | B13: ='PANEL DE CONTROL DISTRITAL'!B12 -> TRÁMITE | C13: ='PANEL DE CONTROL DISTRITAL'!C12 -> Operador de Equipo Tecnológico | D13: ='PANEL DE CONTROL DISTRITAL'!D12 -> Trámites exitosos efectivos= | E13: ='PANEL DE CONTROL DISTRITAL'!E12 -> (Número de trámites exitosos / Número de trámites aplicados) x 100 | F13: ='PANEL DE CONTROL DISTRITAL'!F12 -> Semanal (remesa) | G13: ='PANEL DE CONTROL DISTRITAL'!G12 -> 0.9 | H13: ='PANEL DE CONTROL DISTRITAL'!H12 -> Número de trámites exitosos | I13: 550 | J13: 838 | K13: 720 | L13: 76 | M13: 467 | N13: 479 | O13: 505 | P13: 453 | Q13: 442 | R13: 59 | S13: 199 | T13: 210 | U13: 293 | V13: 305 | W13: 405 | X13: 355 | Y13: 382 | Z13: 490 | AA13: 692 | AB13: 288 | AC13: 0 | AD13: 0 | AE13: 0 | AF13: =IFERROR(SUM(I13:AE13)/SUM(I14:AE14),0) -> 0.99696344
H14: ='PANEL DE CONTROL DISTRITAL'!H13 -> Número de trámites aplicados | I14: 552 | J14: 841 | K14: 724 | L14: 76 | M14: 467 | N14: 481 | O14: 506 | P14: 453 | Q14: 442 | R14: 59 | S14: 199 | T14: 210 | U14: 293 | V14: 305 | W14: 405 | X14: 355 | Y14: 382 | Z14: 490 | AA14: 692 | AB14: 288 | AC14: 3 | AD14: 10 | AE14: 0
A16: ='PANEL DE CONTROL DISTRITAL'!A15 -> 3 | B16: ='PANEL DE CONTROL DISTRITAL'!B15 -> TRANSFERENCIA | C16: ='PANEL DE CONTROL DISTRITAL'!C15 -> Responsable de Módulo | D16: ='PANEL DE CONTROL DISTRITAL'!D15 -> Transacciones exitosas = | E16: ='PANEL DE CONTROL DISTRITAL'!E15 -> (Número de Archivos de Transacción aceptados /Total de Archivos de Transacción procesados) x100 | F16: ='PANEL DE CONTROL DISTRITAL'!F15 -> Semanal (remesa) | G16: ='PANEL DE CONTROL DISTRITAL'!G15 -> 0.9 | H16: ='PANEL DE CONTROL DISTRITAL'!H15 -> Número de Archivos de Transacción aceptados | I16: 552 | J16: 841 | K16: 724 | L16: 76 | M16: 467 | N16: 481 | O16: 506 | P16: 453 | Q16: 442 | R16: 59 | S16: 199 | T16: 210 | U16: 293 | V16: 305 | W16: 405 | X16: 355 | Y16: 382 | Z16: 490 | AA16: 692 | AB16: 288 | AC16: 3 | AD16: 10 | AE16: 0 | AF16: =IFERROR(SUM(I16:AE16)/SUM(I17:AE17),0) -> 1
H17: ='PANEL DE CONTROL DISTRITAL'!H16 -> Total de Archivos de Transacción procesados | I17: 552 | J17: 841 | K17: 724 | L17: 76 | M17: 467 | N17: 481 | O17: 506 | P17: 453 | Q17: 442 | R17: 59 | S17: 199 | T17: 210 | U17: 293 | V17: 305 | W17: 405 | X17: 355 | Y17: 382 | Z17: 490 | AA17: 692 | AB17: 288 | AC17: 3 | AD17: 10 | AE17: 0
A19: ='PANEL DE CONTROL DISTRITAL'!A18 -> 4 | B19: ='PANEL DE CONTROL DISTRITAL'!B18 -> CONCILIACIÓN | C19: ='PANEL DE CONTROL DISTRITAL'!C18 -> Responsable de Módulo | D19: ='PANEL DE CONTROL DISTRITAL'!D18 -> Credenciales disponibles para entrega = | E19: ='PANEL DE CONTROL DISTRITAL'!E18 -> ((Credenciales recibidas - Credenciales inconsistentes) / Credenciales recibidas) x 100 | F19: ='PANEL DE CONTROL DISTRITAL'!F18 -> Semanal (remesa) | G19: ='PANEL DE CONTROL DISTRITAL'!G18 -> 0.9 | H19: ='PANEL DE CONTROL DISTRITAL'!H18 -> Credenciales Recibidas - Credenciales inconsistentes | I19: 1479 | J19: 2285 | K19: 1018 | L19: 237 | M19: 611 | N19: 501 | O19: 475 | P19: 464 | Q19: 437 | R19: 109 | S19: 296 | T19: 153 | U19: 334 | V19: 284 | W19: 287 | X19: 463 | Y19: 333 | Z19: 479 | AA19: 539 | AB19: 133 | AC19: 504 | AD19: 0 | AE19: 0 | AF19: =IFERROR(SUM(I19:AE19)/SUM(I20:AE20),0) -> 1
H20: ='PANEL DE CONTROL DISTRITAL'!H19 -> Credenciales recibidas | I20: 1479 | J20: 2285 | K20: 1018 | L20: 237 | M20: 611 | N20: 501 | O20: 475 | P20: 464 | Q20: 437 | R20: 109 | S20: 296 | T20: 153 | U20: 334 | V20: 284 | W20: 287 | X20: 463 | Y20: 333 | Z20: 479 | AA20: 539 | AB20: 133 | AC20: 504 | AD20: 0 | AE20: 0
A22: ='PANEL DE CONTROL DISTRITAL'!A21 -> 5 | B22: ='PANEL DE CONTROL DISTRITAL'!B21 -> CONCILIACIÓN | C22: ='PANEL DE CONTROL DISTRITAL'!C21 -> Responsable de Módulo | D22: ='PANEL DE CONTROL DISTRITAL'!D21 -> Credenciales disponibles para entrega = | E22: ='PANEL DE CONTROL DISTRITAL'!E21 -> (Credenciales en resguardo / Credenciales totales en SIIRFE disponibles para entrega) x 100 | F22: ='PANEL DE CONTROL DISTRITAL'!F21 -> Semanal (remesa) | G22: ='PANEL DE CONTROL DISTRITAL'!G21 -> 1 | H22: ='PANEL DE CONTROL DISTRITAL'!H21 -> Credenciales en resguardo | I22: 3164 | J22: 3705 | K22: 3753 | L22: 3394 | M22: 2400 | N22: 1876 | O22: 1445 | P22: 1174 | Q22: 968 | R22: 667 | S22: 538 | T22: 446 | U22: 502 | V22: 467 | W22: 465 | X22: 587 | Y22: 542 | Z22: 617 | AA22: 628 | AB22: 656 | AC22: 536 | AD22: 166 | AE22: 0 | AF22: =IFERROR(SUM(I22:AE22)/SUM(I23:AE23),0) -> 1
H23: ='PANEL DE CONTROL DISTRITAL'!H22 -> Credenciales totales en SIIRFE disponibles para entrega | I23: 3164 | J23: 3705 | K23: 3753 | L23: 3394 | M23: 2400 | N23: 1876 | O23: 1445 | P23: 1174 | Q23: 968 | R23: 667 | S23: 538 | T23: 446 | U23: 502 | V23: 467 | W23: 465 | X23: 587 | Y23: 542 | Z23: 617 | AA23: 628 | AB23: 656 | AC23: 536 | AD23: 166 | AE23: 0
A25: ='PANEL DE CONTROL DISTRITAL'!A24 -> 6 | B25: ='PANEL DE CONTROL DISTRITAL'!B24 -> ENTREGA | C25: ='PANEL DE CONTROL DISTRITAL'!C24 -> Operador de Equipo Tecnológico | D25: ='PANEL DE CONTROL DISTRITAL'!D24 -> Efectividad de entrega de CPV en MAC = | E25: ='PANEL DE CONTROL DISTRITAL'!E24 -> (Total de credenciales entregadas / Total de credenciales solicitadas) x 100 | F25: ='PANEL DE CONTROL DISTRITAL'!F24 -> Semanal (remesa) | G25: ='PANEL DE CONTROL DISTRITAL'!G24 -> 0.9 | H25: ='PANEL DE CONTROL DISTRITAL'!H24 -> Total de credenciales entregadas | I25: 760 | J25: 1744 | K25: 963 | L25: 596 | M25: 1605 | N25: 1025 | O25: 868 | P25: 735 | Q25: 643 | R25: 56 | S25: 425 | T25: 245 | U25: 278 | V25: 319 | W25: 289 | X25: 341 | Y25: 378 | Z25: 404 | AA25: 528 | AB25: 105 | AC25: 624 | AD25: 370 | AE25: 0 | AF25: =IFERROR(SUM(I25:AE25)/SUM(I26:AE26),0) -> 0.99992482
H26: ='PANEL DE CONTROL DISTRITAL'!H25 -> Total de credenciales solicitadas | I26: 760 | J26: 1744 | K26: 963 | L26: 596 | M26: 1605 | N26: 1025 | O26: 868 | P26: 735 | Q26: 643 | R26: 56 | S26: 425 | T26: 245 | U26: 278 | V26: 319 | W26: 289 | X26: 341 | Y26: 379 | Z26: 404 | AA26: 528 | AB26: 105 | AC26: 624 | AD26: 370 | AE26: 0
B27: *Registre el valor nominal solicitado en la celda, el resultado proporcional esta automatizado.
I29: Semaforización
J30: Valor que requiere atención y justificación en el apartado de observaciones
J31: Valor suficiente
J32: Valor esperado
B34: CUADRO DE OBSERVACIONES
B35: Descripción | H35: No conformidad

Sheet 091151
A1: ='PANEL DE CONTROL DISTRITAL'!A1:Q1 -> INSTITUTO NACIONAL ELECTORAL SISTEMA DE GESTIÓN DE LA CALIDAD CIUDAD DE MÉXICO
D2: Distrito | E2: 11 | F2: Módulo | H2: 91151
A4: TABLERO DE CONTROL DE PROCESOS SUSTANTIVOS DEL SISTEMA DE GESTIÓN DE LA CALIDAD
A6: ='PANEL DE CONTROL DISTRITAL'!A6 -> Número | B6: ='PANEL DE CONTROL DISTRITAL'!B6 -> PROCESOS SUSTANTIVOS E INDICADORES | I6: SEMANA OPERATIVA | AF6: % AVANCE REGISTRADO
B7: ='PANEL DE CONTROL DISTRITAL'!B7 -> DESCRIPCIÓN | E7: ='PANEL DE CONTROL DISTRITAL'!E7 -> MEDICIÓN | I7: ='PANEL DE CONTROL DISTRITAL'!A5 -> CAMPAÑA ANUAL PERMANENTE 2024
B9: ='PANEL DE CONTROL DISTRITAL'!B8 -> Proceso | C9: ='PANEL DE CONTROL DISTRITAL'!C8 -> Dueño de Proceso | D9: ='PANEL DE CONTROL DISTRITAL'!D8 -> Indicador | E9: ='PANEL DE CONTROL DISTRITAL'!E8 -> Cálculo | F9: ='PANEL DE CONTROL DISTRITAL'!F8 -> Periodo | G9: ='PANEL DE CONTROL DISTRITAL'!G8 -> Estimado | H9: ='PANEL DE CONTROL DISTRITAL'!H8 -> Nominativo | I9: ='090151'!I9 -> 2024-05 | J9: ='090151'!J9 -> 2024-06 | K9: ='090151'!K9 -> 2024-07 | L9: ='090151'!L9 -> 2024-08 | M9: ='090151'!M9 -> 2024-09 | N9: ='090151'!N9 -> 2024-10 | O9: ='090151'!O9 -> 2024-11 | P9: ='090151'!P9 -> 2024-12 | ... AE9: ='090151'!AE9 -> 2024-27
A10: ='PANEL DE CONTROL DISTRITAL'!A9 -> 1 | B10: ='PANEL DE CONTROL DISTRITAL'!B9 -> ENTREVISTA | C10: ='PANEL DE CONTROL DISTRITAL'!C9 -> Auxiliar de Atención Ciudadana | D10: ='PANEL DE CONTROL DISTRITAL'!D9 -> Efectividad de la entrevista = | E10: ='PANEL DE CONTROL DISTRITAL'!E9 -> (Número de trámites aplicados / (Número de fichas requisitadas - Notificaciones de improcedencia de trámite)) x 100 | F10: ='PANEL DE CONTROL DISTRITAL'!F9 -> Semanal (remesa) | G10: ='PANEL DE CONTROL DISTRITAL'!G9 -> 0.9 | H10: ='PANEL DE CONTROL DISTRITAL'!H9 -> Número de trámites aplicados | I10: 686 | J10: 1277 | K10: 1033 | L10: 49 | M10: 437 | N10: 545 | O10: 550 | P10: 462 | Q10: 395 | R10: 63 | S10: 224 | T10: 194 | U10: 282 | V10: 317 | W10: 431 | X10: 437 | Y10: 341 | Z10: 544 | AA10: 721 | AB10: 297 | AC10: 2 | AD10: 0 | AE10: 0 | AF10: =IFERROR(SUM(I10:AE10)/SUM(I11:AE11),0) -> 1
H11: ='PANEL DE CONTROL DISTRITAL'!H10 -> Número de fichas requisitadas - Notificaciones de improcedencia de trámite | I11: 686 | J11: 1277 | K11: 1033 | L11: 49 | M11: 437 | N11: 545 | O11: 550 | P11: 462 | Q11: 395 | R11: 63 | S11: 224 | T11: 194 | U11: 282 | V11: 317 | W11: 431 | X11: 437 | Y11: 341 | Z11: 544 | AA11: 721 | AB11: 297 | AC11: 2 | AD11: 0 | AE11: 0
A13: ='PANEL DE CONTROL DISTRITAL'!A12 -> 2 | B13: ='PANEL DE CONTROL DISTRITAL'!B12 -> TRÁMITE | C13: ='PANEL DE CONTROL DISTRITAL'!C12 -> Operador de Equipo Tecnológico | D13: ='PANEL DE CONTROL DISTRITAL'!D12 -> Trámites exitosos efectivos= | E13: ='PANEL DE CONTROL DISTRITAL'!E12 -> (Número de trámites exitosos / Número de trámites aplicados) x 100 | F13: ='PANEL DE CONTROL DISTRITAL'!F12 -> Semanal (remesa) | G13: ='PANEL DE CONTROL DISTRITAL'!G12 -> 0.9 | H13: ='PANEL DE CONTROL DISTRITAL'!H12 -> Número de trámites exitosos | I13: 686 | J13: 1276 | K13: 1032 | L13: 49 | M13: 435 | N13: 545 | O13: 549 | P13: 462 | Q13: 395 | R13: 63 | S13: 224 | T13: 194 | U13: 282 | V13: 315 | W13: 430 | X13: 437 | Y13: 340 | Z13: 544 | AA13: 721 | AB13: 297 | AC13: 2 | AD13: 0 | AE13: 0 | AF13: =IFERROR(SUM(I13:AE13)/SUM(I14:AE14),0) -> 0.9990309
H14: ='PANEL DE CONTROL DISTRITAL'!H13 -> Número de trámites aplicados | I14: 686 | J14: 1277 | K14: 1033 | L14: 49 | M14: 437 | N14: 545 | O14: 550 | P14: 462 | Q14: 395 | R14: 63 | S14: 224 | T14: 194 | U14: 282 | V14: 317 | W14: 431 | X14: 437 | Y14: 341 | Z14: 544 | AA14: 721 | AB14: 297 | AC14: 2 | AD14: 0 | AE14: 0
A16: ='PANEL DE CONTROL DISTRITAL'!A15 -> 3 | B16: ='PANEL DE CONTROL DISTRITAL'!B15 -> TRANSFERENCIA | C16: ='PANEL DE CONTROL DISTRITAL'!C15 -> Responsable de Módulo | D16: ='PANEL DE CONTROL DISTRITAL'!D15 -> Transacciones exitosas = | E16: ='PANEL DE CONTROL DISTRITAL'!E15 -> (Número de Archivos de Transacción aceptados /Total de Archivos de Transacción procesados) x100 | F16: ='PANEL DE CONTROL DISTRITAL'!F15 -> Semanal (remesa) | G16: ='PANEL DE CONTROL DISTRITAL'!G15 -> 0.9 | H16: ='PANEL DE CONTROL DISTRITAL'!H15 -> Número de Archivos de Transacción aceptados | I16: 686 | J16: 1277 | K16: 1033 | L16: 49 | M16: 437 | N16: 545 | O16: 550 | P16: 462 | Q16: 395 | R16: 63 | S16: 224 | T16: 194 | U16: 282 | V16: 317 | W16: 431 | X16: 437 | Y16: 341 | Z16: 544 | AA16: 721 | AB16: 297 | AC16: 2 | AD16: 0 | AE16: 0 | AF16: =IFERROR(SUM(I16:AE16)/SUM(I17:AE17),0) -> 1
H17: ='PANEL DE CONTROL DISTRITAL'!H16 -> Total de Archivos de Transacción procesados | I17: 686 | J17: 1277 | K17: 1033 | L17: 49 | M17: 437 | N17: 545 | O17: 550 | P17: 462 | Q17: 395 | R17: 63 | S17: 224 | T17: 194 | U17: 282 | V17: 317 | W17: 431 | X17: 437 | Y17: 341 | Z17: 544 | AA17: 721 | AB17: 297 | AC17: 2 | AD17: 0 | AE17: 0
A19: ='PANEL DE CONTROL DISTRITAL'!A18 -> 4 | B19: ='PANEL DE CONTROL DISTRITAL'!B18 -> CONCILIACIÓN | C19: ='PANEL DE CONTROL DISTRITAL'!C18 -> Responsable de Módulo | D19: ='PANEL DE CONTROL DISTRITAL'!D18 -> Credenciales disponibles para entrega = | E19: ='PANEL DE CONTROL DISTRITAL'!E18 -> ((Credenciales recibidas - Credenciales inconsistentes) / Credenciales recibidas) x 100 | F19: ='PANEL DE CONTROL DISTRITAL'!F18 -> Semanal (remesa) | G19: ='PANEL DE CONTROL DISTRITAL'!G18 -> 0.9 | H19: ='PANEL DE CONTROL DISTRITAL'!H18 -> Credenciales Recibidas - Credenciales inconsistentes | I19: 2409 | J19: 3002 | K19: 1579 | L19: 0 | M19: 985 | N19: 484 | O19: 565 | P19: 508 | Q19: 425 | R19: 79 | S19: 307 | T19: 164 | U19: 289 | V19: 290 | W19: 414 | X19: 441 | Y19: 0 | Z19: 0 | AA19: 0 | AB19: 0 | AC19: 0 | AD19: 0 | AE19: 0 | AF19: =IFERROR(SUM(I19:AE19)/SUM(I20:AE20),0) -> 1
H20: ='PANEL DE CONTROL DISTRITAL'!H19 -> Credenciales recibidas | I20: 2409 | J20: 3002 | K20: 1579 | L20: 0 | M20: 985 | N20: 484 | O20: 565 | P20: 508 | Q20: 425 | R20: 79 | S20: 307 | T20: 164 | U20: 289 | V20: 290 | W20: 414 | X20: 441 | Y20: 0 | Z20: 0 | AA20: 0 | AB20: 0 | AC20: 0 | AD20: 0 | AE20: 0
A22: ='PANEL DE CONTROL DISTRITAL'!A21 -> 5 | B22: ='PANEL DE CONTROL DISTRITAL'!B21 -> CONCILIACIÓN | C22: ='PANEL DE CONTROL DISTRITAL'!C21 -> Responsable de Módulo | D22: ='PANEL DE CONTROL DISTRITAL'!D21 -> Credenciales disponibles para entrega = | E22: ='PANEL DE CONTROL DISTRITAL'!E21 -> (Credenciales en resguardo / Credenciales totales en SIIRFE disponibles para entrega) x 100 | F22: ='PANEL DE CONTROL DISTRITAL'!F21 -> Semanal (remesa) | G22: ='PANEL DE CONTROL DISTRITAL'!G21 -> 1 | H22: ='PANEL DE CONTROL DISTRITAL'!H21 -> Credenciales en resguardo | I22: 4160 | J22: 3334 | K22: 3607 | L22: 3254 | M22: 2581 | N22: 2290 | O22: 2360 | P22: 2342 | Q22: 1948 | R22: 1383 | S22: 1227 | T22: 995 | U22: 895 | V22: 800 | W22: 895 | X22: 1012 | Y22: 0 | Z22: 0 | AA22: 0 | AB22: 0 | AC22: 0 | AD22: 0 | AE22: 0 | AF22: =IFERROR(SUM(I22:AE22)/SUM(I23:AE23),0) -> 1
H23: ='PANEL DE CONTROL DISTRITAL'!H22 -> Credenciales totales en SIIRFE disponibles para entrega | I23: 4160 | J23: 3334 | K23: 3607 | L23: 3254 | M23: 2581 | N23: 2290 | O23: 2360 | P23: 2342 | Q23: 1948 | R23: 1383 | S23: 1227 | T23: 995 | U23: 895 | V23: 800 | W23: 895 | X23: 1012 | Y23: 0 | Z23: 0 | AA23: 0 | AB23: 0 | AC23: 0 | AD23: 0 | AE23: 0
A25: ='PANEL DE CONTROL DISTRITAL'!A24 -> 6 | B25: ='PANEL DE CONTROL DISTRITAL'!B24 -> ENTREGA | C25: ='PANEL DE CONTROL DISTRITAL'!C24 -> Operador de Equipo Tecnológico | D25: ='PANEL DE CONTROL DISTRITAL'!D24 -> Efectividad de entrega de CPV en MAC = | E25: ='PANEL DE CONTROL DISTRITAL'!E24 -> (Total de credenciales entregadas / Total de credenciales solicitadas) x 100 | F25: ='PANEL DE CONTROL DISTRITAL'!F24 -> Semanal (remesa) | G25: ='PANEL DE CONTROL DISTRITAL'!G24 -> 0.9 | H25: ='PANEL DE CONTROL DISTRITAL'!H24 -> Total de credenciales entregadas | I25: 1547 | J25: 3828 | K25: 1295 | L25: 353 | M25: 1658 | N25: 775 | O25: 415 | P25: 526 | Q25: 819 | R25: 55 | S25: 463 | T25: 396 | U25: 389 | V25: 385 | W25: 319 | X25: 324 | Y25: 0 | Z25: 0 | AA25: 0 | AB25: 0 | AC25: 0 | AD25: 0 | AE25: 0 | AF25: =IFERROR(SUM(I25:AE25)/SUM(I26:AE26),0) -> 0.99992619
H26: ='PANEL DE CONTROL DISTRITAL'!H25 -> Total de credenciales solicitadas | I26: 1547 | J26: 3828 | K26: 1295 | L26: 353 | M26: 1658 | N26: 775 | O26: 415 | P26: 526 | Q26: 819 | R26: 55 | S26: 463 | T26: 396 | U26: 389 | V26: 386 | W26: 319 | X26: 324 | Y26: 0 | Z26: 0 | AA26: 0 | AB26: 0 | AC26: 0 | AD26: 0 | AE26: 0
B27: *Registre el valor nominal solicitado en la celda, el resultado proporcional esta automatizado.
I29: Semaforización
J30: Valor que requiere atención y justificación en el apartado de observaciones
J31: Valor suficiente
J32: Valor esperado
B34: CUADRO DE OBSERVACIONES
B35: Descripción | H35: No conformidad

Sheet 091251
A1: ='PANEL DE CONTROL DISTRITAL'!A1:Q1 -> INSTITUTO NACIONAL ELECTORAL SISTEMA DE GESTIÓN DE LA CALIDAD CIUDAD DE MÉXICO
D2: Distrito | E2: 12 | F2: Módulo | H2: 91251
A4: TABLERO DE CONTROL DE PROCESOS SUSTANTIVOS DEL SISTEMA DE GESTIÓN DE LA CALIDAD
A6: ='PANEL DE CONTROL DISTRITAL'!A6 -> Número | B6: ='PANEL DE CONTROL DISTRITAL'!B6 -> PROCESOS SUSTANTIVOS E INDICADORES | I6: SEMANA OPERATIVA | AF6: % AVANCE REGISTRADO
B7: ='PANEL DE CONTROL DISTRITAL'!B7 -> DESCRIPCIÓN | E7: ='PANEL DE CONTROL DISTRITAL'!E7 -> MEDICIÓN | I7: ='PANEL DE CONTROL DISTRITAL'!A5 -> CAMPAÑA ANUAL PERMANENTE 2024
B9: ='PANEL DE CONTROL DISTRITAL'!B8 -> Proceso | C9: ='PANEL DE CONTROL DISTRITAL'!C8 -> Dueño de Proceso | D9: ='PANEL DE CONTROL DISTRITAL'!D8 -> Indicador | E9: ='PANEL DE CONTROL DISTRITAL'!E8 -> Cálculo | F9: ='PANEL DE CONTROL DISTRITAL'!F8 -> Periodo | G9: ='PANEL DE CONTROL DISTRITAL'!G8 -> Estimado | H9: ='PANEL DE CONTROL DISTRITAL'!H8 -> Nominativo | I9: ='090151'!I9 -> 2024-05 | J9: ='090151'!J9 -> 2024-06 | K9: ='090151'!K9 -> 2024-07 | L9: ='090151'!L9 -> 2024-08 | M9: ='090151'!M9 -> 2024-09 | N9: ='090151'!N9 -> 2024-10 | O9: ='090151'!O9 -> 2024-11 | P9: ='090151'!P9 -> 2024-12 | ... AE9: ='090151'!AE9 -> 2024-27
A10: ='PANEL DE CONTROL DISTRITAL'!A9 -> 1 | B10: ='PANEL DE CONTROL DISTRITAL'!B9 -> ENTREVISTA | C10: ='PANEL DE CONTROL DISTRITAL'!C9 -> Auxiliar de Atención Ciudadana | D10: ='PANEL DE CONTROL DISTRITAL'!D9 -> Efectividad de la entrevista = | E10: ='PANEL DE CONTROL DISTRITAL'!E9 -> (Número de trámites aplicados / (Número de fichas requisitadas - Notificaciones de improcedencia de trámite)) x 100 | F10: ='PANEL DE CONTROL DISTRITAL'!F9 -> Semanal (remesa) | G10: ='PANEL DE CONTROL DISTRITAL'!G9 -> 0.9 | H10: ='PANEL DE CONTROL DISTRITAL'!H9 -> Número de trámites aplicados | I10: 390 | J10: 742 | K10: 780 | L10: 78 | M10: 401 | N10: 501 | O10: 471 | P10: 425 | Q10: 366 | R10: 35 | S10: 209 | T10: 172 | U10: 281 | V10: 312 | W10: 400 | X10: 422 | Y10: 354 | Z10: 520 | AA10: 666 | AB10: 265 | AC10: 0 | AD10: 2 | AE10: 0 | AF10: =IFERROR(SUM(I10:AE10)/SUM(I11:AE11),0) -> 0.96233173
H11: ='PANEL DE CONTROL DISTRITAL'!H10 -> Número de fichas requisitadas - Notificaciones de improcedencia de trámite | I11: 398 | J11: 759 | K11: 802 | L11: 82 | M11: 432 | N11: 520 | O11: 504 | P11: 455 | Q11: 379 | R11: 36 | S11: 223 | T11: 187 | U11: 299 | V11: 334 | W11: 414 | X11: 435 | Y11: 371 | Z11: 524 | AA11: 674 | AB11: 267 | AC11: 0 | AD11: 2 | AE11: 0
A13: ='PANEL DE CONTROL DISTRITAL'!A12 -> 2 | B13: ='PANEL DE CONTROL DISTRITAL'!B12 -> TRÁMITE | C13: ='PANEL DE CONTROL DISTRITAL'!C12 -> Operador de Equipo Tecnológico | D13: ='PANEL DE CONTROL DISTRITAL'!D12 -> Trámites exitosos efectivos= | E13: ='PANEL DE CONTROL DISTRITAL'!E12 -> (Número de trámites exitosos / Número de trámites aplicados) x 100 | F13: ='PANEL DE CONTROL DISTRITAL'!F12 -> Semanal (remesa) | G13: ='PANEL DE CONTROL DISTRITAL'!G12 -> 0.9 | H13: ='PANEL DE CONTROL DISTRITAL'!H12 -> Número de trámites exitosos | I13: 387 | J13: 740 | K13: 780 | L13: 78 | M13: 401 | N13: 501 | O13: 471 | P13: 424 | Q13: 366 | R13: 34 | S13: 209 | T13: 172 | U13: 281 | V13: 312 | W13: 400 | X13: 422 | Y13: 354 | Z13: 520 | AA13: 666 | AB13: 265 | AC13: 0 | AD13: 0 | AE13: 0 | AF13: =IFERROR(SUM(I13:AE13)/SUM(I14:AE14),0) -> 0.99884497
H14: ='PANEL DE CONTROL DISTRITAL'!H13 -> Número de trámites aplicados | I14: 390 | J14: 742 | K14: 780 | L14: 78 | M14: 401 | N14: 501 | O14: 471 | P14: 425 | Q14: 366 | R14: 35 | S14: 209 | T14: 172 | U14: 281 | V14: 312 | W14: 400 | X14: 422 | Y14: 354 | Z14: 520 | AA14: 666 | AB14: 265 | AC14: 0 | AD14: 2 | AE14: 0
A16: ='PANEL DE CONTROL DISTRITAL'!A15 -> 3 | B16: ='PANEL DE CONTROL DISTRITAL'!B15 -> TRANSFERENCIA | C16: ='PANEL DE CONTROL DISTRITAL'!C15 -> Responsable de Módulo | D16: ='PANEL DE CONTROL DISTRITAL'!D15 -> Transacciones exitosas = | E16: ='PANEL DE CONTROL DISTRITAL'!E15 -> (Número de Archivos de Transacción aceptados /Total de Archivos de Transacción procesados) x100 | F16: ='PANEL DE CONTROL DISTRITAL'!F15 -> Semanal (remesa) | G16: ='PANEL DE CONTROL DISTRITAL'!G15 -> 0.9 | H16: ='PANEL DE CONTROL DISTRITAL'!H15 -> Número de Archivos de Transacción aceptados | I16: 390 | J16: 742 | K16: 780 | L16: 78 | M16: 401 | N16: 501 | O16: 471 | P16: 425 | Q16: 366 | R16: 35 | S16: 208 | T16: 172 | U16: 281 | V16: 312 | W16: 400 | X16: 422 | Y16: 354 | Z16: 520 | AA16: 666 | AB16: 265 | AC16: 0 | AD16: 2 | AE16: 0 | AF16: =IFERROR(SUM(I16:AE16)/SUM(I17:AE17),0) -> 0.99987166
H17: ='PANEL DE CONTROL DISTRITAL'!H16 -> Total de Archivos de Transacción procesados | I17: 390 | J17: 742 | K17: 780 | L17: 78 | M17: 401 | N17: 501 | O17: 471 | P17: 425 | Q17: 366 | R17: 35 | S17: 209 | T17: 172 | U17: 281 | V17: 312 | W17: 400 | X17: 422 | Y17: 354 | Z17: 520 | AA17: 666 | AB17: 265 | AC17: 0 | AD17: 2 | AE17: 0
A19: ='PANEL DE CONTROL DISTRITAL'!A18 -> 4 | B19: ='PANEL DE CONTROL DISTRITAL'!B18 -> CONCILIACIÓN | C19: ='PANEL DE CONTROL DISTRITAL'!C18 -> Responsable de Módulo | D19: ='PANEL DE CONTROL DISTRITAL'!D18 -> Credenciales disponibles para entrega = | E19: ='PANEL DE CONTROL DISTRITAL'!E18 -> ((Credenciales recibidas - Credenciales inconsistentes) / Credenciales recibidas) x 100 | F19: ='PANEL DE CONTROL DISTRITAL'!F18 -> Semanal (remesa) | G19: ='PANEL DE CONTROL DISTRITAL'!G18 -> 0.9 | H19: ='PANEL DE CONTROL DISTRITAL'!H18 -> Credenciales Recibidas - Credenciales inconsistentes | I19: 1756 | J19: 2472 | K19: 941 | L19: 264 | M19: 613 | N19: 475 | O19: 503 | P19: 402 | Q19: 360 | R19: 83 | S19: 285 | T19: 134 | U19: 297 | V19: 270 | W19: 357 | X19: 451 | Y19: 332 | Z19: 514 | AA19: 652 | AB19: 0 | AC19: 465 | AD19: 0 | AE19: 0 | AF19: =IFERROR(SUM(I19:AE19)/SUM(I20:AE20),0) -> 1
H20: ='PANEL DE CONTROL DISTRITAL'!H19 -> Credenciales recibidas | I20: 1756 | J20: 2472 | K20: 941 | L20: 264 | M20: 613 | N20: 475 | O20: 503 | P20: 402 | Q20: 360 | R20: 83 | S20: 285 | T20: 134 | U20: 297 | V20: 270 | W20: 357 | X20: 451 | Y20: 332 | Z20: 514 | AA20: 652 | AB20: 0 | AC20: 465 | AD20: 0 | AE20: 0
A22: ='PANEL DE CONTROL DISTRITAL'!A21 -> 5 | B22: ='PANEL DE CONTROL DISTRITAL'!B21 -> CONCILIACIÓN | C22: ='PANEL DE CONTROL DISTRITAL'!C21 -> Responsable de Módulo | D22: ='PANEL DE CONTROL DISTRITAL'!D21 -> Credenciales disponibles para entrega = | E22: ='PANEL DE CONTROL DISTRITAL'!E21 -> (Credenciales en resguardo / Credenciales totales en SIIRFE disponibles para entrega) x 100 | F22: ='PANEL DE CONTROL DISTRITAL'!F21 -> Semanal (remesa) | G22: ='PANEL DE CONTROL DISTRITAL'!G21 -> 1 | H22: ='PANEL DE CONTROL DISTRITAL'!H21 -> Credenciales en resguardo | I22: 3551 | J22: 3646 | K22: 3169 | L22: 2899 | M22: 2197 | N22: 1788 | O22: 1461 | P22: 1177 | Q22: 506 | R22: 538 | S22: 481 | T22: 387 | U22: 446 | V22: 431 | W22: 491 | X22: 526 | Y22: 585 | Z22: 706 | AA22: 818 | AB22: 725 | AC22: 633 | AD22: 418 | AE22: 0 | AF22: =IFERROR(SUM(I22:AE22)/SUM(I23:AE23),0) -> 1
H23: ='PANEL DE CONTROL DISTRITAL'!H22 -> Credenciales totales en SIIRFE disponibles para entrega | I23: 3551 | J23: 3646 | K23: 3169 | L23: 2899 | M23: 2197 | N23: 1788 | O23: 1461 | P23: 1177 | Q23: 506 | R23: 538 | S23: 481 | T23: 387 | U23: 446 | V23: 431 | W23: 491 | X23: 526 | Y23: 585 | Z23: 706 | AA23: 818 | AB23: 725 | AC23: 633 | AD23: 418 | AE23: 0
A25: ='PANEL DE CONTROL DISTRITAL'!A24 -> 6 | B25: ='PANEL DE CONTROL DISTRITAL'!B24 -> ENTREGA | C25: ='PANEL DE CONTROL DISTRITAL'!C24 -> Operador de Equipo Tecnológico | D25: ='PANEL DE CONTROL DISTRITAL'!D24 -> Efectividad de entrega de CPV en MAC = | E25: ='PANEL DE CONTROL DISTRITAL'!E24 -> (Total de credenciales entregadas / Total de credenciales solicitadas) x 100 | F25: ='PANEL DE CONTROL DISTRITAL'!F24 -> Semanal (remesa) | G25: ='PANEL DE CONTROL DISTRITAL'!G24 -> 0.9 | H25: ='PANEL DE CONTROL DISTRITAL'!H24 -> Total de credenciales entregadas | I25: 1278 | J25: 2377 | K25: 1405 | L25: 534 | M25: 1315 | N25: 884 | O25: 738 | P25: 686 | Q25: 613 | R25: 51 | S25: 342 | T25: 228 | U25: 238 | V25: 285 | W25: 297 | X25: 416 | Y25: 273 | Z25: 393 | AA25: 540 | AB25: 93 | AC25: 557 | AD25: 0 | AE25: 0 | AF25: =IFERROR(SUM(I25:AE25)/SUM(I26:AE26),0) -> 1
H26: ='PANEL DE CONTROL DISTRITAL'!H25 -> Total de credenciales solicitadas | I26: 1278 | J26: 2377 | K26: 1405 | L26: 534 | M26: 1315 | N26: 884 | O26: 738 | P26: 686 | Q26: 613 | R26: 51 | S26: 342 | T26: 228 | U26: 238 | V26: 285 | W26: 297 | X26: 416 | Y26: 273 | Z26: 393 | AA26: 540 | AB26: 93 | AC26: 557 | AD26: 0 | AE26: 0
B27: *Registre el valor nominal solicitado en la celda, el resultado proporcional esta automatizado.
I29: Semaforización
J30: Valor que requiere atención y justificación en el apartado de observaciones
J31: Valor suficiente
J32: Valor esperado
B34: CUADRO DE OBSERVACIONES
B35: Descripción | H35: No conformidad

Sheet 091252
A1: ='PANEL DE CONTROL DISTRITAL'!A1:Q1 -> INSTITUTO NACIONAL ELECTORAL SISTEMA DE GESTIÓN DE LA CALIDAD CIUDAD DE MÉXICO
D2: Distrito | E2: 12 | F2: Módulo | H2: 91252
A4: TABLERO DE CONTROL DE PROCESOS SUSTANTIVOS DEL SISTEMA DE GESTIÓN DE LA CALIDAD
A6: ='PANEL DE CONTROL DISTRITAL'!A6 -> Número | B6: ='PANEL DE CONTROL DISTRITAL'!B6 -> PROCESOS SUSTANTIVOS E INDICADORES | I6: SEMANA OPERATIVA | AF6: % AVANCE REGISTRADO
B7: ='PANEL DE CONTROL DISTRITAL'!B7 -> DESCRIPCIÓN | E7: ='PANEL DE CONTROL DISTRITAL'!E7 -> MEDICIÓN | I7: ='PANEL DE CONTROL DISTRITAL'!A5 -> CAMPAÑA ANUAL PERMANENTE 2024
B9: ='PANEL DE CONTROL DISTRITAL'!B8 -> Proceso | C9: ='PANEL DE CONTROL DISTRITAL'!C8 -> Dueño de Proceso | D9: ='PANEL DE CONTROL DISTRITAL'!D8 -> Indicador | E9: ='PANEL DE CONTROL DISTRITAL'!E8 -> Cálculo | F9: ='PANEL DE CONTROL DISTRITAL'!F8 -> Periodo | G9: ='PANEL DE CONTROL DISTRITAL'!G8 -> Estimado | H9: ='PANEL DE CONTROL DISTRITAL'!H8 -> Nominativo | I9: ='090151'!I9 -> 2024-05 | J9: ='090151'!J9 -> 2024-06 | K9: ='090151'!K9 -> 2024-07 | L9: ='090151'!L9 -> 2024-08 | M9: ='090151'!M9 -> 2024-09 | N9: ='090151'!N9 -> 2024-10 | O9: ='090151'!O9 -> 2024-11 | P9: ='090151'!P9 -> 2024-12 | ... AE9: ='090151'!AE9 -> 2024-27
A10: ='PANEL DE CONTROL DISTRITAL'!A9 -> 1 | B10: ='PANEL DE CONTROL DISTRITAL'!B9 -> ENTREVISTA | C10: ='PANEL DE CONTROL DISTRITAL'!C9 -> Auxiliar de Atención Ciudadana | D10: ='PANEL DE CONTROL DISTRITAL'!D9 -> Efectividad de la entrevista = | E10: ='PANEL DE CONTROL DISTRITAL'!E9 -> (Número de trámites aplicados / (Número de fichas requisitadas - Notificaciones de improcedencia de trámite)) x 100 | F10: ='PANEL DE CONTROL DISTRITAL'!F9 -> Semanal (remesa) | G10: ='PANEL DE CONTROL DISTRITAL'!G9 -> 0.9 | H10: ='PANEL DE CONTROL DISTRITAL'!H9 -> Número de trámites aplicados | I10: 465 | J10: 441 | K10: 435 | L10: 62 | M10: 351 | N10: 343 | O10: 421 | P10: 368 | Q10: 295 | R10: 40 | S10: 162 | T10: 137 | U10: 209 | V10: 232 | W10: 341 | X10: 308 | Y10: 358 | Z10: 485 | AA10: 637 | AB10: 253 | AC10: 0 | AD10: 0 | AE10: 0 | AF10: =IFERROR(SUM(I10:AE10)/SUM(I11:AE11),0) -> 0.98264911
H11: ='PANEL DE CONTROL DISTRITAL'!H10 -> Número de fichas requisitadas - Notificaciones de improcedencia de trámite | I11: 468 | J11: 445 | K11: 445 | L11: 63 | M11: 355 | N11: 343 | O11: 422 | P11: 369 | Q11: 295 | R11: 40 | S11: 162 | T11: 137 | U11: 219 | V11: 241 | W11: 345 | X11: 322 | Y11: 372 | Z11: 500 | AA11: 655 | AB11: 257 | AC11: 0 | AD11: 0 | AE11: 0
A13: ='PANEL DE CONTROL DISTRITAL'!A12 -> 2 | B13: ='PANEL DE CONTROL DISTRITAL'!B12 -> TRÁMITE | C13: ='PANEL DE CONTROL DISTRITAL'!C12 -> Operador de Equipo Tecnológico | D13: ='PANEL DE CONTROL DISTRITAL'!D12 -> Trámites exitosos efectivos= | E13: ='PANEL DE CONTROL DISTRITAL'!E12 -> (Número de trámites exitosos / Número de trámites aplicados) x 100 | F13: ='PANEL DE CONTROL DISTRITAL'!F12 -> Semanal (remesa) | G13: ='PANEL DE CONTROL DISTRITAL'!G12 -> 0.9 | H13: ='PANEL DE CONTROL DISTRITAL'!H12 -> Número de trámites exitosos | I13: 460 | J13: 440 | K13: 435 | L13: 62 | M13: 351 | N13: 343 | O13: 419 | P13: 368 | Q13: 295 | R13: 40 | S13: 162 | T13: 137 | U13: 209 | V13: 232 | W13: 341 | X13: 308 | Y13: 358 | Z13: 485 | AA13: 635 | AB13: 253 | AC13: 0 | AD13: 0 | AE13: 0 | AF13: =IFERROR(SUM(I13:AE13)/SUM(I14:AE14),0) -> 0.99842346
H14: ='PANEL DE CONTROL DISTRITAL'!H13 -> Número de trámites aplicados | I14: 465 | J14: 441 | K14: 435 | L14: 62 | M14: 351 | N14: 343 | O14: 421 | P14: 368 | Q14: 295 | R14: 40 | S14: 162 | T14: 137 | U14: 209 | V14: 232 | W14: 341 | X14: 308 | Y14: 358 | Z14: 485 | AA14: 637 | AB14: 253 | AC14: 0 | AD14: 0 | AE14: 0
A16: ='PANEL DE CONTROL DISTRITAL'!A15 -> 3 | B16: ='PANEL DE CONTROL DISTRITAL'!B15 -> TRANSFERENCIA | C16: ='PANEL DE CONTROL DISTRITAL'!C15 -> Responsable de Módulo | D16: ='PANEL DE CONTROL DISTRITAL'!D15 -> Transacciones exitosas = | E16: ='PANEL DE CONTROL DISTRITAL'!E15 -> (Número de Archivos de Transacción aceptados /Total de Archivos de Transacción procesados) x100 | F16: ='PANEL DE CONTROL DISTRITAL'!F15 -> Semanal (remesa) | G16: ='PANEL DE CONTROL DISTRITAL'!G15 -> 0.9 | H16: ='PANEL DE CONTROL DISTRITAL'!H15 -> Número de Archivos de Transacción aceptados | I16: 463 | J16: 439 | K16: 435 | L16: 62 | M16: 351 | N16: 343 | O16: 419 | P16: 368 | Q16: 295 | R16: 40 | S16: 162 | T16: 137 | U16: 209 | V16: 232 | W16: 341 | X16: 308 | Y16: 358 | Z16: 485 | AA16: 635 | AB16: 253 | AC16: 0 | AD16: 0 | AE16: 0 | AF16: =IFERROR(SUM(I16:AE16)/SUM(I17:AE17),0) -> 0.99873877
H17: ='PANEL DE CONTROL DISTRITAL'!H16 -> Total de Archivos de Transacción procesados | I17: 465 | J17: 441 | K17: 435 | L17: 62 | M17: 351 | N17: 343 | O17: 421 | P17: 368 | Q17: 295 | R17: 40 | S17: 162 | T17: 137 | U17: 209 | V17: 232 | W17: 341 | X17: 308 | Y17: 358 | Z17: 485 | AA17: 637 | AB17: 253 | AC17: 0 | AD17: 0 | AE17: 0
A19: ='PANEL DE CONTROL DISTRITAL'!A18 -> 4 | B19: ='PANEL DE CONTROL DISTRITAL'!B18 -> CONCILIACIÓN | C19: ='PANEL DE CONTROL DISTRITAL'!C18 -> Responsable de Módulo | D19: ='PANEL DE CONTROL DISTRITAL'!D18 -> Credenciales disponibles para entrega = | E19: ='PANEL DE CONTROL DISTRITAL'!E18 -> ((Credenciales recibidas - Credenciales inconsistentes) / Credenciales recibidas) x 100 | F19: ='PANEL DE CONTROL DISTRITAL'!F18 -> Semanal (remesa) | G19: ='PANEL DE CONTROL DISTRITAL'!G18 -> 0.9 | H19: ='PANEL DE CONTROL DISTRITAL'!H18 -> Credenciales Recibidas - Credenciales inconsistentes | I19: 1518 | J19: 2113 | K19: 436 | L19: 228 | M19: 473 | N19: 359 | O19: 363 | P19: 400 | Q19: 300 | R19: 72 | S19: 214 | T19: 121 | U19: 222 | V19: 232 | W19: 291 | X19: 308 | Y19: 299 | Z19: 485 | AA19: 536 | AB19: 120 | AC19: 0 | AD19: 0 | AE19: 0 | AF19: =IFERROR(SUM(I19:AE19)/SUM(I20:AE20),0) -> 1
H20: ='PANEL DE CONTROL DISTRITAL'!H19 -> Credenciales recibidas | I20: 1518 | J20: 2113 | K20: 436 | L20: 228 | M20: 473 | N20: 359 | O20: 363 | P20: 400 | Q20: 300 | R20: 72 | S20: 214 | T20: 121 | U20: 222 | V20: 232 | W20: 291 | X20: 308 | Y20: 299 | Z20: 485 | AA20: 536 | AB20: 120 | AC20: 0 | AD20: 0 | AE20: 0
A22: ='PANEL DE CONTROL DISTRITAL'!A21 -> 5 | B22: ='PANEL DE CONTROL DISTRITAL'!B21 -> CONCILIACIÓN | C22: ='PANEL DE CONTROL DISTRITAL'!C21 -> Responsable de Módulo | D22: ='PANEL DE CONTROL DISTRITAL'!D21 -> Credenciales disponibles para entrega = | E22: ='PANEL DE CONTROL DISTRITAL'!E21 -> (Credenciales en resguardo / Credenciales totales en SIIRFE disponibles para entrega) x 100 | F22: ='PANEL DE CONTROL DISTRITAL'!F21 -> Semanal (remesa) | G22: ='PANEL DE CONTROL DISTRITAL'!G21 -> 1 | H22: ='PANEL DE CONTROL DISTRITAL'!H21 -> Credenciales en resguardo | I22: 3491 | J22: 3485 | K22: 2950 | L22: 2800 | M22: 2475 | N22: 1663 | O22: 1102 | P22: 960 | Q22: 697 | R22: 332 | S22: 265 | T22: 253 | U22: 247 | V22: 264 | W22: 277 | X22: 277 | Y22: 347 | Z22: 453 | AA22: 537 | AB22: 545 | AC22: 561 | AD22: 360 | AE22: 0 | AF22: =IFERROR(SUM(I22:AE22)/SUM(I23:AE23),0) -> 1
H23: ='PANEL DE CONTROL DISTRITAL'!H22 -> Credenciales totales en SIIRFE disponibles para entrega | I23: 3491 | J23: 3485 | K23: 2950 | L23: 2800 | M23: 2475 | N23: 1663 | O23: 1102 | P23: 960 | Q23: 697 | R23: 332 | S23: 265 | T23: 253 | U23: 247 | V23: 264 | W23: 277 | X23: 277 | Y23: 347 | Z23: 453 | AA23: 537 | AB23: 545 | AC23: 561 | AD23: 360 | AE23: 0
A25: ='PANEL DE CONTROL DISTRITAL'!A24 -> 6 | B25: ='PANEL DE CONTROL DISTRITAL'!B24 -> ENTREGA | C25: ='PANEL DE CONTROL DISTRITAL'!C24 -> Operador de Equipo Tecnológico | D25: ='PANEL DE CONTROL DISTRITAL'!D24 -> Efectividad de entrega de CPV en MAC = | E25: ='PANEL DE CONTROL DISTRITAL'!E24 -> (Total de credenciales entregadas / Total de credenciales solicitadas) x 100 | F25: ='PANEL DE CONTROL DISTRITAL'!F24 -> Semanal (remesa) | G25: ='PANEL DE CONTROL DISTRITAL'!G24 -> 0.9 | H25: ='PANEL DE CONTROL DISTRITAL'!H24 -> Total de credenciales entregadas | I25: 755 | J25: 2119 | K25: 959 | L25: 378 | M25: 798 | N25: 1171 | O25: 855 | P25: 542 | Q25: 563 | R25: 77 | S25: 281 | T25: 133 | U25: 228 | V25: 215 | W25: 278 | X25: 308 | Y25: 229 | Z25: 379 | AA25: 452 | AB25: 112 | AC25: 408 | AD25: 454 | AE25: 0 | AF25: =IFERROR(SUM(I25:AE25)/SUM(I26:AE26),0) -> 1
H26: ='PANEL DE CONTROL DISTRITAL'!H25 -> Total de credenciales solicitadas | I26: 755 | J26: 2119 | K26: 959 | L26: 378 | M26: 798 | N26: 1171 | O26: 855 | P26: 542 | Q26: 563 | R26: 77 | S26: 281 | T26: 133 | U26: 228 | V26: 215 | W26: 278 | X26: 308 | Y26: 229 | Z26: 379 | AA26: 452 | AB26: 112 | AC26: 408 | AD26: 454 | AE26: 0
B27: *Registre el valor nominal solicitado en la celda, el resultado proporcional esta automatizado.
I29: Semaforización
J30: Valor que requiere atención y justificación en el apartado de observaciones
J31: Valor suficiente
J32: Valor esperado
B34: CUADRO DE OBSERVACIONES
B35: Descripción | H35: No conformidad

Sheet 091253
A1: ='PANEL DE CONTROL DISTRITAL'!A1:Q1 -> INSTITUTO NACIONAL ELECTORAL SISTEMA DE GESTIÓN DE LA CALIDAD CIUDAD DE MÉXICO
D2: Distrito | E2: 12 | F2: Módulo | H2: 91253
A4: TABLERO DE CONTROL DE PROCESOS SUSTANTIVOS DEL SISTEMA DE GESTIÓN DE LA CALIDAD
A6: ='PANEL DE CONTROL DISTRITAL'!A6 -> Número | B6: ='PANEL DE CONTROL DISTRITAL'!B6 -> PROCESOS SUSTANTIVOS E INDICADORES | I6: SEMANA OPERATIVA | AF6: % AVANCE REGISTRADO
B7: ='PANEL DE CONTROL DISTRITAL'!B7 -> DESCRIPCIÓN | E7: ='PANEL DE CONTROL DISTRITAL'!E7 -> MEDICIÓN | I7: ='PANEL DE CONTROL DISTRITAL'!A5 -> CAMPAÑA ANUAL PERMANENTE 2024
B9: ='PANEL DE CONTROL DISTRITAL'!B8 -> Proceso | C9: ='PANEL DE CONTROL DISTRITAL'!C8 -> Dueño de Proceso | D9: ='PANEL DE CONTROL DISTRITAL'!D8 -> Indicador | E9: ='PANEL DE CONTROL DISTRITAL'!E8 -> Cálculo | F9: ='PANEL DE CONTROL DISTRITAL'!F8 -> Periodo | G9: ='PANEL DE CONTROL DISTRITAL'!G8 -> Estimado | H9: ='PANEL DE CONTROL DISTRITAL'!H8 -> Nominativo | I9: ='090151'!I9 -> 2024-05 | J9: ='090151'!J9 -> 2024-06 | K9: ='090151'!K9 -> 2024-07 | L9: ='090151'!L9 -> 2024-08 | M9: ='090151'!M9 -> 2024-09 | N9: ='090151'!N9 -> 2024-10 | O9: ='090151'!O9 -> 2024-11 | P9: ='090151'!P9 -> 2024-12 | ... AE9: ='090151'!AE9 -> 2024-27
A10: ='PANEL DE CONTROL DISTRITAL'!A9 -> 1 | B10: ='PANEL DE CONTROL DISTRITAL'!B9 -> ENTREVISTA | C10: ='PANEL DE CONTROL DISTRITAL'!C9 -> Auxiliar de Atención Ciudadana | D10: ='PANEL DE CONTROL DISTRITAL'!D9 -> Efectividad de la entrevista = | E10: ='PANEL DE CONTROL DISTRITAL'!E9 -> (Número de trámites aplicados / (Número de fichas requisitadas - Notificaciones de improcedencia de trámite)) x 100 | F10: ='PANEL DE CONTROL DISTRITAL'!F9 -> Semanal (remesa) | G10: ='PANEL DE CONTROL DISTRITAL'!G9 -> 0.9 | H10: ='PANEL DE CONTROL DISTRITAL'!H9 -> Número de trámites aplicados | I10: 401 | J10: 765 | K10: 635 | L10: 63 | M10: 367 | N10: 403 | O10: 388 | P10: 372 | Q10: 299 | R10: 33 | S10: 173 | T10: 124 | U10: 169 | V10: 209 | W10: 226 | X10: 186 | Y10: 229 | Z10: 263 | AA10: 407 | AB10: 169 | AC10: 0 | AD10: 0 | AE10: 0 | AF10: =IFERROR(SUM(I10:AE10)/SUM(I11:AE11),0) -> 0.98180301
H11: ='PANEL DE CONTROL DISTRITAL'!H10 -> Número de fichas requisitadas - Notificaciones de improcedencia de trámite | I11: 403 | J11: 766 | K11: 635 | L11: 63 | M11: 373 | N11: 408 | O11: 402 | P11: 390 | Q11: 304 | R11: 35 | S11: 175 | T11: 130 | U11: 182 | V11: 215 | W11: 226 | X11: 188 | Y11: 230 | Z11: 273 | AA11: 417 | AB11: 175 | AC11: 0 | AD11: 0 | AE11: 0
A13: ='PANEL DE CONTROL DISTRITAL'!A12 -> 2 | B13: ='PANEL DE CONTROL DISTRITAL'!B12 -> TRÁMITE | C13: ='PANEL DE CONTROL DISTRITAL'!C12 -> Operador de Equipo Tecnológico | D13: ='PANEL DE CONTROL DISTRITAL'!D12 -> Trámites exitosos efectivos= | E13: ='PANEL DE CONTROL DISTRITAL'!E12 -> (Número de trámites exitosos / Número de trámites aplicados) x 100 | F13: ='PANEL DE CONTROL DISTRITAL'!F12 -> Semanal (remesa) | G13: ='PANEL DE CONTROL DISTRITAL'!G12 -> 0.9 | H13: ='PANEL DE CONTROL DISTRITAL'!H12 -> Número de trámites exitosos | I13: 400 | J13: 762 | K13: 634 | L13: 63 | M13: 367 | N13: 403 | O13: 388 | P13: 371 | Q13: 299 | R13: 33 | S13: 173 | T13: 124 | U13: 169 | V13: 209 | W13: 226 | X13: 186 | Y13: 229 | Z13: 263 | AA13: 407 | AB13: 169 | AC13: 0 | AD13: 0 | AE13: 0 | AF13: =IFERROR(SUM(I13:AE13)/SUM(I14:AE14),0) -> 0.99897977
H14: ='PANEL DE CONTROL DISTRITAL'!H13 -> Número de trámites aplicados | I14: 401 | J14: 765 | K14: 635 | L14: 63 | M14: 367 | N14: 403 | O14: 388 | P14: 372 | Q14: 299 | R14: 33 | S14: 173 | T14: 124 | U14: 169 | V14: 209 | W14: 226 | X14: 186 | Y14: 229 | Z14: 263 | AA14: 407 | AB14: 169 | AC14: 0 | AD14: 0 | AE14: 0
A16: ='PANEL DE CONTROL DISTRITAL'!A15 -> 3 | B16: ='PANEL DE CONTROL DISTRITAL'!B15 -> TRANSFERENCIA | C16: ='PANEL DE CONTROL DISTRITAL'!C15 -> Responsable de Módulo | D16: ='PANEL DE CONTROL DISTRITAL'!D15 -> Transacciones exitosas = | E16: ='PANEL DE CONTROL DISTRITAL'!E15 -> (Número de Archivos de Transacción aceptados /Total de Archivos de Transacción procesados) x100 | F16: ='PANEL DE CONTROL DISTRITAL'!F15 -> Semanal (remesa) | G16: ='PANEL DE CONTROL DISTRITAL'!G15 -> 0.9 | H16: ='PANEL DE CONTROL DISTRITAL'!H15 -> Número de Archivos de Transacción aceptados | I16: 401 | J16: 765 | K16: 635 | L16: 63 | M16: 367 | N16: 403 | O16: 388 | P16: 372 | Q16: 299 | R16: 33 | S16: 173 | T16: 124 | U16: 169 | V16: 209 | W16: 226 | X16: 186 | Y16: 229 | Z16: 263 | AA16: 407 | AB16: 169 | AC16: 0 | AD16: 0 | AE16: 0 | AF16: =IFERROR(SUM(I16:AE16)/SUM(I17:AE17),0) -> 1
H17: ='PANEL DE CONTROL DISTRITAL'!H16 -> Total de Archivos de Transacción procesados | I17: 401 | J17: 765 | K17: 635 | L17: 63 | M17: 367 | N17: 403 | O17: 388 | P17: 372 | Q17: 299 | R17: 33 | S17: 173 | T17: 124 | U17: 169 | V17: 209 | W17: 226 | X17: 186 | Y17: 229 | Z17: 263 | AA17: 407 | AB17: 169 | AC17: 0 | AD17: 0 | AE17: 0
A19: ='PANEL DE CONTROL DISTRITAL'!A18 -> 4 | B19: ='PANEL DE CONTROL DISTRITAL'!B18 -> CONCILIACIÓN | C19: ='PANEL DE CONTROL DISTRITAL'!C18 -> Responsable de Módulo | D19: ='PANEL DE CONTROL DISTRITAL'!D18 -> Credenciales disponibles para entrega = | E19: ='PANEL DE CONTROL DISTRITAL'!E18 -> ((Credenciales recibidas - Credenciales inconsistentes) / Credenciales recibidas) x 100 | F19: ='PANEL DE CONTROL DISTRITAL'!F18 -> Semanal (remesa) | G19: ='PANEL DE CONTROL DISTRITAL'!G18 -> 0.9 | H19: ='PANEL DE CONTROL DISTRITAL'!H18 -> Credenciales Recibidas - Credenciales inconsistentes | I19: 779 | J19: 1578 | K19: 937 | L19: 209 | M19: 505 | N19: 408 | O19: 358 | P19: 371 | Q19: 319 | R19: 0 | S19: 310 | T19: 108 | U19: 202 | V19: 165 | W19: 242 | X19: 196 | Y19: 127 | Z19: 346 | AA19: 314 | AB19: 74 | AC19: 278 | AD19: 1 | AE19: 0 | AF19: =IFERROR(SUM(I19:AE19)/SUM(I20:AE20),0) -> 1
H20: ='PANEL DE CONTROL DISTRITAL'!H19 -> Credenciales recibidas | I20: 779 | J20: 1578 | K20: 937 | L20: 209 | M20: 505 | N20: 408 | O20: 358 | P20: 371 | Q20: 319 | R20: 0 | S20: 310 | T20: 108 | U20: 202 | V20: 165 | W20: 242 | X20: 196 | Y20: 127 | Z20: 346 | AA20: 314 | AB20: 74 | AC20: 278 | AD20: 1 | AE20: 0
A22: ='PANEL DE CONTROL DISTRITAL'!A21 -> 5 | B22: ='PANEL DE CONTROL DISTRITAL'!B21 -> CONCILIACIÓN | C22: ='PANEL DE CONTROL DISTRITAL'!C21 -> Responsable de Módulo | D22: ='PANEL DE CONTROL DISTRITAL'!D21 -> Credenciales disponibles para entrega = | E22: ='PANEL DE CONTROL DISTRITAL'!E21 -> (Credenciales en resguardo / Credenciales totales en SIIRFE disponibles para entrega) x 100 | F22: ='PANEL DE CONTROL DISTRITAL'!F21 -> Semanal (remesa) | G22: ='PANEL DE CONTROL DISTRITAL'!G21 -> 1 | H22: ='PANEL DE CONTROL DISTRITAL'!H21 -> Credenciales en resguardo | I22: 1546 | J22: 1580 | K22: 1843 | L22: 1750 | M22: 1430 | N22: 1233 | O22: 1032 | P22: 887 | Q22: 541 | R22: 494 | S22: 542 | T22: 340 | U22: 367 | V22: 338 | W22: 375 | X22: 356 | Y22: 288 | Z22: 398 | AA22: 392 | AB22: 397 | AC22: 315 | AD22: 270 | AE22: 0 | AF22: =IFERROR(SUM(I22:AE22)/SUM(I23:AE23),0) -> 1
H23: ='PANEL DE CONTROL DISTRITAL'!H22 -> Credenciales totales en SIIRFE disponibles para entrega | I23: 1546 | J23: 1580 | K23: 1843 | L23: 1750 | M23: 1430 | N23: 1233 | O23: 1032 | P23: 887 | Q23: 541 | R23: 494 | S23: 542 | T23: 340 | U23: 367 | V23: 338 | W23: 375 | X23: 356 | Y23: 288 | Z23: 398 | AA23: 392 | AB23: 397 | AC23: 315 | AD23: 270 | AE23: 0
A25: ='PANEL DE CONTROL DISTRITAL'!A24 -> 6 | B25: ='PANEL DE CONTROL DISTRITAL'!B24 -> ENTREGA | C25: ='PANEL DE CONTROL DISTRITAL'!C24 -> Operador de Equipo Tecnológico | D25: ='PANEL DE CONTROL DISTRITAL'!D24 -> Efectividad de entrega de CPV en MAC = | E25: ='PANEL DE CONTROL DISTRITAL'!E24 -> (Total de credenciales entregadas / Total de credenciales solicitadas) x 100 | F25: ='PANEL DE CONTROL DISTRITAL'!F24 -> Semanal (remesa) | G25: ='PANEL DE CONTROL DISTRITAL'!G24 -> 0.9 | H25: ='PANEL DE CONTROL DISTRITAL'!H24 -> Total de credenciales entregadas | I25: 838 | J25: 1544 | K25: 671 | L25: 302 | M25: 825 | N25: 605 | O25: 499 | P25: 516 | Q25: 395 | R25: 47 | S25: 262 | T25: 310 | U25: 175 | V25: 194 | W25: 205 | X25: 215 | Y25: 195 | Z25: 236 | AA25: 320 | AB25: 69 | AC25: 360 | AD25: 176 | AE25: 0 | AF25: =IFERROR(SUM(I25:AE25)/SUM(I26:AE26),0) -> 1
H26: ='PANEL DE CONTROL DISTRITAL'!H25 -> Total de credenciales solicitadas | I26: 838 | J26: 1544 | K26: 671 | L26: 302 | M26: 825 | N26: 605 | O26: 499 | P26: 516 | Q26: 395 | R26: 47 | S26: 262 | T26: 310 | U26: 175 | V26: 194 | W26: 205 | X26: 215 | Y26: 195 | Z26: 236 | AA26: 320 | AB26: 69 | AC26: 360 | AD26: 176 | AE26: 0
B27: *Registre el valor nominal solicitado en la celda, el resultado proporcional esta automatizado.
I29: Semaforización
J30: Valor que requiere atención y justificación en el apartado de observaciones
J31: Valor suficiente
J32: Valor esperado
B34: CUADRO DE OBSERVACIONES
B35: Descripción | H35: No conformidad

Sheet 091351
A1: ='PANEL DE CONTROL DISTRITAL'!A1:Q1 -> INSTITUTO NACIONAL ELECTORAL SISTEMA DE GESTIÓN DE LA CALIDAD CIUDAD DE MÉXICO
D2: Distrito | E2: 13 | F2: Módulo | H2: 91351
A4: TABLERO DE CONTROL DE PROCESOS SUSTANTIVOS DEL SISTEMA DE GESTIÓN DE LA CALIDAD
A6: ='PANEL DE CONTROL DISTRITAL'!A6 -> Número | B6: ='PANEL DE CONTROL DISTRITAL'!B6 -> PROCESOS SUSTANTIVOS E INDICADORES | I6: SEMANA OPERATIVA | AF6: % AVANCE REGISTRADO
B7: ='PANEL DE CONTROL DISTRITAL'!B7 -> DESCRIPCIÓN | E7: ='PANEL DE CONTROL DISTRITAL'!E7 -> MEDICIÓN | I7: ='PANEL DE CONTROL DISTRITAL'!A5 -> CAMPAÑA ANUAL PERMANENTE 2024
B9: ='PANEL DE CONTROL DISTRITAL'!B8 -> Proceso | C9: ='PANEL DE CONTROL DISTRITAL'!C8 -> Dueño de Proceso | D9: ='PANEL DE CONTROL DISTRITAL'!D8 -> Indicador | E9: ='PANEL DE CONTROL DISTRITAL'!E8 -> Cálculo | F9: ='PANEL DE CONTROL DISTRITAL'!F8 -> Periodo | G9: ='PANEL DE CONTROL DISTRITAL'!G8 -> Estimado | H9: ='PANEL DE CONTROL DISTRITAL'!H8 -> Nominativo | I9: ='090151'!I9 -> 2024-05 | J9: ='090151'!J9 -> 2024-06 | K9: ='090151'!K9 -> 2024-07 | L9: ='090151'!L9 -> 2024-08 | M9: ='090151'!M9 -> 2024-09 | N9: ='090151'!N9 -> 2024-10 | O9: ='090151'!O9 -> 2024-11 | P9: ='090151'!P9 -> 2024-12 | ... AE9: ='090151'!AE9 -> 2024-27
A10: ='PANEL DE CONTROL DISTRITAL'!A9 -> 1 | B10: ='PANEL DE CONTROL DISTRITAL'!B9 -> ENTREVISTA | C10: ='PANEL DE CONTROL DISTRITAL'!C9 -> Auxiliar de Atención Ciudadana | D10: ='PANEL DE CONTROL DISTRITAL'!D9 -> Efectividad de la entrevista = | E10: ='PANEL DE CONTROL DISTRITAL'!E9 -> (Número de trámites aplicados / (Número de fichas requisitadas - Notificaciones de improcedencia de trámite)) x 100 | F10: ='PANEL DE CONTROL DISTRITAL'!F9 -> Semanal (remesa) | G10: ='PANEL DE CONTROL DISTRITAL'!G9 -> 0.9 | H10: ='PANEL DE CONTROL DISTRITAL'!H9 -> Número de trámites aplicados | I10: 325 | J10: 771 | K10: 679 | L10: 75 | M10: 408 | N10: 493 | O10: 465 | P10: 443 | Q10: 373 | R10: 31 | S10: 193 | T10: 206 | U10: 277 | V10: 291 | W10: 334 | X10: 327 | Y10: 353 | Z10: 422 | AA10: 542 | AB10: 233 | AC10: 0 | AD10: 0 | AE10: 0 | AF10: =IFERROR(SUM(I10:AE10)/SUM(I11:AE11),0) -> 1
H11: ='PANEL DE CONTROL DISTRITAL'!H10 -> Número de fichas requisitadas - Notificaciones de improcedencia de trámite | I11: 325 | J11: 771 | K11: 679 | L11: 75 | M11: 408 | N11: 493 | O11: 465 | P11: 443 | Q11: 373 | R11: 31 | S11: 193 | T11: 206 | U11: 277 | V11: 291 | W11: 334 | X11: 327 | Y11: 353 | Z11: 422 | AA11: 542 | AB11: 233 | AC11: 0 | AD11: 0 | AE11: 0
A12: 0
A13: ='PANEL DE CONTROL DISTRITAL'!A12 -> 2 | B13: ='PANEL DE CONTROL DISTRITAL'!B12 -> TRÁMITE | C13: ='PANEL DE CONTROL DISTRITAL'!C12 -> Operador de Equipo Tecnológico | D13: ='PANEL DE CONTROL DISTRITAL'!D12 -> Trámites exitosos efectivos= | E13: ='PANEL DE CONTROL DISTRITAL'!E12 -> (Número de trámites exitosos / Número de trámites aplicados) x 100 | F13: ='PANEL DE CONTROL DISTRITAL'!F12 -> Semanal (remesa) | G13: ='PANEL DE CONTROL DISTRITAL'!G12 -> 0.9 | H13: ='PANEL DE CONTROL DISTRITAL'!H12 -> Número de trámites exitosos | I13: 325 | J13: 771 | K13: 678 | L13: 75 | M13: 408 | N13: 493 | O13: 465 | P13: 443 | Q13: 372 | R13: 31 | S13: 193 | T13: 206 | U13: 277 | V13: 291 | W13: 333 | X13: 326 | Y13: 353 | Z13: 422 | AA13: 541 | AB13: 233 | AC13: 0 | AD13: 0 | AE13: 0 | AF13: =IFERROR(SUM(I13:AE13)/SUM(I14:AE14),0) -> 0.99930949
H14: ='PANEL DE CONTROL DISTRITAL'!H13 -> Número de trámites aplicados | I14: 325 | J14: 771 | K14: 679 | L14: 75 | M14: 408 | N14: 493 | O14: 465 | P14: 443 | Q14: 373 | R14: 31 | S14: 193 | T14: 206 | U14: 277 | V14: 291 | W14: 334 | X14: 327 | Y14: 353 | Z14: 422 | AA14: 542 | AB14: 233 | AC14: 0 | AD14: 0 | AE14: 0
A16: ='PANEL DE CONTROL DISTRITAL'!A15 -> 3 | B16: ='PANEL DE CONTROL DISTRITAL'!B15 -> TRANSFERENCIA | C16: ='PANEL DE CONTROL DISTRITAL'!C15 -> Responsable de Módulo | D16: ='PANEL DE CONTROL DISTRITAL'!D15 -> Transacciones exitosas = | E16: ='PANEL DE CONTROL DISTRITAL'!E15 -> (Número de Archivos de Transacción aceptados /Total de Archivos de Transacción procesados) x100 | F16: ='PANEL DE CONTROL DISTRITAL'!F15 -> Semanal (remesa) | G16: ='PANEL DE CONTROL DISTRITAL'!G15 -> 0.9 | H16: ='PANEL DE CONTROL DISTRITAL'!H15 -> Número de Archivos de Transacción aceptados | I16: 325 | J16: 771 | K16: 679 | L16: 75 | M16: 408 | N16: 493 | O16: 465 | P16: 443 | Q16: 373 | R16: 31 | S16: 193 | T16: 206 | U16: 277 | V16: 291 | W16: 334 | X16: 327 | Y16: 353 | Z16: 422 | AA16: 542 | AB16: 233 | AC16: 0 | AD16: 0 | AE16: 0 | AF16: =IFERROR(SUM(I16:AE16)/SUM(I17:AE17),0) -> 1
H17: ='PANEL DE CONTROL DISTRITAL'!H16 -> Total de Archivos de Transacción procesados | I17: 325 | J17: 771 | K17: 679 | L17: 75 | M17: 408 | N17: 493 | O17: 465 | P17: 443 | Q17: 373 | R17: 31 | S17: 193 | T17: 206 | U17: 277 | V17: 291 | W17: 334 | X17: 327 | Y17: 353 | Z17: 422 | AA17: 542 | AB17: 233 | AC17: 0 | AD17: 0 | AE17: 0
A19: ='PANEL DE CONTROL DISTRITAL'!A18 -> 4 | B19: ='PANEL DE CONTROL DISTRITAL'!B18 -> CONCILIACIÓN | C19: ='PANEL DE CONTROL DISTRITAL'!C18 -> Responsable de Módulo | D19: ='PANEL DE CONTROL DISTRITAL'!D18 -> Credenciales disponibles para entrega = | E19: ='PANEL DE CONTROL DISTRITAL'!E18 -> ((Credenciales recibidas - Credenciales inconsistentes) / Credenciales recibidas) x 100 | F19: ='PANEL DE CONTROL DISTRITAL'!F18 -> Semanal (remesa) | G19: ='PANEL DE CONTROL DISTRITAL'!G18 -> 0.9 | H19: ='PANEL DE CONTROL DISTRITAL'!H18 -> Credenciales Recibidas - Credenciales inconsistentes | I19: 1468 | J19: 2424 | K19: 927 | L19: 240 | M19: 559 | N19: 457 | O19: 501 | P19: 416 | Q19: 410 | R19: 82 | S19: 255 | T19: 152 | U19: 318 | V19: 260 | W19: 325 | X19: 347 | Y19: 291 | Z19: 464 | AA19: 447 | AB19: 98 | AC19: 365 | AD19: 0 | AE19: 0 | AF19: =IFERROR(SUM(I19:AE19)/SUM(I20:AE20),0) -> 1
H20: ='PANEL DE CONTROL DISTRITAL'!H19 -> Credenciales recibidas | I20: 1468 | J20: 2424 | K20: 927 | L20: 240 | M20: 559 | N20: 457 | O20: 501 | P20: 416 | Q20: 410 | R20: 82 | S20: 255 | T20: 152 | U20: 318 | V20: 260 | W20: 325 | X20: 347 | Y20: 291 | Z20: 464 | AA20: 447 | AB20: 98 | AC20: 365 | AD20: 0 | AE20: 0
A22: ='PANEL DE CONTROL DISTRITAL'!A21 -> 5 | B22: ='PANEL DE CONTROL DISTRITAL'!B21 -> CONCILIACIÓN | C22: ='PANEL DE CONTROL DISTRITAL'!C21 -> Responsable de Módulo | D22: ='PANEL DE CONTROL DISTRITAL'!D21 -> Credenciales disponibles para entrega = | E22: ='PANEL DE CONTROL DISTRITAL'!E21 -> (Credenciales en resguardo / Credenciales totales en SIIRFE disponibles para entrega) x 100 | F22: ='PANEL DE CONTROL DISTRITAL'!F21 -> Semanal (remesa) | G22: ='PANEL DE CONTROL DISTRITAL'!G21 -> 1 | H22: ='PANEL DE CONTROL DISTRITAL'!H21 -> Credenciales en resguardo | I22: 4276 | J22: 5088 | K22: 4706 | L22: 4229 | M22: 2542 | N22: 1872 | O22: 1473 | P22: 1118 | Q22: 968 | R22: 618 | S22: 551 | T22: 516 | U22: 533 | V22: 573 | W22: 631 | X22: 688 | Y22: 724 | Z22: 846 | AA22: 847 | AB22: 845 | AC22: 844 | AD22: 206 | AE22: 0 | AF22: =IFERROR(SUM(I22:AE22)/SUM(I23:AE23),0) -> 1
H23: ='PANEL DE CONTROL DISTRITAL'!H22 -> Credenciales totales en SIIRFE disponibles para entrega | I23: 4276 | J23: 5088 | K23: 4706 | L23: 4229 | M23: 2542 | N23: 1872 | O23: 1473 | P23: 1118 | Q23: 968 | R23: 618 | S23: 551 | T23: 516 | U23: 533 | V23: 573 | W23: 631 | X23: 688 | Y23: 724 | Z23: 846 | AA23: 847 | AB23: 845 | AC23: 844 | AD23: 206 | AE23: 0
A25: ='PANEL DE CONTROL DISTRITAL'!A24 -> 6 | B25: ='PANEL DE CONTROL DISTRITAL'!B24 -> ENTREGA | C25: ='PANEL DE CONTROL DISTRITAL'!C24 -> Operador de Equipo Tecnológico | D25: ='PANEL DE CONTROL DISTRITAL'!D24 -> Efectividad de entrega de CPV en MAC = | E25: ='PANEL DE CONTROL DISTRITAL'!E24 -> (Total de credenciales entregadas / Total de credenciales solicitadas) x 100 | F25: ='PANEL DE CONTROL DISTRITAL'!F24 -> Semanal (remesa) | G25: ='PANEL DE CONTROL DISTRITAL'!G24 -> 0.9 | H25: ='PANEL DE CONTROL DISTRITAL'!H24 -> Total de credenciales entregadas | I25: 454 | J25: 1612 | K25: 1303 | L25: 717 | M25: 2246 | N25: 1127 | O25: 859 | P25: 771 | Q25: 560 | R25: 74 | S25: 322 | T25: 187 | U25: 301 | V25: 220 | W25: 267 | X25: 290 | Y25: 255 | Z25: 342 | AA25: 446 | AB25: 102 | AC25: 364 | AD25: 638 | AE25: 0 | AF25: =IFERROR(SUM(I25:AE25)/SUM(I26:AE26),0) -> 1
H26: ='PANEL DE CONTROL DISTRITAL'!H25 -> Total de credenciales solicitadas | I26: 454 | J26: 1612 | K26: 1303 | L26: 717 | M26: 2246 | N26: 1127 | O26: 859 | P26: 771 | Q26: 560 | R26: 74 | S26: 322 | T26: 187 | U26: 301 | V26: 220 | W26: 267 | X26: 290 | Y26: 255 | Z26: 342 | AA26: 446 | AB26: 102 | AC26: 364 | AD26: 638 | AE26: 0
B27: *Registre el valor nominal solicitado en la celda, el resultado proporcional esta automatizado.
I29: Semaforización
J30: Valor que requiere atención y justificación en el apartado de observaciones
J31: Valor suficiente
J32: Valor esperado
B34: CUADRO DE OBSERVACIONES
B35: Descripción | H35: No conformidad

Sheet 091451
A1: ='PANEL DE CONTROL DISTRITAL'!A1:Q1 -> INSTITUTO NACIONAL ELECTORAL SISTEMA DE GESTIÓN DE LA CALIDAD CIUDAD DE MÉXICO
D2: Distrito | E2: 14 | F2: Módulo | H2: 91452
A4: TABLERO DE CONTROL DE PROCESOS SUSTANTIVOS DEL SISTEMA DE GESTIÓN DE LA CALIDAD
A6: ='PANEL DE CONTROL DISTRITAL'!A6 -> Número | B6: ='PANEL DE CONTROL DISTRITAL'!B6 -> PROCESOS SUSTANTIVOS E INDICADORES | I6: SEMANA OPERATIVA | AF6: % AVANCE REGISTRADO
B7: ='PANEL DE CONTROL DISTRITAL'!B7 -> DESCRIPCIÓN | E7: ='PANEL DE CONTROL DISTRITAL'!E7 -> MEDICIÓN | I7: ='PANEL DE CONTROL DISTRITAL'!A5 -> CAMPAÑA ANUAL PERMANENTE 2024
B9: ='PANEL DE CONTROL DISTRITAL'!B8 -> Proceso | C9: ='PANEL DE CONTROL DISTRITAL'!C8 -> Dueño de Proceso | D9: ='PANEL DE CONTROL DISTRITAL'!D8 -> Indicador | E9: ='PANEL DE CONTROL DISTRITAL'!E8 -> Cálculo | F9: ='PANEL DE CONTROL DISTRITAL'!F8 -> Periodo | G9: ='PANEL DE CONTROL DISTRITAL'!G8 -> Estimado | H9: ='PANEL DE CONTROL DISTRITAL'!H8 -> Nominativo | I9: ='090151'!I9 -> 2024-05 | J9: ='090151'!J9 -> 2024-06 | K9: ='090151'!K9 -> 2024-07 | L9: ='090151'!L9 -> 2024-08 | M9: ='090151'!M9 -> 2024-09 | N9: ='090151'!N9 -> 2024-10 | O9: ='090151'!O9 -> 2024-11 | P9: ='090151'!P9 -> 2024-12 | ... AE9: ='090151'!AE9 -> 2024-27
A10: ='PANEL DE CONTROL DISTRITAL'!A9 -> 1 | B10: ='PANEL DE CONTROL DISTRITAL'!B9 -> ENTREVISTA | C10: ='PANEL DE CONTROL DISTRITAL'!C9 -> Auxiliar de Atención Ciudadana | D10: ='PANEL DE CONTROL DISTRITAL'!D9 -> Efectividad de la entrevista = | E10: ='PANEL DE CONTROL DISTRITAL'!E9 -> (Número de trámites aplicados / (Número de fichas requisitadas - Notificaciones de improcedencia de trámite)) x 100 | F10: ='PANEL DE CONTROL DISTRITAL'!F9 -> Semanal (remesa) | G10: ='PANEL DE CONTROL DISTRITAL'!G9 -> 0.9 | H10: ='PANEL DE CONTROL DISTRITAL'!H9 -> Número de trámites aplicados | I10: 335 | J10: 535 | K10: 413 | L10: 63 | M10: 323 | N10: 341 | O10: 373 | P10: 335 | Q10: 223 | R10: 41 | S10: 180 | T10: 172 | U10: 245 | V10: 257 | W10: 276 | X10: 277 | Y10: 231 | Z10: 388 | AA10: 527 | AB10: 182 | AC10: 0 | AD10: 0 | AE10: 0 | AF10: =IFERROR(SUM(I10:AE10)/SUM(I11:AE11),0) -> 0.99773124
H11: ='PANEL DE CONTROL DISTRITAL'!H10 -> Número de fichas requisitadas - Notificaciones de improcedencia de trámite | I11: 335 | J11: 535 | K11: 419 | L11: 63 | M11: 324 | N11: 341 | O11: 373 | P11: 336 | Q11: 223 | R11: 41 | S11: 180 | T11: 172 | U11: 245 | V11: 257 | W11: 276 | X11: 277 | Y11: 231 | Z11: 389 | AA11: 527 | AB11: 186 | AC11: 0 | AD11: 0 | AE11: 0
A13: ='PANEL DE CONTROL DISTRITAL'!A12 -> 2 | B13: ='PANEL DE CONTROL DISTRITAL'!B12 -> TRÁMITE | C13: ='PANEL DE CONTROL DISTRITAL'!C12 -> Operador de Equipo Tecnológico | D13: ='PANEL DE CONTROL DISTRITAL'!D12 -> Trámites exitosos efectivos= | E13: ='PANEL DE CONTROL DISTRITAL'!E12 -> (Número de trámites exitosos / Número de trámites aplicados) x 100 | F13: ='PANEL DE CONTROL DISTRITAL'!F12 -> Semanal (remesa) | G13: ='PANEL DE CONTROL DISTRITAL'!G12 -> 0.9 | H13: ='PANEL DE CONTROL DISTRITAL'!H12 -> Número de trámites exitosos | I13: 333 | J13: 535 | K13: 412 | L13: 63 | M13: 323 | N13: 341 | O13: 373 | P13: 335 | Q13: 223 | R13: 41 | S13: 180 | T13: 172 | U13: 245 | V13: 257 | W13: 276 | X13: 276 | Y13: 230 | Z13: 388 | AA13: 527 | AB13: 182 | AC13: 0 | AD13: 0 | AE13: 0 | AF13: =IFERROR(SUM(I13:AE13)/SUM(I14:AE14),0) -> 0.99912542
H14: ='PANEL DE CONTROL DISTRITAL'!H13 -> Número de trámites aplicados | I14: 335 | J14: 535 | K14: 413 | L14: 63 | M14: 323 | N14: 341 | O14: 373 | P14: 335 | Q14: 223 | R14: 41 | S14: 180 | T14: 172 | U14: 245 | V14: 257 | W14: 276 | X14: 277 | Y14: 231 | Z14: 388 | AA14: 527 | AB14: 182 | AC14: 0 | AD14: 0 | AE14: 0
A16: ='PANEL DE CONTROL DISTRITAL'!A15 -> 3 | B16: ='PANEL DE CONTROL DISTRITAL'!B15 -> TRANSFERENCIA | C16: ='PANEL DE CONTROL DISTRITAL'!C15 -> Responsable de Módulo | D16: ='PANEL DE CONTROL DISTRITAL'!D15 -> Transacciones exitosas = | E16: ='PANEL DE CONTROL DISTRITAL'!E15 -> (Número de Archivos de Transacción aceptados /Total de Archivos de Transacción procesados) x100 | F16: ='PANEL DE CONTROL DISTRITAL'!F15 -> Semanal (remesa) | G16: ='PANEL DE CONTROL DISTRITAL'!G15 -> 0.9 | H16: ='PANEL DE CONTROL DISTRITAL'!H15 -> Número de Archivos de Transacción aceptados | I16: 335 | J16: 535 | K16: 413 | L16: 63 | M16: 323 | N16: 341 | O16: 373 | P16: 335 | Q16: 223 | R16: 41 | S16: 180 | T16: 172 | U16: 245 | V16: 257 | W16: 276 | X16: 277 | Y16: 231 | Z16: 388 | AA16: 527 | AB16: 182 | AC16: 0 | AD16: 0 | AE16: 0 | AF16: =IFERROR(SUM(I16:AE16)/SUM(I17:AE17),0) -> 1
H17: ='PANEL DE CONTROL DISTRITAL'!H16 -> Total de Archivos de Transacción procesados | I17: 335 | J17: 535 | K17: 413 | L17: 63 | M17: 323 | N17: 341 | O17: 373 | P17: 335 | Q17: 223 | R17: 41 | S17: 180 | T17: 172 | U17: 245 | V17: 257 | W17: 276 | X17: 277 | Y17: 231 | Z17: 388 | AA17: 527 | AB17: 182 | AC17: 0 | AD17: 0 | AE17: 0
A19: ='PANEL DE CONTROL DISTRITAL'!A18 -> 4 | B19: ='PANEL DE CONTROL DISTRITAL'!B18 -> CONCILIACIÓN | C19: ='PANEL DE CONTROL DISTRITAL'!C18 -> Responsable de Módulo | D19: ='PANEL DE CONTROL DISTRITAL'!D18 -> Credenciales disponibles para entrega = | E19: ='PANEL DE CONTROL DISTRITAL'!E18 -> ((Credenciales recibidas - Credenciales inconsistentes) / Credenciales recibidas) x 100 | F19: ='PANEL DE CONTROL DISTRITAL'!F18 -> Semanal (remesa) | G19: ='PANEL DE CONTROL DISTRITAL'!G18 -> 0.9 | H19: ='PANEL DE CONTROL DISTRITAL'!H18 -> Credenciales Recibidas - Credenciales inconsistentes | I19: 1189 | J19: 1810 | K19: 629 | L19: 135 | M19: 414 | N19: 331 | O19: 357 | P19: 343 | Q19: 277 | R19: 54 | S19: 204 | T19: 143 | U19: 260 | V19: 247 | W19: 267 | X19: 287 | Y19: 226 | Z19: 355 | AA19: 460 | AB19: 79 | AC19: 314 | AD19: 0 | AE19: 0 | AF19: =IFERROR(SUM(I19:AE19)/SUM(I20:AE20),0) -> 1
H20: ='PANEL DE CONTROL DISTRITAL'!H19 -> Credenciales recibidas | I20: 1189 | J20: 1810 | K20: 629 | L20: 135 | M20: 414 | N20: 331 | O20: 357 | P20: 343 | Q20: 277 | R20: 54 | S20: 204 | T20: 143 | U20: 260 | V20: 247 | W20: 267 | X20: 287 | Y20: 226 | Z20: 355 | AA20: 460 | AB20: 79 | AC20: 314 | AD20: 0 | AE20: 0
A22: ='PANEL DE CONTROL DISTRITAL'!A21 -> 5 | B22: ='PANEL DE CONTROL DISTRITAL'!B21 -> CONCILIACIÓN | C22: ='PANEL DE CONTROL DISTRITAL'!C21 -> Responsable de Módulo | D22: ='PANEL DE CONTROL DISTRITAL'!D21 -> Credenciales disponibles para entrega = | E22: ='PANEL DE CONTROL DISTRITAL'!E21 -> (Credenciales en resguardo / Credenciales totales en SIIRFE disponibles para entrega) x 100 | F22: ='PANEL DE CONTROL DISTRITAL'!F21 -> Semanal (remesa) | G22: ='PANEL DE CONTROL DISTRITAL'!G21 -> 1 | H22: ='PANEL DE CONTROL DISTRITAL'!H21 -> Credenciales en resguardo | I22: 2210 | J22: 2374 | K22: 2011 | L22: 1754 | M22: 1195 | N22: 744 | O22: 651 | P22: 510 | Q22: 480 | R22: 442 | S22: 372 | T22: 370 | U22: 491 | V22: 531 | W22: 515 | X22: 543 | Y22: 537 | Z22: 591 | AA22: 669 | AB22: 663 | AC22: 509 | AD22: 238 | AE22: 0 | AF22: =IFERROR(SUM(I22:AE22)/SUM(I23:AE23),0) -> 1
H23: ='PANEL DE CONTROL DISTRITAL'!H22 -> Credenciales totales en SIIRFE disponibles para entrega | I23: 2210 | J23: 2374 | K23: 2011 | L23: 1754 | M23: 1195 | N23: 744 | O23: 651 | P23: 510 | Q23: 480 | R23: 442 | S23: 372 | T23: 370 | U23: 491 | V23: 531 | W23: 515 | X23: 543 | Y23: 537 | Z23: 591 | AA23: 669 | AB23: 663 | AC23: 509 | AD23: 238 | AE23: 0
A25: ='PANEL DE CONTROL DISTRITAL'!A24 -> 6 | B25: ='PANEL DE CONTROL DISTRITAL'!B24 -> ENTREGA | C25: ='PANEL DE CONTROL DISTRITAL'!C24 -> Operador de Equipo Tecnológico | D25: ='PANEL DE CONTROL DISTRITAL'!D24 -> Efectividad de entrega de CPV en MAC = | E25: ='PANEL DE CONTROL DISTRITAL'!E24 -> (Total de credenciales entregadas / Total de credenciales solicitadas) x 100 | F25: ='PANEL DE CONTROL DISTRITAL'!F24 -> Semanal (remesa) | G25: ='PANEL DE CONTROL DISTRITAL'!G24 -> 0.9 | H25: ='PANEL DE CONTROL DISTRITAL'!H24 -> Total de credenciales entregadas | I25: 866 | J25: 1646 | K25: 991 | L25: 392 | M25: 973 | N25: 782 | O25: 429 | P25: 484 | Q25: 307 | R25: 92 | S25: 274 | T25: 145 | U25: 139 | V25: 207 | W25: 283 | X25: 259 | Y25: 232 | Z25: 301 | AA25: 382 | AB25: 85 | AC25: 468 | AD25: 271 | AE25: 0 | AF25: =IFERROR(SUM(I25:AE25)/SUM(I26:AE26),0) -> 1
H26: ='PANEL DE CONTROL DISTRITAL'!H25 -> Total de credenciales solicitadas | I26: 866 | J26: 1646 | K26: 991 | L26: 392 | M26: 973 | N26: 782 | O26: 429 | P26: 484 | Q26: 307 | R26: 92 | S26: 274 | T26: 145 | U26: 139 | V26: 207 | W26: 283 | X26: 259 | Y26: 232 | Z26: 301 | AA26: 382 | AB26: 85 | AC26: 468 | AD26: 271 | AE26: 0
B27: *Registre el valor nominal solicitado en la celda, el resultado proporcional esta automatizado.
I29: Semaforización
J30: Valor que requiere atención y justificación en el apartado de observaciones
J31: Valor suficiente
J32: Valor esperado
B34: CUADRO DE OBSERVACIONES
B35: Descripción | H35: No conformidad

Sheet 091551
A1: ='PANEL DE CONTROL DISTRITAL'!A1:Q1 -> INSTITUTO NACIONAL ELECTORAL SISTEMA DE GESTIÓN DE LA CALIDAD CIUDAD DE MÉXICO
D2: Distrito | E2: 15 | F2: Módulo | H2: 91551
A4: TABLERO DE CONTROL DE PROCESOS SUSTANTIVOS DEL SISTEMA DE GESTIÓN DE LA CALIDAD
A6: ='PANEL DE CONTROL DISTRITAL'!A6 -> Número | B6: ='PANEL DE CONTROL DISTRITAL'!B6 -> PROCESOS SUSTANTIVOS E INDICADORES | I6: SEMANA OPERATIVA | AF6: % AVANCE REGISTRADO
B7: ='PANEL DE CONTROL DISTRITAL'!B7 -> DESCRIPCIÓN | E7: ='PANEL DE CONTROL DISTRITAL'!E7 -> MEDICIÓN | I7: ='PANEL DE CONTROL DISTRITAL'!A5 -> CAMPAÑA ANUAL PERMANENTE 2024
B9: ='PANEL DE CONTROL DISTRITAL'!B8 -> Proceso | C9: ='PANEL DE CONTROL DISTRITAL'!C8 -> Dueño de Proceso | D9: ='PANEL DE CONTROL DISTRITAL'!D8 -> Indicador | E9: ='PANEL DE CONTROL DISTRITAL'!E8 -> Cálculo | F9: ='PANEL DE CONTROL DISTRITAL'!F8 -> Periodo | G9: ='PANEL DE CONTROL DISTRITAL'!G8 -> Estimado | H9: ='PANEL DE CONTROL DISTRITAL'!H8 -> Nominativo | I9: ='090151'!I9 -> 2024-05 | J9: ='090151'!J9 -> 2024-06 | K9: ='090151'!K9 -> 2024-07 | L9: ='090151'!L9 -> 2024-08 | M9: ='090151'!M9 -> 2024-09 | N9: ='090151'!N9 -> 2024-10 | O9: ='090151'!O9 -> 2024-11 | P9: ='090151'!P9 -> 2024-12 | ... AE9: ='090151'!AE9 -> 2024-27
A10: ='PANEL DE CONTROL DISTRITAL'!A9 -> 1 | B10: ='PANEL DE CONTROL DISTRITAL'!B9 -> ENTREVISTA | C10: ='PANEL DE CONTROL DISTRITAL'!C9 -> Auxiliar de Atención Ciudadana | D10: ='PANEL DE CONTROL DISTRITAL'!D9 -> Efectividad de la entrevista = | E10: ='PANEL DE CONTROL DISTRITAL'!E9 -> (Número de trámites aplicados / (Número de fichas requisitadas - Notificaciones de improcedencia de trámite)) x 100 | F10: ='PANEL DE CONTROL DISTRITAL'!F9 -> Semanal (remesa) | G10: ='PANEL DE CONTROL DISTRITAL'!G9 -> 0.9 | H10: ='PANEL DE CONTROL DISTRITAL'!H9 -> Número de trámites aplicados | I10: 470 | J10: 923 | K10: 821 | L10: 85 | M10: 401 | N10: 514 | O10: 482 | P10: 446 | Q10: 458 | R10: 35 | S10: 175 | T10: 163 | U10: 233 | V10: 267 | W10: 383 | X10: 373 | Y10: 356 | Z10: 556 | AA10: 730 | AB10: 323 | AC10: 4 | AD10: 2 | AE10: 0 | AF10: =IFERROR(SUM(I10:AE10)/SUM(I11:AE11),0) -> 1
H11: ='PANEL DE CONTROL DISTRITAL'!H10 -> Número de fichas requisitadas - Notificaciones de improcedencia de trámite | I11: 470 | J11: 923 | K11: 821 | L11: 85 | M11: 401 | N11: 514 | O11: 482 | P11: 446 | Q11: 458 | R11: 35 | S11: 175 | T11: 163 | U11: 233 | V11: 267 | W11: 383 | X11: 373 | Y11: 356 | Z11: 556 | AA11: 730 | AB11: 323 | AC11: 4 | AD11: 2 | AE11: 0
A13: ='PANEL DE CONTROL DISTRITAL'!A12 -> 2 | B13: ='PANEL DE CONTROL DISTRITAL'!B12 -> TRÁMITE | C13: ='PANEL DE CONTROL DISTRITAL'!C12 -> Operador de Equipo Tecnológico | D13: ='PANEL DE CONTROL DISTRITAL'!D12 -> Trámites exitosos efectivos= | E13: ='PANEL DE CONTROL DISTRITAL'!E12 -> (Número de trámites exitosos / Número de trámites aplicados) x 100 | F13: ='PANEL DE CONTROL DISTRITAL'!F12 -> Semanal (remesa) | G13: ='PANEL DE CONTROL DISTRITAL'!G12 -> 0.9 | H13: ='PANEL DE CONTROL DISTRITAL'!H12 -> Número de trámites exitosos | I13: 465 | J13: 922 | K13: 819 | L13: 85 | M13: 401 | N13: 511 | O13: 481 | P13: 445 | Q13: 458 | R13: 35 | S13: 175 | T13: 163 | U13: 233 | V13: 266 | W13: 383 | X13: 373 | Y13: 356 | Z13: 556 | AA13: 730 | AB13: 323 | AC13: 0 | AD13: 0 | AE13: 0 | AF13: =IFERROR(SUM(I13:AE13)/SUM(I14:AE14),0) -> 0.99756098
H14: ='PANEL DE CONTROL DISTRITAL'!H13 -> Número de trámites aplicados | I14: 470 | J14: 923 | K14: 821 | L14: 85 | M14: 401 | N14: 514 | O14: 482 | P14: 446 | Q14: 458 | R14: 35 | S14: 175 | T14: 163 | U14: 233 | V14: 267 | W14: 383 | X14: 373 | Y14: 356 | Z14: 556 | AA14: 730 | AB14: 323 | AC14: 4 | AD14: 2 | AE14: 0
A16: ='PANEL DE CONTROL DISTRITAL'!A15 -> 3 | B16: ='PANEL DE CONTROL DISTRITAL'!B15 -> TRANSFERENCIA | C16: ='PANEL DE CONTROL DISTRITAL'!C15 -> Responsable de Módulo | D16: ='PANEL DE CONTROL DISTRITAL'!D15 -> Transacciones exitosas = | E16: ='PANEL DE CONTROL DISTRITAL'!E15 -> (Número de Archivos de Transacción aceptados /Total de Archivos de Transacción procesados) x100 | F16: ='PANEL DE CONTROL DISTRITAL'!F15 -> Semanal (remesa) | G16: ='PANEL DE CONTROL DISTRITAL'!G15 -> 0.9 | H16: ='PANEL DE CONTROL DISTRITAL'!H15 -> Número de Archivos de Transacción aceptados | I16: 470 | J16: 923 | K16: 821 | L16: 85 | M16: 401 | N16: 514 | O16: 482 | P16: 446 | Q16: 458 | R16: 35 | S16: 175 | T16: 163 | U16: 233 | V16: 267 | W16: 383 | X16: 373 | Y16: 356 | Z16: 556 | AA16: 730 | AB16: 323 | AC16: 4 | AD16: 2 | AE16: 0 | AF16: =IFERROR(SUM(I16:AE16)/SUM(I17:AE17),0) -> 1
H17: ='PANEL DE CONTROL DISTRITAL'!H16 -> Total de Archivos de Transacción procesados | I17: 470 | J17: 923 | K17: 821 | L17: 85 | M17: 401 | N17: 514 | O17: 482 | P17: 446 | Q17: 458 | R17: 35 | S17: 175 | T17: 163 | U17: 233 | V17: 267 | W17: 383 | X17: 373 | Y17: 356 | Z17: 556 | AA17: 730 | AB17: 323 | AC17: 4 | AD17: 2 | AE17: 0
A19: ='PANEL DE CONTROL DISTRITAL'!A18 -> 4 | B19: ='PANEL DE CONTROL DISTRITAL'!B18 -> CONCILIACIÓN | C19: ='PANEL DE CONTROL DISTRITAL'!C18 -> Responsable de Módulo | D19: ='PANEL DE CONTROL DISTRITAL'!D18 -> Credenciales disponibles para entrega = | E19: ='PANEL DE CONTROL DISTRITAL'!E18 -> ((Credenciales recibidas - Credenciales inconsistentes) / Credenciales recibidas) x 100 | F19: ='PANEL DE CONTROL DISTRITAL'!F18 -> Semanal (remesa) | G19: ='PANEL DE CONTROL DISTRITAL'!G18 -> 0.9 | H19: ='PANEL DE CONTROL DISTRITAL'!H18 -> Credenciales Recibidas - Credenciales inconsistentes | I19: 2183 | J19: 2757 | K19: 1122 | L19: 298 | M19: 587 | N19: 498 | O19: 492 | P19: 421 | Q19: 428 | R19: 125 | S19: 271 | T19: 149 | U19: 243 | V19: 262 | W19: 297 | X19: 397 | Y19: 324 | Z19: 519 | AA19: 616 | AB19: 149 | AC19: 516 | AD19: 0 | AE19: 0 | AF19: =IFERROR(SUM(I19:AE19)/SUM(I20:AE20),0) -> 1
H20: ='PANEL DE CONTROL DISTRITAL'!H19 -> Credenciales recibidas | I20: 2183 | J20: 2757 | K20: 1122 | L20: 298 | M20: 587 | N20: 498 | O20: 492 | P20: 421 | Q20: 428 | R20: 125 | S20: 271 | T20: 149 | U20: 243 | V20: 262 | W20: 297 | X20: 397 | Y20: 324 | Z20: 519 | AA20: 616 | AB20: 149 | AC20: 516 | AD20: 0 | AE20: 0
A22: ='PANEL DE CONTROL DISTRITAL'!A21 -> 5 | B22: ='PANEL DE CONTROL DISTRITAL'!B21 -> CONCILIACIÓN | C22: ='PANEL DE CONTROL DISTRITAL'!C21 -> Responsable de Módulo | D22: ='PANEL DE CONTROL DISTRITAL'!D21 -> Credenciales disponibles para entrega = | E22: ='PANEL DE CONTROL DISTRITAL'!E21 -> (Credenciales en resguardo / Credenciales totales en SIIRFE disponibles para entrega) x 100 | F22: ='PANEL DE CONTROL DISTRITAL'!F21 -> Semanal (remesa) | G22: ='PANEL DE CONTROL DISTRITAL'!G21 -> 1 | H22: ='PANEL DE CONTROL DISTRITAL'!H21 -> Credenciales en resguardo | I22: 4952 | J22: 5378 | K22: 4795 | L22: 4189 | M22: 2877 | N22: 2192 | O22: 1698 | P22: 1382 | Q22: 1191 | R22: 765 | S22: 710 | T22: 536 | U22: 486 | V22: 522 | W22: 565 | X22: 638 | Y22: 649 | Z22: 699 | AA22: 959 | AB22: 1047 | AC22: 952 | AD22: 128 | AE22: 0 | AF22: =IFERROR(SUM(I22:AE22)/SUM(I23:AE23),0) -> 1
H23: ='PANEL DE CONTROL DISTRITAL'!H22 -> Credenciales totales en SIIRFE disponibles para entrega | I23: 4952 | J23: 5378 | K23: 4795 | L23: 4189 | M23: 2877 | N23: 2192 | O23: 1698 | P23: 1382 | Q23: 1191 | R23: 765 | S23: 710 | T23: 536 | U23: 486 | V23: 522 | W23: 565 | X23: 638 | Y23: 649 | Z23: 699 | AA23: 959 | AB23: 1047 | AC23: 952 | AD23: 128 | AE23: 0
A25: ='PANEL DE CONTROL DISTRITAL'!A24 -> 6 | B25: ='PANEL DE CONTROL DISTRITAL'!B24 -> ENTREGA | C25: ='PANEL DE CONTROL DISTRITAL'!C24 -> Operador de Equipo Tecnológico | D25: ='PANEL DE CONTROL DISTRITAL'!D24 -> Efectividad de entrega de CPV en MAC = | E25: ='PANEL DE CONTROL DISTRITAL'!E24 -> (Total de credenciales entregadas / Total de credenciales solicitadas) x 100 | F25: ='PANEL DE CONTROL DISTRITAL'!F24 -> Semanal (remesa) | G25: ='PANEL DE CONTROL DISTRITAL'!G24 -> 0.9 | H25: ='PANEL DE CONTROL DISTRITAL'!H24 -> Total de credenciales entregadas | I25: 1519 | J25: 2331 | K25: 1697 | L25: 904 | M25: 1899 | N25: 1183 | O25: 901 | P25: 737 | Q25: 619 | R25: 57 | S25: 326 | T25: 323 | U25: 293 | V25: 226 | W25: 254 | X25: 324 | Y25: 313 | Z25: 469 | AA25: 356 | AB25: 61 | AC25: 611 | AD25: 824 | AE25: 0 | AF25: =IFERROR(SUM(I25:AE25)/SUM(I26:AE26),0) -> 1
H26: ='PANEL DE CONTROL DISTRITAL'!H25 -> Total de credenciales solicitadas | I26: 1519 | J26: 2331 | K26: 1697 | L26: 904 | M26: 1899 | N26: 1183 | O26: 901 | P26: 737 | Q26: 619 | R26: 57 | S26: 326 | T26: 323 | U26: 293 | V26: 226 | W26: 254 | X26: 324 | Y26: 313 | Z26: 469 | AA26: 356 | AB26: 61 | AC26: 611 | AD26: 824 | AE26: 0
B27: *Registre el valor nominal solicitado en la celda, el resultado proporcional esta automatizado.
I29: Semaforización
J30: Valor que requiere atención y justificación en el apartado de observaciones
J31: Valor suficiente
J32: Valor esperado
B34: CUADRO DE OBSERVACIONES
B35: Descripción | H35: No conformidad

Sheet 091552
A1: ='PANEL DE CONTROL DISTRITAL'!A1:Q1 -> INSTITUTO NACIONAL ELECTORAL SISTEMA DE GESTIÓN DE LA CALIDAD CIUDAD DE MÉXICO
D2: Distrito | E2: 15 | F2: Módulo | H2: 90152
A4: TABLERO DE CONTROL DE PROCESOS SUSTANTIVOS DEL SISTEMA DE GESTIÓN DE LA CALIDAD
A6: ='PANEL DE CONTROL DISTRITAL'!A6 -> Número | B6: ='PANEL DE CONTROL DISTRITAL'!B6 -> PROCESOS SUSTANTIVOS E INDICADORES | I6: SEMANA OPERATIVA | AF6: % AVANCE REGISTRADO
B7: ='PANEL DE CONTROL DISTRITAL'!B7 -> DESCRIPCIÓN | E7: ='PANEL DE CONTROL DISTRITAL'!E7 -> MEDICIÓN | I7: ='PANEL DE CONTROL DISTRITAL'!A5 -> CAMPAÑA ANUAL PERMANENTE 2024
B9: ='PANEL DE CONTROL DISTRITAL'!B8 -> Proceso | C9: ='PANEL DE CONTROL DISTRITAL'!C8 -> Dueño de Proceso | D9: ='PANEL DE CONTROL DISTRITAL'!D8 -> Indicador | E9: ='PANEL DE CONTROL DISTRITAL'!E8 -> Cálculo | F9: ='PANEL DE CONTROL DISTRITAL'!F8 -> Periodo | G9: ='PANEL DE CONTROL DISTRITAL'!G8 -> Estimado | H9: ='PANEL DE CONTROL DISTRITAL'!H8 -> Nominativo | I9: ='090151'!I9 -> 2024-05 | J9: ='090151'!J9 -> 2024-06 | K9: ='090151'!K9 -> 2024-07 | L9: ='090151'!L9 -> 2024-08 | M9: ='090151'!M9 -> 2024-09 | N9: ='090151'!N9 -> 2024-10 | O9: ='090151'!O9 -> 2024-11 | P9: ='090151'!P9 -> 2024-12 | ... AE9: ='090151'!AE9 -> 2024-27
A10: ='PANEL DE CONTROL DISTRITAL'!A9 -> 1 | B10: ='PANEL DE CONTROL DISTRITAL'!B9 -> ENTREVISTA | C10: ='PANEL DE CONTROL DISTRITAL'!C9 -> Auxiliar de Atención Ciudadana | D10: ='PANEL DE CONTROL DISTRITAL'!D9 -> Efectividad de la entrevista = | E10: ='PANEL DE CONTROL DISTRITAL'!E9 -> (Número de trámites aplicados / (Número de fichas requisitadas - Notificaciones de improcedencia de trámite)) x 100 | F10: ='PANEL DE CONTROL DISTRITAL'!F9 -> Semanal (remesa) | G10: ='PANEL DE CONTROL DISTRITAL'!G9 -> 0.9 | H10: ='PANEL DE CONTROL DISTRITAL'!H9 -> Número de trámites aplicados | I10: 514 | J10: 840 | K10: 713 | L10: 73 | M10: 435 | N10: 482 | O10: 436 | P10: 377 | Q10: 362 | R10: 27 | S10: 184 | T10: 156 | U10: 252 | V10: 290 | W10: 343 | X10: 354 | Y10: 373 | Z10: 474 | AA10: 666 | AB10: 223 | AC10: 0 | AD10: 2 | AE10: 0 | AF10: =IFERROR(SUM(I10:AE10)/SUM(I11:AE11),0) -> 0.99344348
H11: ='PANEL DE CONTROL DISTRITAL'!H10 -> Número de fichas requisitadas - Notificaciones de improcedencia de trámite | I11: 515 | J11: 842 | K11: 714 | L11: 73 | M11: 436 | N11: 482 | O11: 439 | P11: 386 | Q11: 364 | R11: 27 | S11: 185 | T11: 156 | U11: 252 | V11: 294 | W11: 353 | X11: 356 | Y11: 373 | Z11: 479 | AA11: 673 | AB11: 227 | AC11: 0 | AD11: 0 | AE11: 0
A13: ='PANEL DE CONTROL DISTRITAL'!A12 -> 2 | B13: ='PANEL DE CONTROL DISTRITAL'!B12 -> TRÁMITE | C13: ='PANEL DE CONTROL DISTRITAL'!C12 -> Operador de Equipo Tecnológico | D13: ='PANEL DE CONTROL DISTRITAL'!D12 -> Trámites exitosos efectivos= | E13: ='PANEL DE CONTROL DISTRITAL'!E12 -> (Número de trámites exitosos / Número de trámites aplicados) x 100 | F13: ='PANEL DE CONTROL DISTRITAL'!F12 -> Semanal (remesa) | G13: ='PANEL DE CONTROL DISTRITAL'!G12 -> 0.9 | H13: ='PANEL DE CONTROL DISTRITAL'!H12 -> Número de trámites exitosos | I13: 514 | J13: 837 | K13: 712 | L13: 73 | M13: 435 | N13: 482 | O13: 436 | P13: 377 | Q13: 362 | R13: 27 | S13: 184 | T13: 156 | U13: 252 | V13: 290 | W13: 343 | X13: 354 | Y13: 373 | Z13: 474 | AA13: 666 | AB13: 223 | AC13: 0 | AD13: 0 | AE13: 0 | AF13: =IFERROR(SUM(I13:AE13)/SUM(I14:AE14),0) -> 0.99920803
H14: ='PANEL DE CONTROL DISTRITAL'!H13 -> Número de trámites aplicados | I14: 514 | J14: 840 | K14: 713 | L14: 73 | M14: 435 | N14: 482 | O14: 436 | P14: 377 | Q14: 362 | R14: 27 | S14: 184 | T14: 156 | U14: 252 | V14: 290 | W14: 343 | X14: 354 | Y14: 373 | Z14: 474 | AA14: 666 | AB14: 223 | AC14: 0 | AD14: 2 | AE14: 0
A16: ='PANEL DE CONTROL DISTRITAL'!A15 -> 3 | B16: ='PANEL DE CONTROL DISTRITAL'!B15 -> TRANSFERENCIA | C16: ='PANEL DE CONTROL DISTRITAL'!C15 -> Responsable de Módulo | D16: ='PANEL DE CONTROL DISTRITAL'!D15 -> Transacciones exitosas = | E16: ='PANEL DE CONTROL DISTRITAL'!E15 -> (Número de Archivos de Transacción aceptados /Total de Archivos de Transacción procesados) x100 | F16: ='PANEL DE CONTROL DISTRITAL'!F15 -> Semanal (remesa) | G16: ='PANEL DE CONTROL DISTRITAL'!G15 -> 0.9 | H16: ='PANEL DE CONTROL DISTRITAL'!H15 -> Número de Archivos de Transacción aceptados | I16: 514 | J16: 840 | K16: 713 | L16: 73 | M16: 435 | N16: 482 | O16: 436 | P16: 377 | Q16: 230 | R16: 27 | S16: 184 | T16: 156 | U16: 252 | V16: 290 | W16: 343 | X16: 354 | Y16: 373 | Z16: 474 | AA16: 666 | AB16: 223 | AC16: 0 | AD16: 2 | AE16: 0 | AF16: =IFERROR(SUM(I16:AE16)/SUM(I17:AE17),0) -> 0.98257656
H17: ='PANEL DE CONTROL DISTRITAL'!H16 -> Total de Archivos de Transacción procesados | I17: 514 | J17: 840 | K17: 713 | L17: 73 | M17: 435 | N17: 482 | O17: 436 | P17: 377 | Q17: 362 | R17: 27 | S17: 184 | T17: 156 | U17: 252 | V17: 290 | W17: 343 | X17: 354 | Y17: 373 | Z17: 474 | AA17: 666 | AB17: 223 | AC17: 0 | AD17: 2 | AE17: 0
A19: ='PANEL DE CONTROL DISTRITAL'!A18 -> 4 | B19: ='PANEL DE CONTROL DISTRITAL'!B18 -> CONCILIACIÓN | C19: ='PANEL DE CONTROL DISTRITAL'!C18 -> Responsable de Módulo | D19: ='PANEL DE CONTROL DISTRITAL'!D18 -> Credenciales disponibles para entrega = | E19: ='PANEL DE CONTROL DISTRITAL'!E18 -> ((Credenciales recibidas - Credenciales inconsistentes) / Credenciales recibidas) x 100 | F19: ='PANEL DE CONTROL DISTRITAL'!F18 -> Semanal (remesa) | G19: ='PANEL DE CONTROL DISTRITAL'!G18 -> 0.9 | H19: ='PANEL DE CONTROL DISTRITAL'!H18 -> Credenciales Recibidas - Credenciales inconsistentes | I19: 1562 | J19: 2291 | K19: 986 | L19: 254 | M19: 599 | N19: 484 | O19: 363 | P19: 327 | Q19: 353 | R19: 92 | S19: 373 | T19: 131 | U19: 265 | V19: 261 | W19: 320 | X19: 367 | Y19: 321 | Z19: 472 | AA19: 668 | AB19: 0 | AC19: 408 | AD19: 0 | AE19: 0 | AF19: =IFERROR(SUM(I19:AE19)/SUM(I20:AE20),0) -> 1
H20: ='PANEL DE CONTROL DISTRITAL'!H19 -> Credenciales recibidas | I20: 1562 | J20: 2291 | K20: 986 | L20: 254 | M20: 599 | N20: 484 | O20: 363 | P20: 327 | Q20: 353 | R20: 92 | S20: 373 | T20: 131 | U20: 265 | V20: 261 | W20: 320 | X20: 367 | Y20: 321 | Z20: 472 | AA20: 668 | AB20: 0 | AC20: 408 | AD20: 0 | AE20: 0
A22: ='PANEL DE CONTROL DISTRITAL'!A21 -> 5 | B22: ='PANEL DE CONTROL DISTRITAL'!B21 -> CONCILIACIÓN | C22: ='PANEL DE CONTROL DISTRITAL'!C21 -> Responsable de Módulo | D22: ='PANEL DE CONTROL DISTRITAL'!D21 -> Credenciales disponibles para entrega = | E22: ='PANEL DE CONTROL DISTRITAL'!E21 -> (Credenciales en resguardo / Credenciales totales en SIIRFE disponibles para entrega) x 100 | F22: ='PANEL DE CONTROL DISTRITAL'!F21 -> Semanal (remesa) | G22: ='PANEL DE CONTROL DISTRITAL'!G21 -> 1 | H22: ='PANEL DE CONTROL DISTRITAL'!H21 -> Credenciales en resguardo | I22: 3004 | J22: 2642 | K22: 2459 | L22: 2393 | M22: 1750 | N22: 1635 | O22: 1312 | P22: 904 | Q22: 830 | R22: 603 | S22: 686 | T22: 507 | U22: 481 | V22: 505 | W22: 564 | X22: 633 | Y22: 670 | Z22: 775 | AA22: 966 | AB22: 920 | AC22: 898 | AD22: 106 | AE22: 0 | AF22: =IFERROR(SUM(I22:AE22)/SUM(I23:AE23),0) -> 1
H23: ='PANEL DE CONTROL DISTRITAL'!H22 -> Credenciales totales en SIIRFE disponibles para entrega | I23: 3004 | J23: 2642 | K23: 2459 | L23: 2393 | M23: 1750 | N23: 1635 | O23: 1312 | P23: 904 | Q23: 830 | R23: 603 | S23: 686 | T23: 507 | U23: 481 | V23: 505 | W23: 564 | X23: 633 | Y23: 670 | Z23: 775 | AA23: 966 | AB23: 920 | AC23: 898 | AD23: 106 | AE23: 0
A25: ='PANEL DE CONTROL DISTRITAL'!A24 -> 6 | B25: ='PANEL DE CONTROL DISTRITAL'!B24 -> ENTREGA | C25: ='PANEL DE CONTROL DISTRITAL'!C24 -> Operador de Equipo Tecnológico | D25: ='PANEL DE CONTROL DISTRITAL'!D24 -> Efectividad de entrega de CPV en MAC = | E25: ='PANEL DE CONTROL DISTRITAL'!E24 -> (Total de credenciales entregadas / Total de credenciales solicitadas) x 100 | F25: ='PANEL DE CONTROL DISTRITAL'!F24 -> Semanal (remesa) | G25: ='PANEL DE CONTROL DISTRITAL'!G24 -> 0.9 | H25: ='PANEL DE CONTROL DISTRITAL'!H24 -> Total de credenciales entregadas | I25: 1311 | J25: 2653 | K25: 1161 | L25: 320 | M25: 1242 | N25: 599 | O25: 645 | P25: 735 | Q25: 427 | R25: 17 | S25: 290 | T25: 310 | U25: 291 | V25: 237 | W25: 261 | X25: 298 | Y25: 284 | Z25: 367 | AA25: 477 | AB25: 46 | AC25: 430 | AD25: 792 | AE25: 0 | AF25: =IFERROR(SUM(I25:AE25)/SUM(I26:AE26),0) -> 1
H26: ='PANEL DE CONTROL DISTRITAL'!H25 -> Total de credenciales solicitadas | I26: 1311 | J26: 2653 | K26: 1161 | L26: 320 | M26: 1242 | N26: 599 | O26: 645 | P26: 735 | Q26: 427 | R26: 17 | S26: 290 | T26: 310 | U26: 291 | V26: 237 | W26: 261 | X26: 298 | Y26: 284 | Z26: 367 | AA26: 477 | AB26: 46 | AC26: 430 | AD26: 792 | AE26: 0
B27: *Registre el valor nominal solicitado en la celda, el resultado proporcional esta automatizado.
I29: Semaforización
J30: Valor que requiere atención y justificación en el apartado de observaciones
J31: Valor suficiente
J32: Valor esperado
B34: CUADRO DE OBSERVACIONES
B35: Descripción | H35: No conformidad

Sheet 091651
A1: ='PANEL DE CONTROL DISTRITAL'!A1:Q1 -> INSTITUTO NACIONAL ELECTORAL SISTEMA DE GESTIÓN DE LA CALIDAD CIUDAD DE MÉXICO
D2: Distrito | E2: 16 | F2: Módulo | H2: 91651
A4: TABLERO DE CONTROL DE PROCESOS SUSTANTIVOS DEL SISTEMA DE GESTIÓN DE LA CALIDAD
A6: ='PANEL DE CONTROL DISTRITAL'!A6 -> Número | B6: ='PANEL DE CONTROL DISTRITAL'!B6 -> PROCESOS SUSTANTIVOS E INDICADORES | I6: SEMANA OPERATIVA | AF6: % AVANCE REGISTRADO
B7: ='PANEL DE CONTROL DISTRITAL'!B7 -> DESCRIPCIÓN | E7: ='PANEL DE CONTROL DISTRITAL'!E7 -> MEDICIÓN | I7: ='PANEL DE CONTROL DISTRITAL'!A5 -> CAMPAÑA ANUAL PERMANENTE 2024
B9: ='PANEL DE CONTROL DISTRITAL'!B8 -> Proceso | C9: ='PANEL DE CONTROL DISTRITAL'!C8 -> Dueño de Proceso | D9: ='PANEL DE CONTROL DISTRITAL'!D8 -> Indicador | E9: ='PANEL DE CONTROL DISTRITAL'!E8 -> Cálculo | F9: ='PANEL DE CONTROL DISTRITAL'!F8 -> Periodo | G9: ='PANEL DE CONTROL DISTRITAL'!G8 -> Estimado | H9: ='PANEL DE CONTROL DISTRITAL'!H8 -> Nominativo | I9: ='090151'!I9 -> 2024-05 | J9: ='090151'!J9 -> 2024-06 | K9: ='090151'!K9 -> 2024-07 | L9: ='090151'!L9 -> 2024-08 | M9: ='090151'!M9 -> 2024-09 | N9: ='090151'!N9 -> 2024-10 | O9: ='090151'!O9 -> 2024-11 | P9: ='090151'!P9 -> 2024-12 | ... AE9: ='090151'!AE9 -> 2024-27
A10: ='PANEL DE CONTROL DISTRITAL'!A9 -> 1 | B10: ='PANEL DE CONTROL DISTRITAL'!B9 -> ENTREVISTA | C10: ='PANEL DE CONTROL DISTRITAL'!C9 -> Auxiliar de Atención Ciudadana | D10: ='PANEL DE CONTROL DISTRITAL'!D9 -> Efectividad de la entrevista = | E10: ='PANEL DE CONTROL DISTRITAL'!E9 -> (Número de trámites aplicados / (Número de fichas requisitadas - Notificaciones de improcedencia de trámite)) x 100 | F10: ='PANEL DE CONTROL DISTRITAL'!F9 -> Semanal (remesa) | G10: ='PANEL DE CONTROL DISTRITAL'!G9 -> 0.9 | H10: ='PANEL DE CONTROL DISTRITAL'!H9 -> Número de trámites aplicados | I10: 897 | J10: 1395 | K10: 1159 | L10: 170 | M10: 763 | N10: 767 | O10: 817 | P10: 714 | Q10: 488 | R10: 102 | S10: 373 | T10: 399 | U10: 592 | V10: 597 | W10: 616 | X10: 605 | Y10: 636 | Z10: 787 | AA10: 1083 | AB10: 375 | AC10: 0 | AD10: 0 | AE10: 0 | AF10: =IFERROR(SUM(I10:AE10)/SUM(I11:AE11),0) -> 1
H11: ='PANEL DE CONTROL DISTRITAL'!H10 -> Número de fichas requisitadas - Notificaciones de improcedencia de trámite | I11: 897 | J11: 1395 | K11: 1159 | L11: 170 | M11: 763 | N11: 767 | O11: 817 | P11: 714 | Q11: 488 | R11: 102 | S11: 373 | T11: 399 | U11: 592 | V11: 597 | W11: 616 | X11: 605 | Y11: 636 | Z11: 787 | AA11: 1083 | AB11: 375 | AC11: 0 | AD11: 0 | AE11: 0
A13: ='PANEL DE CONTROL DISTRITAL'!A12 -> 2 | B13: ='PANEL DE CONTROL DISTRITAL'!B12 -> TRÁMITE | C13: ='PANEL DE CONTROL DISTRITAL'!C12 -> Operador de Equipo Tecnológico | D13: ='PANEL DE CONTROL DISTRITAL'!D12 -> Trámites exitosos efectivos= | E13: ='PANEL DE CONTROL DISTRITAL'!E12 -> (Número de trámites exitosos / Número de trámites aplicados) x 100 | F13: ='PANEL DE CONTROL DISTRITAL'!F12 -> Semanal (remesa) | G13: ='PANEL DE CONTROL DISTRITAL'!G12 -> 0.9 | H13: ='PANEL DE CONTROL DISTRITAL'!H12 -> Número de trámites exitosos | I13: 891 | J13: 1393 | K13: 1159 | L13: 170 | M13: 758 | N13: 767 | O13: 817 | P13: 713 | Q13: 488 | R13: 101 | S13: 372 | T13: 399 | U13: 592 | V13: 597 | W13: 616 | X13: 605 | Y13: 636 | Z13: 787 | AA13: 1083 | AB13: 375 | AC13: 0 | AD13: 0 | AE13: 0 | AF13: =IFERROR(SUM(I13:AE13)/SUM(I14:AE14),0) -> 0.99880015
H14: ='PANEL DE CONTROL DISTRITAL'!H13 -> Número de trámites aplicados | I14: 897 | J14: 1395 | K14: 1159 | L14: 170 | M14: 763 | N14: 767 | O14: 817 | P14: 714 | Q14: 488 | R14: 102 | S14: 373 | T14: 399 | U14: 592 | V14: 597 | W14: 616 | X14: 605 | Y14: 636 | Z14: 787 | AA14: 1083 | AB14: 375 | AC14: 0 | AD14: 0 | AE14: 0
A16: ='PANEL DE CONTROL DISTRITAL'!A15 -> 3 | B16: ='PANEL DE CONTROL DISTRITAL'!B15 -> TRANSFERENCIA | C16: ='PANEL DE CONTROL DISTRITAL'!C15 -> Responsable de Módulo | D16: ='PANEL DE CONTROL DISTRITAL'!D15 -> Transacciones exitosas = | E16: ='PANEL DE CONTROL DISTRITAL'!E15 -> (Número de Archivos de Transacción aceptados /Total de Archivos de Transacción procesados) x100 | F16: ='PANEL DE CONTROL DISTRITAL'!F15 -> Semanal (remesa) | G16: ='PANEL DE CONTROL DISTRITAL'!G15 -> 0.9 | H16: ='PANEL DE CONTROL DISTRITAL'!H15 -> Número de Archivos de Transacción aceptados | I16: 897 | J16: 1395 | K16: 1159 | L16: 170 | M16: 763 | N16: 762 | O16: 817 | P16: 714 | Q16: 488 | R16: 102 | S16: 373 | T16: 399 | U16: 592 | V16: 597 | W16: 616 | X16: 605 | Y16: 636 | Z16: 787 | AA16: 1083 | AB16: 375 | AC16: 0 | AD16: 0 | AE16: 0 | AF16: =IFERROR(SUM(I16:AE16)/SUM(I17:AE17),0) -> 0.99962505
H17: ='PANEL DE CONTROL DISTRITAL'!H16 -> Total de Archivos de Transacción procesados | I17: 897 | J17: 1395 | K17: 1159 | L17: 170 | M17: 763 | N17: 767 | O17: 817 | P17: 714 | Q17: 488 | R17: 102 | S17: 373 | T17: 399 | U17: 592 | V17: 597 | W17: 616 | X17: 605 | Y17: 636 | Z17: 787 | AA17: 1083 | AB17: 375 | AC17: 0 | AD17: 0 | AE17: 0
A19: ='PANEL DE CONTROL DISTRITAL'!A18 -> 4 | B19: ='PANEL DE CONTROL DISTRITAL'!B18 -> CONCILIACIÓN | C19: ='PANEL DE CONTROL DISTRITAL'!C18 -> Responsable de Módulo | D19: ='PANEL DE CONTROL DISTRITAL'!D18 -> Credenciales disponibles para entrega = | E19: ='PANEL DE CONTROL DISTRITAL'!E18 -> ((Credenciales recibidas - Credenciales inconsistentes) / Credenciales recibidas) x 100 | F19: ='PANEL DE CONTROL DISTRITAL'!F18 -> Semanal (remesa) | G19: ='PANEL DE CONTROL DISTRITAL'!G18 -> 0.9 | H19: ='PANEL DE CONTROL DISTRITAL'!H18 -> Credenciales Recibidas - Credenciales inconsistentes | I19: 2644 | J19: 3634 | K19: 1679 | L19: 407 | M19: 990 | N19: 830 | O19: 699 | P19: 772 | Q19: 515 | R19: 128 | S19: 505 | T19: 302 | U19: 651 | V19: 458 | W19: 745 | X19: 573 | Y19: 584 | Z19: 823 | AA19: 902 | AB19: 205 | AC19: 640 | AD19: 0 | AE19: 0 | AF19: =IFERROR(SUM(I19:AE19)/SUM(I20:AE20),0) -> 1
H20: ='PANEL DE CONTROL DISTRITAL'!H19 -> Credenciales recibidas | I20: 2644 | J20: 3634 | K20: 1679 | L20: 407 | M20: 990 | N20: 830 | O20: 699 | P20: 772 | Q20: 515 | R20: 128 | S20: 505 | T20: 302 | U20: 651 | V20: 458 | W20: 745 | X20: 573 | Y20: 584 | Z20: 823 | AA20: 902 | AB20: 205 | AC20: 640 | AD20: 0 | AE20: 0
A22: ='PANEL DE CONTROL DISTRITAL'!A21 -> 5 | B22: ='PANEL DE CONTROL DISTRITAL'!B21 -> CONCILIACIÓN | C22: ='PANEL DE CONTROL DISTRITAL'!C21 -> Responsable de Módulo | D22: ='PANEL DE CONTROL DISTRITAL'!D21 -> Credenciales disponibles para entrega = | E22: ='PANEL DE CONTROL DISTRITAL'!E21 -> (Credenciales en resguardo / Credenciales totales en SIIRFE disponibles para entrega) x 100 | F22: ='PANEL DE CONTROL DISTRITAL'!F21 -> Semanal (remesa) | G22: ='PANEL DE CONTROL DISTRITAL'!G21 -> 1 | H22: ='PANEL DE CONTROL DISTRITAL'!H21 -> Credenciales en resguardo | I22: 5344 | J22: 5929 | K22: 5105 | L22: 4554 | M22: 3443 | N22: 2808 | O22: 2207 | P22: 2038 | Q22: 1740 | R22: 1065 | S22: 1053 | T22: 913 | U22: 1088 | V22: 936 | W22: 1116 | X22: 1079 | Y22: 1275 | Z22: 1548 | AA22: 1684 | AB22: 1718 | AC22: 1504 | AD22: 0 | AE22: 0 | AF22: =IFERROR(SUM(I22:AE22)/SUM(I23:AE23),0) -> 0.98566954
H23: ='PANEL DE CONTROL DISTRITAL'!H22 -> Credenciales totales en SIIRFE disponibles para entrega | I23: 5344 | J23: 5929 | K23: 5105 | L23: 4554 | M23: 3443 | N23: 2808 | O23: 2207 | P23: 2038 | Q23: 1740 | R23: 1065 | S23: 1053 | T23: 913 | U23: 1088 | V23: 936 | W23: 1116 | X23: 1079 | Y23: 1275 | Z23: 1548 | AA23: 1684 | AB23: 1718 | AC23: 1504 | AD23: 350 | AE23: 350
A25: ='PANEL DE CONTROL DISTRITAL'!A24 -> 6 | B25: ='PANEL DE CONTROL DISTRITAL'!B24 -> ENTREGA | C25: ='PANEL DE CONTROL DISTRITAL'!C24 -> Operador de Equipo Tecnológico | D25: ='PANEL DE CONTROL DISTRITAL'!D24 -> Efectividad de entrega de CPV en MAC = | E25: ='PANEL DE CONTROL DISTRITAL'!E24 -> (Total de credenciales entregadas / Total de credenciales solicitadas) x 100 | F25: ='PANEL DE CONTROL DISTRITAL'!F24 -> Semanal (remesa) | G25: ='PANEL DE CONTROL DISTRITAL'!G24 -> 0.9 | H25: ='PANEL DE CONTROL DISTRITAL'!H24 -> Total de credenciales entregadas | I25: 1699 | J25: 3049 | K25: 2496 | L25: 958 | M25: 2101 | N25: 1465 | O25: 1211 | P25: 941 | Q25: 813 | R25: 111 | S25: 517 | T25: 442 | U25: 476 | V25: 610 | W25: 565 | X25: 610 | Y25: 388 | Z25: 550 | AA25: 766 | AB25: 171 | AC25: 854 | AD25: 1154 | AE25: 0 | AF25: =IFERROR(SUM(I25:AE25)/SUM(I26:AE26),0) -> 0.99995444
H26: ='PANEL DE CONTROL DISTRITAL'!H25 -> Total de credenciales solicitadas | I26: 1699 | J26: 3049 | K26: 2496 | L26: 958 | M26: 2101 | N26: 1465 | O26: 1211 | P26: 941 | Q26: 813 | R26: 111 | S26: 517 | T26: 442 | U26: 476 | V26: 610 | W26: 565 | X26: 611 | Y26: 388 | Z26: 550 | AA26: 766 | AB26: 171 | AC26: 854 | AD26: 1154 | AE26: 0
B27: *Registre el valor nominal solicitado en la celda, el resultado proporcional esta automatizado.
I29: Semaforización
J30: Valor que requiere atención y justificación en el apartado de observaciones
J31: Valor suficiente
J32: Valor esperado
B34: CUADRO DE OBSERVACIONES
B35: Descripción | H35: No conformidad
B36: EN LA SEMANA OPERATIVA 2024_10 CASO CAU FOLIO REQ000001514297 SITUACIÓN Al generar el reporte: "Atención ciudadana" del día 16 de febrero del presente año aparecen 151 registros y deben ser 156 registros son Folios que se generaron por solicitud de reimpresión. Folios que faltan son: 2409165116049, 2409165116087, 2409165116119, 2409165116157 y 2409165116168. EN LA SEMANA OPERATIVA 2024_10 CASO CAU FOLIO REQ000001514299 SITUACIÓN Al momento de concluir el trámite con folio 2409165115854 pide digitalizar el acta de nacimiento, se digitalizo el documento solicitado y sigue apareciendo el registro en el apartado de Generar grupo de Medios SOLUCIÓN El día 26 de febrero se digitalizo el acta de nacimiento para que se pueda generar la credencial para votar fue entregada el día 29 de febrero a su titular

Sheet 091751
A1: ='PANEL DE CONTROL DISTRITAL'!A1:Q1 -> INSTITUTO NACIONAL ELECTORAL SISTEMA DE GESTIÓN DE LA CALIDAD CIUDAD DE MÉXICO
D2: Distrito | E2: 17 | F2: Módulo | H2: 91751
A4: TABLERO DE CONTROL DE PROCESOS SUSTANTIVOS DEL SISTEMA DE GESTIÓN DE LA CALIDAD
A6: ='PANEL DE CONTROL DISTRITAL'!A6 -> Número | B6: ='PANEL DE CONTROL DISTRITAL'!B6 -> PROCESOS SUSTANTIVOS E INDICADORES | I6: SEMANA OPERATIVA | AF6: % AVANCE REGISTRADO
B7: ='PANEL DE CONTROL DISTRITAL'!B7 -> DESCRIPCIÓN | E7: ='PANEL DE CONTROL DISTRITAL'!E7 -> MEDICIÓN | I7: ='PANEL DE CONTROL DISTRITAL'!A5 -> CAMPAÑA ANUAL PERMANENTE 2024
B9: ='PANEL DE CONTROL DISTRITAL'!B8 -> Proceso | C9: ='PANEL DE CONTROL DISTRITAL'!C8 -> Dueño de Proceso | D9: ='PANEL DE CONTROL DISTRITAL'!D8 -> Indicador | E9: ='PANEL DE CONTROL DISTRITAL'!E8 -> Cálculo | F9: ='PANEL DE CONTROL DISTRITAL'!F8 -> Periodo | G9: ='PANEL DE CONTROL DISTRITAL'!G8 -> Estimado | H9: ='PANEL DE CONTROL DISTRITAL'!H8 -> Nominativo | I9: ='090151'!I9 -> 2024-05 | J9: ='090151'!J9 -> 2024-06 | K9: ='090151'!K9 -> 2024-07 | L9: ='090151'!L9 -> 2024-08 | M9: ='090151'!M9 -> 2024-09 | N9: ='090151'!N9 -> 2024-10 | O9: ='090151'!O9 -> 2024-11 | P9: ='090151'!P9 -> 2024-12 | ... AE9: ='090151'!AE9 -> 2024-27
A10: ='PANEL DE CONTROL DISTRITAL'!A9 -> 1 | B10: ='PANEL DE CONTROL DISTRITAL'!B9 -> ENTREVISTA | C10: ='PANEL DE CONTROL DISTRITAL'!C9 -> Auxiliar de Atención Ciudadana | D10: ='PANEL DE CONTROL DISTRITAL'!D9 -> Efectividad de la entrevista = | E10: ='PANEL DE CONTROL DISTRITAL'!E9 -> (Número de trámites aplicados / (Número de fichas requisitadas - Notificaciones de improcedencia de trámite)) x 100 | F10: ='PANEL DE CONTROL DISTRITAL'!F9 -> Semanal (remesa) | G10: ='PANEL DE CONTROL DISTRITAL'!G9 -> 0.9 | H10: ='PANEL DE CONTROL DISTRITAL'!H9 -> Número de trámites aplicados | I10: 390 | J10: 654 | K10: 511 | L10: 61 | M10: 372 | N10: 373 | O10: 465 | P10: 388 | Q10: 304 | R10: 60 | S10: 220 | T10: 180 | U10: 285 | V10: 309 | W10: 332 | X10: 329 | Y10: 273 | Z10: 421 | AA10: 616 | AB10: 259 | AC10: 4 | AD10: 5 | AE10: 0 | AF10: =IFERROR(SUM(I10:AE10)/SUM(I11:AE11),0) -> 0.99285714
H11: ='PANEL DE CONTROL DISTRITAL'!H10 -> Número de fichas requisitadas - Notificaciones de improcedencia de trámite | I11: 395 | J11: 661 | K11: 522 | L11: 66 | M11: 372 | N11: 375 | O11: 473 | P11: 388 | Q11: 304 | R11: 60 | S11: 221 | T11: 182 | U11: 285 | V11: 311 | W11: 336 | X11: 329 | Y11: 273 | Z11: 421 | AA11: 616 | AB11: 261 | AC11: 4 | AD11: 5 | AE11: 0
A12: 0
A13: ='PANEL DE CONTROL DISTRITAL'!A12 -> 2 | B13: ='PANEL DE CONTROL DISTRITAL'!B12 -> TRÁMITE | C13: ='PANEL DE CONTROL DISTRITAL'!C12 -> Operador de Equipo Tecnológico | D13: ='PANEL DE CONTROL DISTRITAL'!D12 -> Trámites exitosos efectivos= | E13: ='PANEL DE CONTROL DISTRITAL'!E12 -> (Número de trámites exitosos / Número de trámites aplicados) x 100 | F13: ='PANEL DE CONTROL DISTRITAL'!F12 -> Semanal (remesa) | G13: ='PANEL DE CONTROL DISTRITAL'!G12 -> 0.9 | H13: ='PANEL DE CONTROL DISTRITAL'!H12 -> Número de trámites exitosos | I13: 388 | J13: 650 | K13: 511 | L13: 61 | M13: 372 | N13: 373 | O13: 464 | P13: 388 | Q13: 302 | R13: 60 | S13: 220 | T13: 180 | U13: 284 | V13: 309 | W13: 332 | X13: 328 | Y13: 272 | Z13: 421 | AA13: 616 | AB13: 259 | AC13: 0 | AD13: 0 | AE13: 0 | AF13: =IFERROR(SUM(I13:AE13)/SUM(I14:AE14),0) -> 0.99691675
H14: ='PANEL DE CONTROL DISTRITAL'!H13 -> Número de trámites aplicados | I14: 390 | J14: 654 | K14: 511 | L14: 61 | M14: 372 | N14: 373 | O14: 465 | P14: 388 | Q14: 304 | R14: 60 | S14: 220 | T14: 180 | U14: 285 | V14: 309 | W14: 332 | X14: 329 | Y14: 273 | Z14: 421 | AA14: 616 | AB14: 259 | AC14: 4 | AD14: 5 | AE14: 0
A16: ='PANEL DE CONTROL DISTRITAL'!A15 -> 3 | B16: ='PANEL DE CONTROL DISTRITAL'!B15 -> TRANSFERENCIA | C16: ='PANEL DE CONTROL DISTRITAL'!C15 -> Responsable de Módulo | D16: ='PANEL DE CONTROL DISTRITAL'!D15 -> Transacciones exitosas = | E16: ='PANEL DE CONTROL DISTRITAL'!E15 -> (Número de Archivos de Transacción aceptados /Total de Archivos de Transacción procesados) x100 | F16: ='PANEL DE CONTROL DISTRITAL'!F15 -> Semanal (remesa) | G16: ='PANEL DE CONTROL DISTRITAL'!G15 -> 0.9 | H16: ='PANEL DE CONTROL DISTRITAL'!H15 -> Número de Archivos de Transacción aceptados | I16: 390 | J16: 654 | K16: 511 | L16: 61 | M16: 372 | N16: 373 | O16: 465 | P16: 388 | Q16: 304 | R16: 60 | S16: 220 | T16: 180 | U16: 285 | V16: 309 | W16: 332 | X16: 329 | Y16: 273 | Z16: 420 | AA16: 615 | AB16: 259 | AC16: 4 | AD16: 5 | AE16: 0 | AF16: =IFERROR(SUM(I16:AE16)/SUM(I17:AE17),0) -> 0.99970636
H17: ='PANEL DE CONTROL DISTRITAL'!H16 -> Total de Archivos de Transacción procesados | I17: 390 | J17: 654 | K17: 511 | L17: 61 | M17: 372 | N17: 373 | O17: 465 | P17: 388 | Q17: 304 | R17: 60 | S17: 220 | T17: 180 | U17: 285 | V17: 309 | W17: 332 | X17: 329 | Y17: 273 | Z17: 421 | AA17: 616 | AB17: 259 | AC17: 4 | AD17: 5 | AE17: 0
A19: ='PANEL DE CONTROL DISTRITAL'!A18 -> 4 | B19: ='PANEL DE CONTROL DISTRITAL'!B18 -> CONCILIACIÓN | C19: ='PANEL DE CONTROL DISTRITAL'!C18 -> Responsable de Módulo | D19: ='PANEL DE CONTROL DISTRITAL'!D18 -> Credenciales disponibles para entrega = | E19: ='PANEL DE CONTROL DISTRITAL'!E18 -> ((Credenciales recibidas - Credenciales inconsistentes) / Credenciales recibidas) x 100 | F19: ='PANEL DE CONTROL DISTRITAL'!F18 -> Semanal (remesa) | G19: ='PANEL DE CONTROL DISTRITAL'!G18 -> 0.9 | H19: ='PANEL DE CONTROL DISTRITAL'!H18 -> Credenciales Recibidas - Credenciales inconsistentes | I19: 1396 | J19: 1966 | K19: 771 | L19: 168 | M19: 464 | N19: 399 | O19: 410 | P19: 398 | Q19: 368 | R19: 65 | S19: 195 | T19: 227 | U19: 286 | V19: 288 | W19: 316 | X19: 337 | Y19: 266 | Z19: 400 | AA19: 500 | AB19: 120 | AC19: 418 | AD19: 1 | AE19: 0 | AF19: =IFERROR(SUM(I19:AE19)/SUM(I20:AE20),0) -> 1
H20: ='PANEL DE CONTROL DISTRITAL'!H19 -> Credenciales recibidas | I20: 1396 | J20: 1966 | K20: 771 | L20: 168 | M20: 464 | N20: 399 | O20: 410 | P20: 398 | Q20: 368 | R20: 65 | S20: 195 | T20: 227 | U20: 286 | V20: 288 | W20: 316 | X20: 337 | Y20: 266 | Z20: 400 | AA20: 500 | AB20: 120 | AC20: 418 | AD20: 1 | AE20: 0
A22: ='PANEL DE CONTROL DISTRITAL'!A21 -> 5 | B22: ='PANEL DE CONTROL DISTRITAL'!B21 -> CONCILIACIÓN | C22: ='PANEL DE CONTROL DISTRITAL'!C21 -> Responsable de Módulo | D22: ='PANEL DE CONTROL DISTRITAL'!D21 -> Credenciales disponibles para entrega = | E22: ='PANEL DE CONTROL DISTRITAL'!E21 -> (Credenciales en resguardo / Credenciales totales en SIIRFE disponibles para entrega) x 100 | F22: ='PANEL DE CONTROL DISTRITAL'!F21 -> Semanal (remesa) | G22: ='PANEL DE CONTROL DISTRITAL'!G21 -> 1 | H22: ='PANEL DE CONTROL DISTRITAL'!H21 -> Credenciales en resguardo | I22: 2383 | J22: 2753 | K22: 2655 | L22: 2354 | M22: 1803 | N22: 1453 | O22: 1239 | P22: 1054 | Q22: 953 | R22: 959 | S22: 976 | T22: 936 | U22: 907 | V22: 884 | W22: 877 | X22: 880 | Y22: 821 | Z22: 916 | AA22: 1014 | AB22: 1053 | AC22: 979 | AD22: 440 | AE22: 0 | AF22: =IFERROR(SUM(I22:AE22)/SUM(I23:AE23),0) -> 1
H23: ='PANEL DE CONTROL DISTRITAL'!H22 -> Credenciales totales en SIIRFE disponibles para entrega | I23: 2383 | J23: 2753 | K23: 2655 | L23: 2354 | M23: 1803 | N23: 1453 | O23: 1239 | P23: 1054 | Q23: 953 | R23: 959 | S23: 976 | T23: 936 | U23: 907 | V23: 884 | W23: 877 | X23: 880 | Y23: 821 | Z23: 916 | AA23: 1014 | AB23: 1053 | AC23: 979 | AD23: 440 | AE23: 0
A25: ='PANEL DE CONTROL DISTRITAL'!A24 -> 6 | B25: ='PANEL DE CONTROL DISTRITAL'!B24 -> ENTREGA | C25: ='PANEL DE CONTROL DISTRITAL'!C24 -> Operador de Equipo Tecnológico | D25: ='PANEL DE CONTROL DISTRITAL'!D24 -> Efectividad de entrega de CPV en MAC = | E25: ='PANEL DE CONTROL DISTRITAL'!E24 -> (Total de credenciales entregadas / Total de credenciales solicitadas) x 100 | F25: ='PANEL DE CONTROL DISTRITAL'!F24 -> Semanal (remesa) | G25: ='PANEL DE CONTROL DISTRITAL'!G24 -> 0.9 | H25: ='PANEL DE CONTROL DISTRITAL'!H24 -> Total de credenciales entregadas | I25: 1137 | J25: 1596 | K25: 862 | L25: 469 | M25: 1015 | N25: 749 | O25: 590 | P25: 583 | Q25: 469 | R25: 59 | S25: 178 | T25: 267 | U25: 315 | V25: 311 | W25: 323 | X25: 334 | Y25: 325 | Z25: 305 | AA25: 402 | AB25: 81 | AC25: 492 | AD25: 540 | AE25: 0 | AF25: =IFERROR(SUM(I25:AE25)/SUM(I26:AE26),0) -> 1
H26: ='PANEL DE CONTROL DISTRITAL'!H25 -> Total de credenciales solicitadas | I26: 1137 | J26: 1596 | K26: 862 | L26: 469 | M26: 1015 | N26: 749 | O26: 590 | P26: 583 | Q26: 469 | R26: 59 | S26: 178 | T26: 267 | U26: 315 | V26: 311 | W26: 323 | X26: 334 | Y26: 325 | Z26: 305 | AA26: 402 | AB26: 81 | AC26: 492 | AD26: 540 | AE26: 0
B27: *Registre el valor nominal solicitado en la celda, el resultado proporcional esta automatizado.
I29: Semaforización
J30: Valor que requiere atención y justificación en el apartado de observaciones
J31: Valor suficiente
J32: Valor esperado
B34: CUADRO DE OBSERVACIONES
B35: Descripción | H35: No conformidad

Sheet 091851
A1: ='PANEL DE CONTROL DISTRITAL'!A1:Q1 -> INSTITUTO NACIONAL ELECTORAL SISTEMA DE GESTIÓN DE LA CALIDAD CIUDAD DE MÉXICO
D2: Distrito | E2: 18 | F2: Módulo | H2: 91851
A4: TABLERO DE CONTROL DE PROCESOS SUSTANTIVOS DEL SISTEMA DE GESTIÓN DE LA CALIDAD
A6: ='PANEL DE CONTROL DISTRITAL'!A6 -> Número | B6: ='PANEL DE CONTROL DISTRITAL'!B6 -> PROCESOS SUSTANTIVOS E INDICADORES | I6: SEMANA OPERATIVA | AF6: % AVANCE REGISTRADO
B7: ='PANEL DE CONTROL DISTRITAL'!B7 -> DESCRIPCIÓN | E7: ='PANEL DE CONTROL DISTRITAL'!E7 -> MEDICIÓN | I7: ='PANEL DE CONTROL DISTRITAL'!A5 -> CAMPAÑA ANUAL PERMANENTE 2024
B9: ='PANEL DE CONTROL DISTRITAL'!B8 -> Proceso | C9: ='PANEL DE CONTROL DISTRITAL'!C8 -> Dueño de Proceso | D9: ='PANEL DE CONTROL DISTRITAL'!D8 -> Indicador | E9: ='PANEL DE CONTROL DISTRITAL'!E8 -> Cálculo | F9: ='PANEL DE CONTROL DISTRITAL'!F8 -> Periodo | G9: ='PANEL DE CONTROL DISTRITAL'!G8 -> Estimado | H9: ='PANEL DE CONTROL DISTRITAL'!H8 -> Nominativo | I9: ='090151'!I9 -> 2024-05 | J9: ='090151'!J9 -> 2024-06 | K9: ='090151'!K9 -> 2024-07 | L9: ='090151'!L9 -> 2024-08 | M9: ='090151'!M9 -> 2024-09 | N9: ='090151'!N9 -> 2024-10 | O9: ='090151'!O9 -> 2024-11 | P9: ='090151'!P9 -> 2024-12 | ... AE9: ='090151'!AE9 -> 2024-27
